BEGIN:VCALENDAR
VERSION:2.0
PRODID:-//Joriskerk Amersfoort - ECPv6.15.20//NONSGML v1.0//EN
CALSCALE:GREGORIAN
METHOD:PUBLISH
X-WR-CALNAME:Joriskerk Amersfoort
X-ORIGINAL-URL:https://joriskerkamersfoort.nl
X-WR-CALDESC:Evenementen voor Joriskerk Amersfoort
REFRESH-INTERVAL;VALUE=DURATION:PT1H
X-Robots-Tag:noindex
X-PUBLISHED-TTL:PT1H
BEGIN:VTIMEZONE
TZID:Europe/Amsterdam
BEGIN:DAYLIGHT
TZOFFSETFROM:+0100
TZOFFSETTO:+0200
TZNAME:CEST
DTSTART:20210328T010000
END:DAYLIGHT
BEGIN:STANDARD
TZOFFSETFROM:+0200
TZOFFSETTO:+0100
TZNAME:CET
DTSTART:20211031T010000
END:STANDARD
BEGIN:DAYLIGHT
TZOFFSETFROM:+0100
TZOFFSETTO:+0200
TZNAME:CEST
DTSTART:20220327T010000
END:DAYLIGHT
BEGIN:STANDARD
TZOFFSETFROM:+0200
TZOFFSETTO:+0100
TZNAME:CET
DTSTART:20221030T010000
END:STANDARD
BEGIN:DAYLIGHT
TZOFFSETFROM:+0100
TZOFFSETTO:+0200
TZNAME:CEST
DTSTART:20230326T010000
END:DAYLIGHT
BEGIN:STANDARD
TZOFFSETFROM:+0200
TZOFFSETTO:+0100
TZNAME:CET
DTSTART:20231029T010000
END:STANDARD
END:VTIMEZONE
BEGIN:VEVENT
DTSTART;TZID=Europe/Amsterdam:20220726T110000
DTEND;TZID=Europe/Amsterdam:20220903T170000
DTSTAMP:20260425T155833
CREATED:20220315T201133Z
LAST-MODIFIED:20220719T175703Z
UID:10001652-1658833200-1662224400@joriskerkamersfoort.nl
SUMMARY:Expositie: FloraART door Galerie Absoluut
DESCRIPTION:Ook deze zomer is de Sint-Joriskerk het domein van de kunstenaars van Absoluut. In dit jaar van de Floriade komen zij met de expositie FloraART. Planten (Flora) en dieren (Fauna)\, de bedreigde Aarde\, mythologie\, moeizaam samenleven\, grasland\, waterplas en veel meer; de kunstenaars tonen hun eigen\, unieke interpretatie van Flora. Kom kijken en kies je favoriet! \n\nZaterdag 30 juli\, 16 uur | opening van de expositie door Felicia Dekkers\, redacteur en schrijver\, met de voordracht ‘Te kunst en te keur’.\nVrijdag 5|12|19 augustus en 2 september\, 16 uur\, kunt u de kunstenaars ontmoeten. De kunstenaars geven in wisselende duo’s toelichting bij hun eigen werk en van de anderen.\n\nDeelnemers expositie | Leon Turpijn | Marjolein Tönis Willy Schut | Ton van der Pal | Carolien Magnus Marijke van der Made | Franz Hazelzet Kedo Erné | Mieke Elzinga | Leonore Dorigo Magdalena de Coninck \nInformatie\nDeze expositie is te zien van 26 juli t/m 3 september 2022.\nOpeningstijden dinsdag t/m zaterdag 11 – 17 uur.\nSint-Joriskerk\, Hof 1\, Amersfoort.\nToegang tot de Sint-Joriskerk kost € 2 ter ondersteuning van het onderhoud. \n 
URL:https://joriskerkamersfoort.nl/evenement/expositie-galerie-absoluut/
LOCATION:Sint-Joriskerk\, Hof 1\, Amersfoort\, 3811 CJ\, Nederland
GEO:52.1566965;5.3902512
X-APPLE-STRUCTURED-LOCATION;VALUE=URI;X-ADDRESS=Sint-Joriskerk Hof 1 Amersfoort 3811 CJ Nederland;X-APPLE-RADIUS=500;X-TITLE=Hof 1:geo:5.3902512,52.1566965
END:VEVENT
END:VCALENDAR