BEGIN:VCALENDAR
VERSION:2.0
PRODID:-//Joriskerk Amersfoort - ECPv6.15.20//NONSGML v1.0//EN
CALSCALE:GREGORIAN
METHOD:PUBLISH
X-ORIGINAL-URL:https://joriskerkamersfoort.nl
X-WR-CALDESC:Evenementen voor Joriskerk Amersfoort
REFRESH-INTERVAL;VALUE=DURATION:PT1H
X-Robots-Tag:noindex
X-PUBLISHED-TTL:PT1H
BEGIN:VTIMEZONE
TZID:Europe/Amsterdam
BEGIN:DAYLIGHT
TZOFFSETFROM:+0100
TZOFFSETTO:+0200
TZNAME:CEST
DTSTART:20210328T010000
END:DAYLIGHT
BEGIN:STANDARD
TZOFFSETFROM:+0200
TZOFFSETTO:+0100
TZNAME:CET
DTSTART:20211031T010000
END:STANDARD
BEGIN:DAYLIGHT
TZOFFSETFROM:+0100
TZOFFSETTO:+0200
TZNAME:CEST
DTSTART:20220327T010000
END:DAYLIGHT
BEGIN:STANDARD
TZOFFSETFROM:+0200
TZOFFSETTO:+0100
TZNAME:CET
DTSTART:20221030T010000
END:STANDARD
BEGIN:DAYLIGHT
TZOFFSETFROM:+0100
TZOFFSETTO:+0200
TZNAME:CEST
DTSTART:20230326T010000
END:DAYLIGHT
BEGIN:STANDARD
TZOFFSETFROM:+0200
TZOFFSETTO:+0100
TZNAME:CET
DTSTART:20231029T010000
END:STANDARD
END:VTIMEZONE
BEGIN:VEVENT
DTSTART;TZID=Europe/Amsterdam:20220906T110000
DTEND;TZID=Europe/Amsterdam:20221015T170000
DTSTAMP:20260425T183524
CREATED:20220315T201208Z
LAST-MODIFIED:20220817T090036Z
UID:10001653-1662462000-1665853200@joriskerkamersfoort.nl
SUMMARY:Expositie: NECTAR door Galerie de Ploegh
DESCRIPTION:Inleiding \nVraagstukken als de leefbaarheid in de stad\, de ecologische ’footprint’ en de opwarming van de Aarde staan hoog op de agenda. Men zoekt wegen om het tij te keren. Kunst kan daarin een gidsrol vervullen. \nDe huidige situatie doet ons beseffen dat de mens niet alles naar zijn hand kan zetten. We zijn een onderdeel van het leven op aarde en zullen ons daarnaar moeten gedragen. Zeventien kunstenaars\, leden van LKG de Ploegh en gastkunstenaars\, reflecteren met hun werk op deze actuele thema’s. De kunstenaars zijn uitgenodigd om voor de tentoonstelling NECTAR art & urban nature in de historische Sint-Joriskerk speciaal een werk te maken. Het stemt tot nadenken. De gelijknamige publicatie bevat èn de visie van de kunstenaars èn de vragen die zij aan het publiek stellen. Het zijn soms kleine stappen of beelden\, kunstwerken in een bijzondere omgeving\, die ons meer bewust maken en ons stimuleren om uit het spanningsveld tussen natuur en stad energie putten. \nZij maken daarbij gebruik van eigentijdse kunstvormen zoals video\, fotografie\, installatie en performances\, waarbij het interieur van de kerk de basis vormt. \nNectar is een goddelijke\, heilzame drank. De deelnemers onderschrijven de wens om noodzakelijke veranderingen in te zetten om letterlijk en figuurlijk ook in de toekomst de honingbij de nectar te laten vinden. \nDeelnemende kunstenaars \nPeter van den Akker i.s.m. Irini Schrijer\, Semâ Bekirović\, Anna Belleforte\, Jacqueline Bohlmeijer\, Marie-Louise Dooijes\, Marieke van Enk\, Ilse van Garderen\, Emmy van de Grift / Atelier Emski\, Arne Hendriks\, Marjan Jaspers\, Lin de Mol\, Liza Prins & Layla Durrani\, Marijke Pielage\, Liselotte Schut\, Van Lieshout VI\, Abel Wolff. \nOver de expositie \nDe tentoonstelling is samengesteld door gastcurator Harald Schole (beeldend kunstenaar) in samenwerking met LKG de Ploegh. De tentoonstelling NECTAR art & urban nature is te bezoeken in de Sint-Joriskerk\, Hofplein 1\, Amersfoort van 10 september t/m 15 oktober\, van dinsdag t/m zaterdag van 11.00 – 17.00 uur. Toegangsprijs € 2\,- (t/m 12 jaar gratis). \nMeer informatie over het publieksprogramma\, rondleidingen\, creatieve kinderworkshops en lezingen: vind je op www.deploegh.nl/nectar. \nOpen: Van dinsdag 10 september t/m zaterdag 15 oktober\nTijden: dinsdag t/m zaterdag van 11.00-17.00 uur\nKosten: €2. Bij elke entree ontvangt u een folder met uitleg. Kinderen t/m 12 jaar gratis.
URL:https://joriskerkamersfoort.nl/evenement/expositie-galerie-de-ploegh/
LOCATION:Sint-Joriskerk\, Hof 1\, Amersfoort\, 3811 CJ\, Nederland
GEO:52.1566965;5.3902512
X-APPLE-STRUCTURED-LOCATION;VALUE=URI;X-ADDRESS=Sint-Joriskerk Hof 1 Amersfoort 3811 CJ Nederland;X-APPLE-RADIUS=500;X-TITLE=Hof 1:geo:5.3902512,52.1566965
END:VEVENT
END:VCALENDAR