BEGIN:VCALENDAR
VERSION:2.0
PRODID:-//Joriskerk Amersfoort - ECPv6.15.20//NONSGML v1.0//EN
CALSCALE:GREGORIAN
METHOD:PUBLISH
X-WR-CALNAME:Joriskerk Amersfoort
X-ORIGINAL-URL:https://joriskerkamersfoort.nl
X-WR-CALDESC:Evenementen voor Joriskerk Amersfoort
REFRESH-INTERVAL;VALUE=DURATION:PT1H
X-Robots-Tag:noindex
X-PUBLISHED-TTL:PT1H
BEGIN:VTIMEZONE
TZID:Europe/Amsterdam
BEGIN:DAYLIGHT
TZOFFSETFROM:+0100
TZOFFSETTO:+0200
TZNAME:CEST
DTSTART:20210328T010000
END:DAYLIGHT
BEGIN:STANDARD
TZOFFSETFROM:+0200
TZOFFSETTO:+0100
TZNAME:CET
DTSTART:20211031T010000
END:STANDARD
BEGIN:DAYLIGHT
TZOFFSETFROM:+0100
TZOFFSETTO:+0200
TZNAME:CEST
DTSTART:20220327T010000
END:DAYLIGHT
BEGIN:STANDARD
TZOFFSETFROM:+0200
TZOFFSETTO:+0100
TZNAME:CET
DTSTART:20221030T010000
END:STANDARD
BEGIN:DAYLIGHT
TZOFFSETFROM:+0100
TZOFFSETTO:+0200
TZNAME:CEST
DTSTART:20230326T010000
END:DAYLIGHT
BEGIN:STANDARD
TZOFFSETFROM:+0200
TZOFFSETTO:+0100
TZNAME:CET
DTSTART:20231029T010000
END:STANDARD
END:VTIMEZONE
BEGIN:VEVENT
DTSTART;TZID=Europe/Amsterdam:20221204T153000
DTEND;TZID=Europe/Amsterdam:20221204T170000
DTSTAMP:20260424T022657
CREATED:20221124T190950Z
LAST-MODIFIED:20221124T191023Z
UID:10001733-1670167800-1670173200@joriskerkamersfoort.nl
SUMMARY:Choral Evensongs in Adventstijd
DESCRIPTION:Op de vier zondagen in de Adventstijd is er ’s middags om 15.30 uur een Choral Evensong in de Sint-Joriskerk in Amersfoort. Gratis toegang\, collecte bij de uitgang. \nZondag 27 november: Vocaal ensemble van het Koorhuys\, o.l.v. Paul Snoek; Rien Donkersloot\, orgel. \nZondag 4 december: Sint-Joris Kamerkoor o.l.v. Wouter Verhage; Rienk Bakker\, orgel. \nZondag 11 december: Capella Amersfoort\, o.l.v. Anthony Scheffer; Rien Donkersloot\, orgel. \nZondag 18 december: Amersfoortse Cantorij\, o.l.v. Bas Ramselaar; Rien Donkersloot\, orgel.
URL:https://joriskerkamersfoort.nl/evenement/choral-evensong-in-adventstijd/2022-12-04/
LOCATION:Sint-Joriskerk\, Hof 1\, Amersfoort\, 3811 CJ\, Nederland
ATTACH;FMTTYPE=image/jpeg:https://joriskerkamersfoort.nl/wp-content/uploads/2022/04/jan-willem-van-braak-lvv_kp0p8_m-unsplash-lichter-liggend-scaled.jpg
GEO:52.1566965;5.3902512
X-APPLE-STRUCTURED-LOCATION;VALUE=URI;X-ADDRESS=Sint-Joriskerk Hof 1 Amersfoort 3811 CJ Nederland;X-APPLE-RADIUS=500;X-TITLE=Hof 1:geo:5.3902512,52.1566965
END:VEVENT
END:VCALENDAR