BEGIN:VCALENDAR
VERSION:2.0
PRODID:-//Joriskerk Amersfoort - ECPv6.15.20//NONSGML v1.0//EN
CALSCALE:GREGORIAN
METHOD:PUBLISH
X-ORIGINAL-URL:https://joriskerkamersfoort.nl
X-WR-CALDESC:Evenementen voor Joriskerk Amersfoort
REFRESH-INTERVAL;VALUE=DURATION:PT1H
X-Robots-Tag:noindex
X-PUBLISHED-TTL:PT1H
BEGIN:VTIMEZONE
TZID:Europe/Amsterdam
BEGIN:DAYLIGHT
TZOFFSETFROM:+0100
TZOFFSETTO:+0200
TZNAME:CEST
DTSTART:20210328T010000
END:DAYLIGHT
BEGIN:STANDARD
TZOFFSETFROM:+0200
TZOFFSETTO:+0100
TZNAME:CET
DTSTART:20211031T010000
END:STANDARD
BEGIN:DAYLIGHT
TZOFFSETFROM:+0100
TZOFFSETTO:+0200
TZNAME:CEST
DTSTART:20220327T010000
END:DAYLIGHT
BEGIN:STANDARD
TZOFFSETFROM:+0200
TZOFFSETTO:+0100
TZNAME:CET
DTSTART:20221030T010000
END:STANDARD
BEGIN:DAYLIGHT
TZOFFSETFROM:+0100
TZOFFSETTO:+0200
TZNAME:CEST
DTSTART:20230326T010000
END:DAYLIGHT
BEGIN:STANDARD
TZOFFSETFROM:+0200
TZOFFSETTO:+0100
TZNAME:CET
DTSTART:20231029T010000
END:STANDARD
END:VTIMEZONE
BEGIN:VEVENT
DTSTART;TZID=Europe/Amsterdam:20221230T200000
DTEND;TZID=Europe/Amsterdam:20221230T213000
DTSTAMP:20260423T153733
CREATED:20221124T190519Z
LAST-MODIFIED:20221225T143217Z
UID:10001798-1672430400-1672435800@joriskerkamersfoort.nl
SUMMARY:Orgelconcert Oudejaarsdag
DESCRIPTION:Gewoonlijk is er in de Sint-Joriskerk een orgelconcert op nieuwjaarsdag. Maar omdat nieuwjaar op zondag valt\, is er dit jaar een oudejaarsconcert op vrijdag 30 december. Het concert\, dat om 20:00 uur begint\, is helemaal gewijd aan muziek van Johann Sebastian Bach. Rien Donkersloot\, Jorisorganist sinds 2012\, bespeelt hoofd- en koororgel. \nDe entree bedraagt tien euro\, inclusief koffie en thee vooraf en na afloop.
URL:https://joriskerkamersfoort.nl/evenement/orgelconcert-oudejaarsdag/
LOCATION:Sint-Joriskerk\, Hof 1\, Amersfoort\, 3811 CJ\, Nederland
ATTACH;FMTTYPE=image/png:https://joriskerkamersfoort.nl/wp-content/uploads/2020/12/orgel2-e1608735118248.png
GEO:52.1566965;5.3902512
X-APPLE-STRUCTURED-LOCATION;VALUE=URI;X-ADDRESS=Sint-Joriskerk Hof 1 Amersfoort 3811 CJ Nederland;X-APPLE-RADIUS=500;X-TITLE=Hof 1:geo:5.3902512,52.1566965
END:VEVENT
END:VCALENDAR