BEGIN:VCALENDAR
VERSION:2.0
PRODID:-//Joriskerk Amersfoort - ECPv6.15.20//NONSGML v1.0//EN
CALSCALE:GREGORIAN
METHOD:PUBLISH
X-ORIGINAL-URL:https://joriskerkamersfoort.nl
X-WR-CALDESC:Evenementen voor Joriskerk Amersfoort
REFRESH-INTERVAL;VALUE=DURATION:PT1H
X-Robots-Tag:noindex
X-PUBLISHED-TTL:PT1H
BEGIN:VTIMEZONE
TZID:Europe/Amsterdam
BEGIN:DAYLIGHT
TZOFFSETFROM:+0100
TZOFFSETTO:+0200
TZNAME:CEST
DTSTART:20220327T010000
END:DAYLIGHT
BEGIN:STANDARD
TZOFFSETFROM:+0200
TZOFFSETTO:+0100
TZNAME:CET
DTSTART:20221030T010000
END:STANDARD
BEGIN:DAYLIGHT
TZOFFSETFROM:+0100
TZOFFSETTO:+0200
TZNAME:CEST
DTSTART:20230326T010000
END:DAYLIGHT
BEGIN:STANDARD
TZOFFSETFROM:+0200
TZOFFSETTO:+0100
TZNAME:CET
DTSTART:20231029T010000
END:STANDARD
BEGIN:DAYLIGHT
TZOFFSETFROM:+0100
TZOFFSETTO:+0200
TZNAME:CEST
DTSTART:20240331T010000
END:DAYLIGHT
BEGIN:STANDARD
TZOFFSETFROM:+0200
TZOFFSETTO:+0100
TZNAME:CET
DTSTART:20241027T010000
END:STANDARD
END:VTIMEZONE
BEGIN:VEVENT
DTSTART;TZID=Europe/Amsterdam:20230218T193000
DTEND;TZID=Europe/Amsterdam:20230218T213000
DTSTAMP:20260423T153738
CREATED:20230201T135040Z
LAST-MODIFIED:20230201T135903Z
UID:10002096-1676748600-1676755800@joriskerkamersfoort.nl
SUMMARY:Rien Donkersloot herdenkt Max Reger
DESCRIPTION:Ieder jaar staat in de Joriskerk in Amersfoort een componist een dag lang in de schijnwerpers. Op zaterdag 18 februari 2023 krijgt Max Reger (1873-1916) die eer. Jorisorganist Rien Donkersloot speelt dan een programma met uitsluitend Reger en geeft vooraf een uitgebreide toelichting op de gespeelde werken. \nOver Max Reger\nMax Reger componeerde veel muziek\, voor piano\, symfonieorkest\, strijkkwartet en harmonie en koor. Een aanzienlijk deel van zijn oeuvre is voor orgel. Hij gebruikte in zijn composities oude vormen\, zoals variatiereeksen\, passacaglia’s\, preludiums en fuga’s\, koraalbewerkingen en koraalfantasieën. Hij gaf er een eigen invulling aan\, met opmerkelijke ritmes\, gekruide akkoorden en grote dynamische afwisseling. Onder organisten en orgelliefhebbers zijn z’n koraalfantasieën zeer geliefd.\nDit concert zal in het teken staan van zijn koraalmuziek\, met o.a. de Phantasie over ‘Wie Schön leuchtet der Morgenstern’ en een selectie uit opus 67 (52 Choralvorspiele)\, 79b (Morgenglanz der Ewigkeit) en 145 (Sieben Stücke für Orgel). \nPraktische informatie\nHet concert begint om 20:00 uur. Vanaf 19:30 uur verzorgt Rien Donkersloot een uitgebreide toelichting op de gespeelde werken. De zaal is open om 19:00 uur. De toegangsprijs bedraagt tien euro. Vooraf en na afloop van het concert is er koffie en thee (bij de toegangsprijs inbegrepen).
URL:https://joriskerkamersfoort.nl/evenement/rien-donkersloot-herdenkt-max-reger/
LOCATION:Sint-Joriskerk\, Hof 1\, Amersfoort\, 3811 CJ\, Nederland
ATTACH;FMTTYPE=image/jpeg:https://joriskerkamersfoort.nl/wp-content/uploads/2019/10/rien-donkersloot.jpg
ORGANIZER;CN="Orgelconcerten Joriskerk":MAILTO:Info@orgelconcertenjoriskerk.nl
GEO:52.1566965;5.3902512
X-APPLE-STRUCTURED-LOCATION;VALUE=URI;X-ADDRESS=Sint-Joriskerk Hof 1 Amersfoort 3811 CJ Nederland;X-APPLE-RADIUS=500;X-TITLE=Hof 1:geo:5.3902512,52.1566965
END:VEVENT
END:VCALENDAR