BEGIN:VCALENDAR
VERSION:2.0
PRODID:-//Joriskerk Amersfoort - ECPv6.15.20//NONSGML v1.0//EN
CALSCALE:GREGORIAN
METHOD:PUBLISH
X-WR-CALNAME:Joriskerk Amersfoort
X-ORIGINAL-URL:https://joriskerkamersfoort.nl
X-WR-CALDESC:Evenementen voor Joriskerk Amersfoort
REFRESH-INTERVAL;VALUE=DURATION:PT1H
X-Robots-Tag:noindex
X-PUBLISHED-TTL:PT1H
BEGIN:VTIMEZONE
TZID:Europe/Amsterdam
BEGIN:DAYLIGHT
TZOFFSETFROM:+0100
TZOFFSETTO:+0200
TZNAME:CEST
DTSTART:20220327T010000
END:DAYLIGHT
BEGIN:STANDARD
TZOFFSETFROM:+0200
TZOFFSETTO:+0100
TZNAME:CET
DTSTART:20221030T010000
END:STANDARD
BEGIN:DAYLIGHT
TZOFFSETFROM:+0100
TZOFFSETTO:+0200
TZNAME:CEST
DTSTART:20230326T010000
END:DAYLIGHT
BEGIN:STANDARD
TZOFFSETFROM:+0200
TZOFFSETTO:+0100
TZNAME:CET
DTSTART:20231029T010000
END:STANDARD
BEGIN:DAYLIGHT
TZOFFSETFROM:+0100
TZOFFSETTO:+0200
TZNAME:CEST
DTSTART:20240331T010000
END:DAYLIGHT
BEGIN:STANDARD
TZOFFSETFROM:+0200
TZOFFSETTO:+0100
TZNAME:CET
DTSTART:20241027T010000
END:STANDARD
END:VTIMEZONE
BEGIN:VEVENT
DTSTART;TZID=Europe/Amsterdam:20230304T120000
DTEND;TZID=Europe/Amsterdam:20230304T160000
DTSTAMP:20260423T191453
CREATED:20221011T183512Z
LAST-MODIFIED:20230201T130953Z
UID:10002049-1677931200-1677945600@joriskerkamersfoort.nl
SUMMARY:Winteropenstelling 2023
DESCRIPTION:Tijdens de winter is de Sint-Joriskerk op enkele zaterdagen geopend voor het publiek. Een plaats van rust en stilte of om rond te kijken in het bijzondere gebouw. \nGeopend: geselecteerde zaterdagen van 12:00 – 16:00 uur\nEntree: 2 euro p.p. incl. folder met uitleg. Kinderen t/m 12 jaar gratis.\nData: \n\nZaterdag 4 februari\nZaterdag 25 februari\nZaterdag 4 maart\n\nKijk voor de meest actuele openingsdagen en activiteiten in onze agenda.
URL:https://joriskerkamersfoort.nl/evenement/herfstopenstelling/2023-03-04/
ATTACH;FMTTYPE=image/jpeg:https://joriskerkamersfoort.nl/wp-content/uploads/2015/12/Raampartij-exterieur.jpg
END:VEVENT
BEGIN:VEVENT
DTSTART;TZID=Europe/Amsterdam:20230304T120000
DTEND;TZID=Europe/Amsterdam:20230304T160000
DTSTAMP:20260423T191453
CREATED:20230214T183322Z
LAST-MODIFIED:20230214T183529Z
UID:10002098-1677931200-1677945600@joriskerkamersfoort.nl
SUMMARY:Mini-expositie “O hoofd vol bloed en wonden”
DESCRIPTION:Afbeelding door Geert Lammers\, genaamd ‘Het is volbracht’ \nErvaar de mini-expositie ‘O hoofd vol bloed en wonden’ \, welke is blijven staan na een interdisciplinair symposium.\nDe expositie is te bezichtigen op zaterdag 25 februari en zaterdag 4 maart van 12.00 uur – 16.00 uur. \n 
URL:https://joriskerkamersfoort.nl/evenement/mini-expositie-o-hoofd-vol-bloed-en-wonden/2023-03-04/
LOCATION:Sint-Joriskerk\, Hof 1\, Amersfoort\, 3811 CJ\, Nederland
GEO:52.1566965;5.3902512
X-APPLE-STRUCTURED-LOCATION;VALUE=URI;X-ADDRESS=Sint-Joriskerk Hof 1 Amersfoort 3811 CJ Nederland;X-APPLE-RADIUS=500;X-TITLE=Hof 1:geo:5.3902512,52.1566965
END:VEVENT
END:VCALENDAR