BEGIN:VCALENDAR
VERSION:2.0
PRODID:-//Joriskerk Amersfoort - ECPv6.15.20//NONSGML v1.0//EN
CALSCALE:GREGORIAN
METHOD:PUBLISH
X-WR-CALNAME:Joriskerk Amersfoort
X-ORIGINAL-URL:https://joriskerkamersfoort.nl
X-WR-CALDESC:Evenementen voor Joriskerk Amersfoort
REFRESH-INTERVAL;VALUE=DURATION:PT1H
X-Robots-Tag:noindex
X-PUBLISHED-TTL:PT1H
BEGIN:VTIMEZONE
TZID:Europe/Amsterdam
BEGIN:DAYLIGHT
TZOFFSETFROM:+0100
TZOFFSETTO:+0200
TZNAME:CEST
DTSTART:20220327T010000
END:DAYLIGHT
BEGIN:STANDARD
TZOFFSETFROM:+0200
TZOFFSETTO:+0100
TZNAME:CET
DTSTART:20221030T010000
END:STANDARD
BEGIN:DAYLIGHT
TZOFFSETFROM:+0100
TZOFFSETTO:+0200
TZNAME:CEST
DTSTART:20230326T010000
END:DAYLIGHT
BEGIN:STANDARD
TZOFFSETFROM:+0200
TZOFFSETTO:+0100
TZNAME:CET
DTSTART:20231029T010000
END:STANDARD
BEGIN:DAYLIGHT
TZOFFSETFROM:+0100
TZOFFSETTO:+0200
TZNAME:CEST
DTSTART:20240331T010000
END:DAYLIGHT
BEGIN:STANDARD
TZOFFSETFROM:+0200
TZOFFSETTO:+0100
TZNAME:CET
DTSTART:20241027T010000
END:STANDARD
END:VTIMEZONE
BEGIN:VEVENT
DTSTART;TZID=Europe/Amsterdam:20230312T153000
DTEND;TZID=Europe/Amsterdam:20230312T163000
DTSTAMP:20260423T083706
CREATED:20230201T132009Z
LAST-MODIFIED:20230201T134239Z
UID:10002093-1678635000-1678638600@joriskerkamersfoort.nl
SUMMARY:Evensong Raad van Kerken Amersfoort
DESCRIPTION:De Raad van Kerken Amersfoort organiseert ieder jaar twaalf evensongs. Deze evensongs vinden plaats in de Sint-Joriskerk. De volgende choral evensongs zien we tegemoet\, op zondagmiddagen\, aanvang 15.30 uur. Toegang vrij\, collecte bij de uitgang. \n\nZondag 26 februari: Kamerkoor Vocaliber o.l.v. Richard Vos\nZondag 5 maart: Ensemble Lyrico o.l.v. Lucia van Vugt\nZondag 12 maart: Capella Sint-Joris\, o.l.v. gastdirigent Bas Ramselaar\nZondag 19 maart: Amersfoortse Cantorij\, o.l.v. Bas Ramselaar
URL:https://joriskerkamersfoort.nl/evenement/evensong-raad-van-kerken-amersfoort/2023-03-12/
ATTACH;FMTTYPE=image/jpeg:https://joriskerkamersfoort.nl/wp-content/uploads/2022/11/img_0049-scaled.jpg
END:VEVENT
END:VCALENDAR