BEGIN:VCALENDAR
VERSION:2.0
PRODID:-//Joriskerk Amersfoort - ECPv6.15.20//NONSGML v1.0//EN
CALSCALE:GREGORIAN
METHOD:PUBLISH
X-WR-CALNAME:Joriskerk Amersfoort
X-ORIGINAL-URL:https://joriskerkamersfoort.nl
X-WR-CALDESC:Evenementen voor Joriskerk Amersfoort
REFRESH-INTERVAL;VALUE=DURATION:PT1H
X-Robots-Tag:noindex
X-PUBLISHED-TTL:PT1H
BEGIN:VTIMEZONE
TZID:Europe/Amsterdam
BEGIN:DAYLIGHT
TZOFFSETFROM:+0100
TZOFFSETTO:+0200
TZNAME:CEST
DTSTART:20220327T010000
END:DAYLIGHT
BEGIN:STANDARD
TZOFFSETFROM:+0200
TZOFFSETTO:+0100
TZNAME:CET
DTSTART:20221030T010000
END:STANDARD
BEGIN:DAYLIGHT
TZOFFSETFROM:+0100
TZOFFSETTO:+0200
TZNAME:CEST
DTSTART:20230326T010000
END:DAYLIGHT
BEGIN:STANDARD
TZOFFSETFROM:+0200
TZOFFSETTO:+0100
TZNAME:CET
DTSTART:20231029T010000
END:STANDARD
BEGIN:DAYLIGHT
TZOFFSETFROM:+0100
TZOFFSETTO:+0200
TZNAME:CEST
DTSTART:20240331T010000
END:DAYLIGHT
BEGIN:STANDARD
TZOFFSETFROM:+0200
TZOFFSETTO:+0100
TZNAME:CET
DTSTART:20241027T010000
END:STANDARD
END:VTIMEZONE
BEGIN:VEVENT
DTSTART;TZID=Europe/Amsterdam:20230405T200000
DTEND;TZID=Europe/Amsterdam:20230405T220000
DTSTAMP:20260423T202159
CREATED:20230222T104535Z
LAST-MODIFIED:20230313T180104Z
UID:10002101-1680724800-1680732000@joriskerkamersfoort.nl
SUMMARY:Nieuw Bach Ensemble - Johannes Passion
DESCRIPTION:Na twee Covid-onderbrekingen en de zeer succesvolle benefiet-uitvoering (t.b.v. Oekraïne) van Bachs Johannes-Passion is het Nieuw Bach Ensemble zeer gelukkig om de traditie van drie Johannes-uitvoeringen weer op te kunnen pakken. \nOm deze geweldige muziek te kunnen uitvoeren met dezelfde instrumenten als Bach zelf gebruikte\, werkt het NwBE in 2023 opnieuw samen met het barokorkest Collegium Delft. \nZo komen we dicht bij de bron\, met behoud van wat de uitvoeringen altijd al zo bijzonder maakte: de spanning in het verhaal\, met oog voor het detail\, en de markante dubbelrol van het koor: als ‘volk’ in het Bijbelverhaal én als vertolker van de indrukwekkende koralen die de reflectie van de geloofsgemeenschap tot uitdrukking brengen. \nOok zal het bijzondere ‘Monteverdi-orgel’ weer bij de uitvoeringen worden ingezet. Dit organo di legno (orgel met uitsluitend houten pijpen) is op initiatief van Krijn Koetsveld – en gesteund door het Nationaal Muziekinstrumenten Fonds als opdrachtgever en eigenaar van het orgel – gebouwd door de firma Klop in Garderen naar een ontwerp van de Italiaanse klavierspeler Michele Barchi\, die ook tekende voor de sublieme barokke beschilderingen van de orgelkast. Het instrument treft tegelijkertijd oog en oor: het is een fantastische blikvanger en valt ook op door de ‘suave’ (lieflijke) en tegelijk sprekende klank\, dankzij de bouw en de maatvoering van de pijpen die gemaakt zijn van Italiaans cipressenhout. \nUitvoerenden:\nKoor Nieuw Bach Ensemble olv Krijn Koetsveld\nMet medewerking van Collegium Delft en prachtige solisten:\nEvangelist & tenoraria’s: William Knight (Utrecht & Amersfoort) en Edward Ross (Amsterdam)\nChristus: Nanco de Vries\nSopraan: Keren Motseri\nAlt: Kaspar Kröner\nBas: Hidde Kleikamp \nMeer informatie \nKlik hier om kaarten te bestellen. \nBent u Vriend van de Sint-Joriskerk? Dan ontvangt u 10 euro korting op een entreekaartje. Vrienden kunnen deze kaarten bestellen via de e-mail.
URL:https://joriskerkamersfoort.nl/evenement/15748/
LOCATION:Sint-Joriskerk\, Hof 1\, Amersfoort\, 3811 CJ\, Nederland
GEO:52.1566965;5.3902512
X-APPLE-STRUCTURED-LOCATION;VALUE=URI;X-ADDRESS=Sint-Joriskerk Hof 1 Amersfoort 3811 CJ Nederland;X-APPLE-RADIUS=500;X-TITLE=Hof 1:geo:5.3902512,52.1566965
END:VEVENT
END:VCALENDAR