BEGIN:VCALENDAR
VERSION:2.0
PRODID:-//Joriskerk Amersfoort - ECPv6.15.20//NONSGML v1.0//EN
CALSCALE:GREGORIAN
METHOD:PUBLISH
X-WR-CALNAME:Joriskerk Amersfoort
X-ORIGINAL-URL:https://joriskerkamersfoort.nl
X-WR-CALDESC:Evenementen voor Joriskerk Amersfoort
REFRESH-INTERVAL;VALUE=DURATION:PT1H
X-Robots-Tag:noindex
X-PUBLISHED-TTL:PT1H
BEGIN:VTIMEZONE
TZID:Europe/Amsterdam
BEGIN:DAYLIGHT
TZOFFSETFROM:+0100
TZOFFSETTO:+0200
TZNAME:CEST
DTSTART:20220327T010000
END:DAYLIGHT
BEGIN:STANDARD
TZOFFSETFROM:+0200
TZOFFSETTO:+0100
TZNAME:CET
DTSTART:20221030T010000
END:STANDARD
BEGIN:DAYLIGHT
TZOFFSETFROM:+0100
TZOFFSETTO:+0200
TZNAME:CEST
DTSTART:20230326T010000
END:DAYLIGHT
BEGIN:STANDARD
TZOFFSETFROM:+0200
TZOFFSETTO:+0100
TZNAME:CET
DTSTART:20231029T010000
END:STANDARD
BEGIN:DAYLIGHT
TZOFFSETFROM:+0100
TZOFFSETTO:+0200
TZNAME:CEST
DTSTART:20240331T010000
END:DAYLIGHT
BEGIN:STANDARD
TZOFFSETFROM:+0200
TZOFFSETTO:+0100
TZNAME:CET
DTSTART:20241027T010000
END:STANDARD
END:VTIMEZONE
BEGIN:VEVENT
DTSTART;TZID=Europe/Amsterdam:20230422T120000
DTEND;TZID=Europe/Amsterdam:20230422T160000
DTSTAMP:20260423T080810
CREATED:20230313T175722Z
LAST-MODIFIED:20230313T175722Z
UID:10002107-1682164800-1682179200@joriskerkamersfoort.nl
SUMMARY:Lente openstelling 2023
DESCRIPTION:Tijdens de lente is de Sint-Joriskerk op enkele zaterdagen geopend voor het publiek. Een plaats van rust of om rond te kijken in deze parel van de Amersfoortse binnenstad. \n\n\nOpen: geselecteerde zaterdagen van 12:00 – 16:00 uur\nKosten: 2 euro p.p. incl. folder met uitleg. Kinderen t/m 12 jaar gratis.\nData: \n\nZaterdag 15 april\nZaterdag 22 april\nZaterdag 29 april
URL:https://joriskerkamersfoort.nl/evenement/lente-openstelling-2023/2023-04-22/
LOCATION:Sint-Joriskerk\, Hof 1\, Amersfoort\, 3811 CJ\, Nederland
ATTACH;FMTTYPE=image/jpeg:https://joriskerkamersfoort.nl/wp-content/uploads/2022/11/img_0059-scaled.jpg
GEO:52.1566965;5.3902512
X-APPLE-STRUCTURED-LOCATION;VALUE=URI;X-ADDRESS=Sint-Joriskerk Hof 1 Amersfoort 3811 CJ Nederland;X-APPLE-RADIUS=500;X-TITLE=Hof 1:geo:5.3902512,52.1566965
END:VEVENT
BEGIN:VEVENT
DTSTART;TZID=Europe/Amsterdam:20230422T203000
DTEND;TZID=Europe/Amsterdam:20230422T230000
DTSTAMP:20260423T080810
CREATED:20230222T190817Z
LAST-MODIFIED:20230222T190817Z
UID:10002105-1682195400-1682204400@joriskerkamersfoort.nl
SUMMARY:Petite Messe Solennelle door Toonkunst Amersfoort
DESCRIPTION:Dirigent\nGerben Budding \nKoor\nToonkunst Amersfoort \nBegeleiding\nSopraan: Charlotte Houberg\nAlt: Astrid Krause\nTenor: Milan Faas\nBas: Daniël Hérmann Mostert \nHarmonium: Dirk Luijmes\nPiano: Hans-Erik Dijkstra \nMeer informatie \nConcert start om 20:30 uur\, kerk is open vanaf 20:00 uur. Bestel hier uw tickets.
URL:https://joriskerkamersfoort.nl/evenement/petite-messe-solennelle-door-toonkunst-amersfoort/
LOCATION:Sint-Joriskerk\, Hof 1\, Amersfoort\, 3811 CJ\, Nederland
GEO:52.1566965;5.3902512
X-APPLE-STRUCTURED-LOCATION;VALUE=URI;X-ADDRESS=Sint-Joriskerk Hof 1 Amersfoort 3811 CJ Nederland;X-APPLE-RADIUS=500;X-TITLE=Hof 1:geo:5.3902512,52.1566965
END:VEVENT
END:VCALENDAR