BEGIN:VCALENDAR
VERSION:2.0
PRODID:-//Joriskerk Amersfoort - ECPv6.15.20//NONSGML v1.0//EN
CALSCALE:GREGORIAN
METHOD:PUBLISH
X-WR-CALNAME:Joriskerk Amersfoort
X-ORIGINAL-URL:https://joriskerkamersfoort.nl
X-WR-CALDESC:Evenementen voor Joriskerk Amersfoort
REFRESH-INTERVAL;VALUE=DURATION:PT1H
X-Robots-Tag:noindex
X-PUBLISHED-TTL:PT1H
BEGIN:VTIMEZONE
TZID:Europe/Amsterdam
BEGIN:DAYLIGHT
TZOFFSETFROM:+0100
TZOFFSETTO:+0200
TZNAME:CEST
DTSTART:20220327T010000
END:DAYLIGHT
BEGIN:STANDARD
TZOFFSETFROM:+0200
TZOFFSETTO:+0100
TZNAME:CET
DTSTART:20221030T010000
END:STANDARD
BEGIN:DAYLIGHT
TZOFFSETFROM:+0100
TZOFFSETTO:+0200
TZNAME:CEST
DTSTART:20230326T010000
END:DAYLIGHT
BEGIN:STANDARD
TZOFFSETFROM:+0200
TZOFFSETTO:+0100
TZNAME:CET
DTSTART:20231029T010000
END:STANDARD
BEGIN:DAYLIGHT
TZOFFSETFROM:+0100
TZOFFSETTO:+0200
TZNAME:CEST
DTSTART:20240331T010000
END:DAYLIGHT
BEGIN:STANDARD
TZOFFSETFROM:+0200
TZOFFSETTO:+0100
TZNAME:CET
DTSTART:20241027T010000
END:STANDARD
END:VTIMEZONE
BEGIN:VEVENT
DTSTART;TZID=Europe/Amsterdam:20230509T110000
DTEND;TZID=Europe/Amsterdam:20231028T170000
DTSTAMP:20260422T234623
CREATED:20230412T131712Z
LAST-MODIFIED:20231004T081814Z
UID:10002109-1683630000-1698512400@joriskerkamersfoort.nl
SUMMARY:Zomeropenstelling 2023
DESCRIPTION:Ook dit jaar staan onze deuren tijdens de warme maanden weer wagenwijd open voor bewonderend publiek. U bent welkom voor bezichtiging\, bezoek van de diversie exposities en bewondering van het gebouw. We organiseren deze zomer doorlopend exposities. Onze zomerexposities zijn van Amersfoortse\, regionale en landelijke kunstenaars. Zo zullen er diverse schilderijen\, beelden\, gedichten\, foto’s en meer te zien zijn. \nMeer informatie\nKom langs tussen 9 mei en 28 oktober 2023! We zijn dan open van dinsdag t/m zaterdag tussen 11:00 en 17:00 uur. Entree kost €2\, toegang tot 12 jaar gratis. Bekijk de exposities \nNiet geopend vanwege verhuur: \n\nZaterdag 7 oktober\, 14.00 – 17.00 uur\nDinsdag 10 oktober\nZaterdag 14 oktober\, 14.00 – 17.00 uur\nZaterdag 21 oktober\, 14.00 – 17.00 uur\nZaterdag 28 oktober
URL:https://joriskerkamersfoort.nl/evenement/zomeropenstelling-2023/
LOCATION:Sint-Joriskerk\, Hof 1\, Amersfoort\, 3811 CJ\, Nederland
GEO:52.1566965;5.3902512
X-APPLE-STRUCTURED-LOCATION;VALUE=URI;X-ADDRESS=Sint-Joriskerk Hof 1 Amersfoort 3811 CJ Nederland;X-APPLE-RADIUS=500;X-TITLE=Hof 1:geo:5.3902512,52.1566965
END:VEVENT
BEGIN:VEVENT
DTSTART;TZID=Europe/Amsterdam:20230620T110000
DTEND;TZID=Europe/Amsterdam:20230729T170000
DTSTAMP:20260422T234623
CREATED:20230412T140341Z
LAST-MODIFIED:20230620T152328Z
UID:10002479-1687258800-1690650000@joriskerkamersfoort.nl
SUMMARY:Expositie (ON)GEBONDEN
DESCRIPTION:Ongebonden: zomerexpositie van leden van Galerie Absoluut  \nData: 20 juni t/m 29 juli 2023\, dinsdag t/m zaterdag 11-17 uur\, 2 euro entree\nOfficiële opening: vrijdag 23 juni om 16.00 uur in het Koor van de Sint-Joriskerk\n \nGalerie Absoluut is een eigenzinnige groep kunstenaars zonder galerie\, die steeds een mooie plek uitzoekt voor haar tentoonstellingen. Voor de vijfde keer exposeren zij in De Sint-Joriskerk. Het thema is ‘Ongebonden’. \nIn hoeverre zijn zij als mens en als kunstenaar ‘ongebonden’? En wat verbíndt hen met elkaar en met de wereld? Deze zoektocht wordt in allerlei technieken en materialen uitgedrukt en vormgegeven. Het is aan de toeschouwer om daar zelf weer een verbinding mee te zoeken… \nVan harte welkom!
URL:https://joriskerkamersfoort.nl/evenement/expositie-galerie-absoluut-2/
LOCATION:Sint-Joriskerk\, Hof 1\, Amersfoort\, 3811 CJ\, Nederland
GEO:52.1566965;5.3902512
X-APPLE-STRUCTURED-LOCATION;VALUE=URI;X-ADDRESS=Sint-Joriskerk Hof 1 Amersfoort 3811 CJ Nederland;X-APPLE-RADIUS=500;X-TITLE=Hof 1:geo:5.3902512,52.1566965
END:VEVENT
BEGIN:VEVENT
DTSTART;TZID=Europe/Amsterdam:20230705T090000
DTEND;TZID=Europe/Amsterdam:20230705T093000
DTSTAMP:20260422T234623
CREATED:20230412T135426Z
LAST-MODIFIED:20240606T131431Z
UID:10001931-1688547600-1688549400@joriskerkamersfoort.nl
SUMMARY:Meditatiemoment met de Stadsdominee
DESCRIPTION:Iedereen is welkom en meedoen is eenvoudig. \nZorg dat je even voor 9 uur bij de zijdeur van de Sint Joriskerk bent (Zevenhuizen 3\, tegenover café Nul33). Diederiek van Loo begeleidt de groep dan naar de mooiste plaatsen in de kerk. Daar brandt de Paaskaars\, mensen groeten en gaan zitten. Ieder in de stilte. Om 9 uur begint na een gongslag 25 minuten stilte. Er zijn geen teksten\, geen oefeningen\, geen gesprek. Geniet van de ruimte voor jezelf. De hele dag voelt anders aan\, na zo’n begin. \nWil je eerst wat meer informatie of heb je een vraag\, mail dan de Stadsdominee. \nN.B. af en toe is de Sint Joriskerk bezet en dan vindt de stiltemeditatie plaats in de Amersfoortse Zwaan. Hiervoor is een mailgroep die op de hoogte wordt gesteld van dit soort wijzigingen. Wil je je naam op die lijst hebben\, stuur mij dan even een mailtje\, dan ben je altijd op de hoogte.
URL:https://joriskerkamersfoort.nl/evenement/meditatiemoment-met-de-stadsdominee-2/2023-07-05/
LOCATION:Sint-Joriskerk\, Hof 1\, Amersfoort\, 3811 CJ\, Nederland
ATTACH;FMTTYPE=image/jpeg:https://joriskerkamersfoort.nl/wp-content/uploads/2021/01/meditatiemoment-joriskerk-kaars-e1638434129897.jpg
GEO:52.1566965;5.3902512
X-APPLE-STRUCTURED-LOCATION;VALUE=URI;X-ADDRESS=Sint-Joriskerk Hof 1 Amersfoort 3811 CJ Nederland;X-APPLE-RADIUS=500;X-TITLE=Hof 1:geo:5.3902512,52.1566965
END:VEVENT
BEGIN:VEVENT
DTSTART;TZID=Europe/Amsterdam:20230705T200000
DTEND;TZID=Europe/Amsterdam:20230705T210000
DTSTAMP:20260422T234623
CREATED:20230620T173536Z
LAST-MODIFIED:20230620T174118Z
UID:10002841-1688587200-1688590800@joriskerkamersfoort.nl
SUMMARY:Zomers Orgelconcert
DESCRIPTION:Bezoek de zomerse woensdagavond orgelconcerten georganiseerd door de Culturele Commissie Joriskerk. Van 5 juli t/m 6 september 2023\, op woensdagavonden van 20.00 – 21.00 uur. Entree 10 euro incl. koffie\, tot 18 jaar gratis.
URL:https://joriskerkamersfoort.nl/evenement/zomers-orgelconcert/2023-07-05/
LOCATION:Sint-Joriskerk\, Hof 1\, Amersfoort\, 3811 CJ\, Nederland
GEO:52.1566965;5.3902512
X-APPLE-STRUCTURED-LOCATION;VALUE=URI;X-ADDRESS=Sint-Joriskerk Hof 1 Amersfoort 3811 CJ Nederland;X-APPLE-RADIUS=500;X-TITLE=Hof 1:geo:5.3902512,52.1566965
END:VEVENT
END:VCALENDAR