BEGIN:VCALENDAR
VERSION:2.0
PRODID:-//Joriskerk Amersfoort - ECPv6.15.20//NONSGML v1.0//EN
CALSCALE:GREGORIAN
METHOD:PUBLISH
X-ORIGINAL-URL:https://joriskerkamersfoort.nl
X-WR-CALDESC:Evenementen voor Joriskerk Amersfoort
REFRESH-INTERVAL;VALUE=DURATION:PT1H
X-Robots-Tag:noindex
X-PUBLISHED-TTL:PT1H
BEGIN:VTIMEZONE
TZID:Europe/Amsterdam
BEGIN:DAYLIGHT
TZOFFSETFROM:+0100
TZOFFSETTO:+0200
TZNAME:CEST
DTSTART:20220327T010000
END:DAYLIGHT
BEGIN:STANDARD
TZOFFSETFROM:+0200
TZOFFSETTO:+0100
TZNAME:CET
DTSTART:20221030T010000
END:STANDARD
BEGIN:DAYLIGHT
TZOFFSETFROM:+0100
TZOFFSETTO:+0200
TZNAME:CEST
DTSTART:20230326T010000
END:DAYLIGHT
BEGIN:STANDARD
TZOFFSETFROM:+0200
TZOFFSETTO:+0100
TZNAME:CET
DTSTART:20231029T010000
END:STANDARD
BEGIN:DAYLIGHT
TZOFFSETFROM:+0100
TZOFFSETTO:+0200
TZNAME:CEST
DTSTART:20240331T010000
END:DAYLIGHT
BEGIN:STANDARD
TZOFFSETFROM:+0200
TZOFFSETTO:+0100
TZNAME:CET
DTSTART:20241027T010000
END:STANDARD
END:VTIMEZONE
BEGIN:VEVENT
DTSTART;TZID=Europe/Amsterdam:20230509T110000
DTEND;TZID=Europe/Amsterdam:20231028T170000
DTSTAMP:20260422T002000
CREATED:20230412T131712Z
LAST-MODIFIED:20231004T081814Z
UID:10002109-1683630000-1698512400@joriskerkamersfoort.nl
SUMMARY:Zomeropenstelling 2023
DESCRIPTION:Ook dit jaar staan onze deuren tijdens de warme maanden weer wagenwijd open voor bewonderend publiek. U bent welkom voor bezichtiging\, bezoek van de diversie exposities en bewondering van het gebouw. We organiseren deze zomer doorlopend exposities. Onze zomerexposities zijn van Amersfoortse\, regionale en landelijke kunstenaars. Zo zullen er diverse schilderijen\, beelden\, gedichten\, foto’s en meer te zien zijn. \nMeer informatie\nKom langs tussen 9 mei en 28 oktober 2023! We zijn dan open van dinsdag t/m zaterdag tussen 11:00 en 17:00 uur. Entree kost €2\, toegang tot 12 jaar gratis. Bekijk de exposities \nNiet geopend vanwege verhuur: \n\nZaterdag 7 oktober\, 14.00 – 17.00 uur\nDinsdag 10 oktober\nZaterdag 14 oktober\, 14.00 – 17.00 uur\nZaterdag 21 oktober\, 14.00 – 17.00 uur\nZaterdag 28 oktober
URL:https://joriskerkamersfoort.nl/evenement/zomeropenstelling-2023/
LOCATION:Sint-Joriskerk\, Hof 1\, Amersfoort\, 3811 CJ\, Nederland
GEO:52.1566965;5.3902512
X-APPLE-STRUCTURED-LOCATION;VALUE=URI;X-ADDRESS=Sint-Joriskerk Hof 1 Amersfoort 3811 CJ Nederland;X-APPLE-RADIUS=500;X-TITLE=Hof 1:geo:5.3902512,52.1566965
END:VEVENT
BEGIN:VEVENT
DTSTART;TZID=Europe/Amsterdam:20230912T110000
DTEND;TZID=Europe/Amsterdam:20231028T170000
DTSTAMP:20260422T002000
CREATED:20230412T141411Z
LAST-MODIFIED:20230906T075913Z
UID:10002770-1694516400-1698512400@joriskerkamersfoort.nl
SUMMARY:"Zie mij. De Bijbel in foto's"
DESCRIPTION:  \nFoto Caroline Waltman \nDoor Bijbels Museum: een nomadisch museum rond bezinning\, bezieling en inspiratie. Welkom bij de officiële opening op zaterdag 16 september om 16.00 uur. \nNieuwe en eigentijdse blik op de Bijbel \nHoe breng je het oeroude verhaal van de Bijbel tot leven in deze tijd? In deze tentoonstelling van het Bijbels Museum doet beeldend kunstenaar Caroline Waltman dit door middel van foto’s. In verschillende landen legde zij beelden vast die een nieuwe en eigentijdse blik op de Bijbel werpen. Waltman koppelt in de tentoonstelling foto’s van mensen aan het strand\, een vliegveld vol vluchtelingen en een kuil vol regenwater aan door haar gekozen verzen uit de Bijbel. \nMet haar associatieve en poëtische beelden blaast Caroline Waltman in deze tentoonstelling nieuw leven in de eeuwenoude verhalen. Caroline fotografeerde in zestien verschillende landen. In Nederland\, België\, Duitsland en Italië\, maar ook bijvoorbeeld in Israël\, Palestina\, Jordanië\, Griekenland en Turkije. Het werk is zeer divers\, met landschappen\, stillevens\, portretten en actiefoto’s uit het dagelijks leven in verschillende culturen. Samen vormen zij een brede blik op de wereld. \nMeerdere talen \nEen deel van de foto’s die in de tentoonstelling worden getoond\, is gemaakt in de herkomstlanden van nieuwe Nederlanders. Hier ligt immers de oorsprong van veel Bijbelverhalen. Om met de getoonde Bijbelverzen een breed en cultureel divers publiek te bereiken\, zijn deze verzen in vier verschillende talen te lezen: in het Nederlands\, Engels\, Arabisch en Tigrinya. \nBoek \nDe foto’s – en de bijbehorende verzen – zijn afkomstig uit Waltman’s boek Paradisewill.com. De selectie foto’s en verzen uit Zie mij vormen een dwarsdoorsnede hiervan. \nDe tentoonstelling reisde al langs meerdere locaties en was onder meer te zien in de Kloosterkerk Den Haag\, de Rechtbank Amsterdam\, Hogeschool Windesheim Zwolle en het Cromhouthuis Amsterdam. \n 
URL:https://joriskerkamersfoort.nl/evenement/zie-mij-omzien-naar-elkaar-en-gezien-worden/
LOCATION:Sint-Joriskerk\, Hof 1\, Amersfoort\, 3811 CJ\, Nederland
ATTACH;FMTTYPE=image/jpeg:https://joriskerkamersfoort.nl/wp-content/uploads/2023/04/echtpaar-fotoc_waltman-bijbelsmuseum-lres.jpg
GEO:52.1566965;5.3902512
X-APPLE-STRUCTURED-LOCATION;VALUE=URI;X-ADDRESS=Sint-Joriskerk Hof 1 Amersfoort 3811 CJ Nederland;X-APPLE-RADIUS=500;X-TITLE=Hof 1:geo:5.3902512,52.1566965
END:VEVENT
BEGIN:VEVENT
DTSTART;TZID=Europe/Amsterdam:20230927T090000
DTEND;TZID=Europe/Amsterdam:20230927T093000
DTSTAMP:20260422T002000
CREATED:20230412T135426Z
LAST-MODIFIED:20240606T131431Z
UID:10001943-1695805200-1695807000@joriskerkamersfoort.nl
SUMMARY:Meditatiemoment met de Stadsdominee
DESCRIPTION:Iedereen is welkom en meedoen is eenvoudig. \nZorg dat je even voor 9 uur bij de zijdeur van de Sint Joriskerk bent (Zevenhuizen 3\, tegenover café Nul33). Diederiek van Loo begeleidt de groep dan naar de mooiste plaatsen in de kerk. Daar brandt de Paaskaars\, mensen groeten en gaan zitten. Ieder in de stilte. Om 9 uur begint na een gongslag 25 minuten stilte. Er zijn geen teksten\, geen oefeningen\, geen gesprek. Geniet van de ruimte voor jezelf. De hele dag voelt anders aan\, na zo’n begin. \nWil je eerst wat meer informatie of heb je een vraag\, mail dan de Stadsdominee. \nN.B. af en toe is de Sint Joriskerk bezet en dan vindt de stiltemeditatie plaats in de Amersfoortse Zwaan. Hiervoor is een mailgroep die op de hoogte wordt gesteld van dit soort wijzigingen. Wil je je naam op die lijst hebben\, stuur mij dan even een mailtje\, dan ben je altijd op de hoogte.
URL:https://joriskerkamersfoort.nl/evenement/meditatiemoment-met-de-stadsdominee-2/2023-09-27/
LOCATION:Sint-Joriskerk\, Hof 1\, Amersfoort\, 3811 CJ\, Nederland
ATTACH;FMTTYPE=image/jpeg:https://joriskerkamersfoort.nl/wp-content/uploads/2021/01/meditatiemoment-joriskerk-kaars-e1638434129897.jpg
GEO:52.1566965;5.3902512
X-APPLE-STRUCTURED-LOCATION;VALUE=URI;X-ADDRESS=Sint-Joriskerk Hof 1 Amersfoort 3811 CJ Nederland;X-APPLE-RADIUS=500;X-TITLE=Hof 1:geo:5.3902512,52.1566965
END:VEVENT
END:VCALENDAR