BEGIN:VCALENDAR
VERSION:2.0
PRODID:-//Joriskerk Amersfoort - ECPv6.15.20//NONSGML v1.0//EN
CALSCALE:GREGORIAN
METHOD:PUBLISH
X-WR-CALNAME:Joriskerk Amersfoort
X-ORIGINAL-URL:https://joriskerkamersfoort.nl
X-WR-CALDESC:Evenementen voor Joriskerk Amersfoort
REFRESH-INTERVAL;VALUE=DURATION:PT1H
X-Robots-Tag:noindex
X-PUBLISHED-TTL:PT1H
BEGIN:VTIMEZONE
TZID:Europe/Amsterdam
BEGIN:DAYLIGHT
TZOFFSETFROM:+0100
TZOFFSETTO:+0200
TZNAME:CEST
DTSTART:20220327T010000
END:DAYLIGHT
BEGIN:STANDARD
TZOFFSETFROM:+0200
TZOFFSETTO:+0100
TZNAME:CET
DTSTART:20221030T010000
END:STANDARD
BEGIN:DAYLIGHT
TZOFFSETFROM:+0100
TZOFFSETTO:+0200
TZNAME:CEST
DTSTART:20230326T010000
END:DAYLIGHT
BEGIN:STANDARD
TZOFFSETFROM:+0200
TZOFFSETTO:+0100
TZNAME:CET
DTSTART:20231029T010000
END:STANDARD
BEGIN:DAYLIGHT
TZOFFSETFROM:+0100
TZOFFSETTO:+0200
TZNAME:CEST
DTSTART:20240331T010000
END:DAYLIGHT
BEGIN:STANDARD
TZOFFSETFROM:+0200
TZOFFSETTO:+0100
TZNAME:CET
DTSTART:20241027T010000
END:STANDARD
END:VTIMEZONE
BEGIN:VEVENT
DTSTART;TZID=Europe/Amsterdam:20231109T200000
DTEND;TZID=Europe/Amsterdam:20231109T220000
DTSTAMP:20260421T220343
CREATED:20231011T094717Z
LAST-MODIFIED:20231011T094717Z
UID:10002862-1699560000-1699567200@joriskerkamersfoort.nl
SUMMARY:Nieuw Bach Ensemble: Claudio Monteverdi - Mariavespers
DESCRIPTION:Een mix van oude en nieuwe stijlen\, solowerk en uitbundige ensembles voor het koor… dat zijn de ingredienten die Claudio Monteverdi gebruikte voor zijn Mariavespers. Deze behoren tot op de dag van vandaag tot de de monumentale werken uit de muziekgeschiedenis. Onder leiding van dirigent en klavecinist Krijn Koetsveld wordt het Nieuw Bach Ensemble en orkest omringd door ensemble Le Nuove Musiche. Samen staan ze garant voor een onvergetelijke uitvoering van deze Mariavespers. \nTemidden van het instrumentale ensemble staat het unieke en op initiatief van Krijn Koetsveld gebouwde ‘Monteverdi-orgel’ centraal: een fantastische blikvanger met barokke beschilderingen en met een lieflijke maar tegelijkertijd sprekende klank. \nKrijn Koetsveld wordt beschouwd als een van de grote kenners van de muziek van Claudio Monteverdi. Met zijn vocale ensemble Le Nuove Musiche nam hij bijna al diens werken op\, waaronder de veelgeprezen negen boeken met madrigalen en de Selva morale e spirituale. Het uitvoeren van Monteverdi’s Mariavespers is de kers op de taart. \n\n\nUitvoerenden: \nNieuw Bach Ensemble \nKrijn Koetsveld – dirigent \nLe Nuove Musiche:  \nJennifer van der Hart – sopraan \nMargreet Rietveld – sopraan \nFalco van Loon – tenor \nMark Bonney – tenor \nJoris van Baar – bariton \nBas Ramselaar – bas
URL:https://joriskerkamersfoort.nl/evenement/nieuw-bach-ensemble-claudio-monteverdi-mariavespers/
LOCATION:Sint-Joriskerk\, Hof 1\, Amersfoort\, 3811 CJ\, Nederland
GEO:52.1566965;5.3902512
X-APPLE-STRUCTURED-LOCATION;VALUE=URI;X-ADDRESS=Sint-Joriskerk Hof 1 Amersfoort 3811 CJ Nederland;X-APPLE-RADIUS=500;X-TITLE=Hof 1:geo:5.3902512,52.1566965
END:VEVENT
END:VCALENDAR