BEGIN:VCALENDAR
VERSION:2.0
PRODID:-//Joriskerk Amersfoort - ECPv6.15.20//NONSGML v1.0//EN
CALSCALE:GREGORIAN
METHOD:PUBLISH
X-ORIGINAL-URL:https://joriskerkamersfoort.nl
X-WR-CALDESC:Evenementen voor Joriskerk Amersfoort
REFRESH-INTERVAL;VALUE=DURATION:PT1H
X-Robots-Tag:noindex
X-PUBLISHED-TTL:PT1H
BEGIN:VTIMEZONE
TZID:Europe/Amsterdam
BEGIN:DAYLIGHT
TZOFFSETFROM:+0100
TZOFFSETTO:+0200
TZNAME:CEST
DTSTART:20220327T010000
END:DAYLIGHT
BEGIN:STANDARD
TZOFFSETFROM:+0200
TZOFFSETTO:+0100
TZNAME:CET
DTSTART:20221030T010000
END:STANDARD
BEGIN:DAYLIGHT
TZOFFSETFROM:+0100
TZOFFSETTO:+0200
TZNAME:CEST
DTSTART:20230326T010000
END:DAYLIGHT
BEGIN:STANDARD
TZOFFSETFROM:+0200
TZOFFSETTO:+0100
TZNAME:CET
DTSTART:20231029T010000
END:STANDARD
BEGIN:DAYLIGHT
TZOFFSETFROM:+0100
TZOFFSETTO:+0200
TZNAME:CEST
DTSTART:20240331T010000
END:DAYLIGHT
BEGIN:STANDARD
TZOFFSETFROM:+0200
TZOFFSETTO:+0100
TZNAME:CET
DTSTART:20241027T010000
END:STANDARD
END:VTIMEZONE
BEGIN:VEVENT
DTSTART;TZID=Europe/Amsterdam:20231111T201500
DTEND;TZID=Europe/Amsterdam:20231111T220000
DTSTAMP:20260421T135630
CREATED:20231107T201034Z
LAST-MODIFIED:20231107T201034Z
UID:10002872-1699733700-1699740000@joriskerkamersfoort.nl
SUMMARY:Songs of Farewell - Sint Joris Kamerkoor
DESCRIPTION:Een afwisselend programma met Engelse koorwerken rond het thema afscheid en sterven. Centraal staan het Requiem van Herbert Howells en de Songs of Farewell van Charles Hubert Parry. Deze stukken zijn mede geschreven naar aanleiding van de verschrikkingen van de Eerste Wereldoorlog. Beide componisten kregen tijdens het schrijven ook te maken met persoonlijk verlies. Parry verloor een aantal leerlingen die vochten in de loopgraven en nooit weerkeerden. Howells werd vanwege een ongeneeslijke ziekte (waarvan hij uiteindelijk echter genas na een experimentele behandeling) niet opgeroepen als soldaat\, maar verloor toen wel een aantal belangrijke vrienden. In de keuze van hun teksten blijken troost en hoop de boventoon te voeren. \nNaast deze stukken worden werken gezongen die geschreven zijn voor uitvaartplechtigheden van leden van het Engelse koningshuis. Zoals de gewaardeerde Funeral Sentences & Music for the Funeral of Queen Mary van Henry Purcell (dat we net als de stukken van Parry en Howells al eerder tussen 1998 en 2015 mochten uitvoeren)\, When David heard van Thomas Weelkes\, Funeral Sentences van William Croft\, Song for Athene van John Tavener (eerder in 2017) en Who shall separate us? van James MacMillan (eerder uitgevoerd in april van dit jaar in St. Mary’s Cathedral in Glasgow). \nInstrumentale medewerking wordt verleend door Cappella Maria Barbara; voor deze gelegenheid bestaande uit: \nCarlos Rivero Morena – cornetto \nAurora Rósudóttir Luciano – alttrombone \nRamon Marquès Jimenez – tenortrombone \nFloris van Daalen – bastrombone \nElske Tinbergen – barokcello \nHenk van Zonneveld – kistorgel \nEvert Gombert – renaissancetrom \nKaarten bestellen kunt u hier.
URL:https://joriskerkamersfoort.nl/evenement/songs-of-farewell-sint-joris-kamerkoor/
LOCATION:Sint-Joriskerk\, Hof 1\, Amersfoort\, 3811 CJ\, Nederland
GEO:52.1566965;5.3902512
X-APPLE-STRUCTURED-LOCATION;VALUE=URI;X-ADDRESS=Sint-Joriskerk Hof 1 Amersfoort 3811 CJ Nederland;X-APPLE-RADIUS=500;X-TITLE=Hof 1:geo:5.3902512,52.1566965
END:VEVENT
END:VCALENDAR