BEGIN:VCALENDAR
VERSION:2.0
PRODID:-//Joriskerk Amersfoort - ECPv6.15.20//NONSGML v1.0//EN
CALSCALE:GREGORIAN
METHOD:PUBLISH
X-WR-CALNAME:Joriskerk Amersfoort
X-ORIGINAL-URL:https://joriskerkamersfoort.nl
X-WR-CALDESC:Evenementen voor Joriskerk Amersfoort
REFRESH-INTERVAL;VALUE=DURATION:PT1H
X-Robots-Tag:noindex
X-PUBLISHED-TTL:PT1H
BEGIN:VTIMEZONE
TZID:Europe/Amsterdam
BEGIN:DAYLIGHT
TZOFFSETFROM:+0100
TZOFFSETTO:+0200
TZNAME:CEST
DTSTART:20220327T010000
END:DAYLIGHT
BEGIN:STANDARD
TZOFFSETFROM:+0200
TZOFFSETTO:+0100
TZNAME:CET
DTSTART:20221030T010000
END:STANDARD
BEGIN:DAYLIGHT
TZOFFSETFROM:+0100
TZOFFSETTO:+0200
TZNAME:CEST
DTSTART:20230326T010000
END:DAYLIGHT
BEGIN:STANDARD
TZOFFSETFROM:+0200
TZOFFSETTO:+0100
TZNAME:CET
DTSTART:20231029T010000
END:STANDARD
BEGIN:DAYLIGHT
TZOFFSETFROM:+0100
TZOFFSETTO:+0200
TZNAME:CEST
DTSTART:20240331T010000
END:DAYLIGHT
BEGIN:STANDARD
TZOFFSETFROM:+0200
TZOFFSETTO:+0100
TZNAME:CET
DTSTART:20241027T010000
END:STANDARD
END:VTIMEZONE
BEGIN:VEVENT
DTSTART;TZID=Europe/Amsterdam:20231118T193000
DTEND;TZID=Europe/Amsterdam:20231118T223000
DTSTAMP:20260421T153419
CREATED:20231011T104911Z
LAST-MODIFIED:20231102T085527Z
UID:10002864-1700335800-1700346600@joriskerkamersfoort.nl
SUMMARY:Elias - 145-jarig Jubileum
DESCRIPTION:Elias – 145-jarig Jubileum\nFelix Mendelssohn Bartholdy\nDirigent: Gerben Budding \n\nIn de Sint-Joriskerk is de Livestream via schermen te zien zodat u altijd goed zicht heeft op koor en musici. Ons concert wordt mede mogelijk gemaakt door Amateurkunst033\, Stichting Carel Nengerman Fonds en Fentener van Vlissingen Fonds. \nOver de Elias en Mendelssohn \nFelix Mendelssohn-Bartholdy\, een Duitse componist uit de 19e eeuw\, behoort tot de grootste meesters van zijn tijd. De Elias is een van zijn meest indrukwekkende werken. Het oratorium\, gecomponeerd in 1846\, is geïnspireerd op het leven van de profeet Elia uit het Oude Testament. Het verhaal van Elia drukt de kracht van geloof en vertrouwen in God uit\, zelfs in moeilijke tijden. Maar ook zijn strijd tegen onrecht en zijn zorg voor de armen en zwakken zijn betekenisvol en troostend. De Elias blijft relevant en inspirerend\, ook in deze tijd. \nHet verhaal van de profeet Elias wordt in dit oratorium op magistrale wijze verteld door solisten\, koor en symfonieorkest. De krachtige koorpassages laten het verhaal tot leven komen\, terwijl de solisten de menselijke kant van Elia en andere personages belichten. Mendelssohn slaagt erin om emoties op te roepen die variëren van intense vreugde tot diep verdriet over de strijd wie de ‘ware’ God is. \nKoor\nToonkunst Amersfoort \nDirigent\nGerben Budding \nBegeleiding\nHolland Symfonie Orkest \nSolisten\nSopraan: Nanette Mans\nAlt: Anne-Marieke Evers\nTenor: Falco van Loon\nBas: Berend Eijkhout \nDubbelkwartet\nSopraan: Marjon van der Linden\nAlt: Florianne van Ginkel\nTenor: Bart-Jan Top\nBas: Maarten Koopman \nHenk de Rooy\nKnabe van Koorschool Ars Musica \nKaartjes \nKaartjes zijn te koop van €14\,50 – €37\,50\, via Toonkunst Amersfoort.
URL:https://joriskerkamersfoort.nl/evenement/elias-145-jarig-jubileum/
LOCATION:Sint-Joriskerk\, Hof 1\, Amersfoort\, 3811 CJ\, Nederland
GEO:52.1566965;5.3902512
X-APPLE-STRUCTURED-LOCATION;VALUE=URI;X-ADDRESS=Sint-Joriskerk Hof 1 Amersfoort 3811 CJ Nederland;X-APPLE-RADIUS=500;X-TITLE=Hof 1:geo:5.3902512,52.1566965
END:VEVENT
END:VCALENDAR