BEGIN:VCALENDAR
VERSION:2.0
PRODID:-//Joriskerk Amersfoort - ECPv6.15.20//NONSGML v1.0//EN
CALSCALE:GREGORIAN
METHOD:PUBLISH
X-WR-CALNAME:Joriskerk Amersfoort
X-ORIGINAL-URL:https://joriskerkamersfoort.nl
X-WR-CALDESC:Evenementen voor Joriskerk Amersfoort
REFRESH-INTERVAL;VALUE=DURATION:PT1H
X-Robots-Tag:noindex
X-PUBLISHED-TTL:PT1H
BEGIN:VTIMEZONE
TZID:Europe/Amsterdam
BEGIN:DAYLIGHT
TZOFFSETFROM:+0100
TZOFFSETTO:+0200
TZNAME:CEST
DTSTART:20220327T010000
END:DAYLIGHT
BEGIN:STANDARD
TZOFFSETFROM:+0200
TZOFFSETTO:+0100
TZNAME:CET
DTSTART:20221030T010000
END:STANDARD
BEGIN:DAYLIGHT
TZOFFSETFROM:+0100
TZOFFSETTO:+0200
TZNAME:CEST
DTSTART:20230326T010000
END:DAYLIGHT
BEGIN:STANDARD
TZOFFSETFROM:+0200
TZOFFSETTO:+0100
TZNAME:CET
DTSTART:20231029T010000
END:STANDARD
BEGIN:DAYLIGHT
TZOFFSETFROM:+0100
TZOFFSETTO:+0200
TZNAME:CEST
DTSTART:20240331T010000
END:DAYLIGHT
BEGIN:STANDARD
TZOFFSETFROM:+0200
TZOFFSETTO:+0100
TZNAME:CET
DTSTART:20241027T010000
END:STANDARD
END:VTIMEZONE
BEGIN:VEVENT
DTSTART;TZID=Europe/Amsterdam:20231203T153000
DTEND;TZID=Europe/Amsterdam:20231203T170000
DTSTAMP:20260421T153415
CREATED:20231115T111206Z
LAST-MODIFIED:20231115T111453Z
UID:10002887-1701617400-1701622800@joriskerkamersfoort.nl
SUMMARY:Evensongs Adventstijd
DESCRIPTION:De Evensong is het dagelijkse getijdengebed aan het eind van de middag in de Anglicaanse kerken. In grote kerken\, vooral de kathedralen\, is er doorgaans dagelijks een Evensong. De Evensong stamt uit de 16de eeuw en is vergelijkbaar met de Vesper met elementen uit de Completen\, de laatste twee getijdengebeden van de dag. \nWe heten u welkom bij de Evensongs in de Sint-Joriskerk\, op de 4 adventszondagmiddagen\, aanvang 15:30 uur. \n\n\n\nKomende Evensong ensembles: \n1e Advent: 3 december\nEnsemble Lyrico\no.l.v. Lucia van Vugt en\nRien Donkersloot\, orgel \n2e Advent: 10 december\nAmersfoortse Cantorij\no.l.v. Bas Ramselaar en\nMaurits Bunt\, orgel \n3e Advent: 17 december\nCapella Dorestad\no.l.v. Rienk Bakker en\nPim Schipper\, orgel \n4e Advent: 24 december\nCapella Amersfoort\no.l.v. Anthony Scheffer en\nHenk Veldman\, orgel \nWees welkom\, toegang vrij\, collecte na afloop en via QR-code.
URL:https://joriskerkamersfoort.nl/evenement/evensongs-adventstijd/2023-12-03/
LOCATION:Sint-Joriskerk\, Hof 1\, Amersfoort\, 3811 CJ\, Nederland
GEO:52.1566965;5.3902512
X-APPLE-STRUCTURED-LOCATION;VALUE=URI;X-ADDRESS=Sint-Joriskerk Hof 1 Amersfoort 3811 CJ Nederland;X-APPLE-RADIUS=500;X-TITLE=Hof 1:geo:5.3902512,52.1566965
END:VEVENT
END:VCALENDAR