BEGIN:VCALENDAR
VERSION:2.0
PRODID:-//Joriskerk Amersfoort - ECPv6.15.20//NONSGML v1.0//EN
CALSCALE:GREGORIAN
METHOD:PUBLISH
X-ORIGINAL-URL:https://joriskerkamersfoort.nl
X-WR-CALDESC:Evenementen voor Joriskerk Amersfoort
REFRESH-INTERVAL;VALUE=DURATION:PT1H
X-Robots-Tag:noindex
X-PUBLISHED-TTL:PT1H
BEGIN:VTIMEZONE
TZID:Europe/Amsterdam
BEGIN:DAYLIGHT
TZOFFSETFROM:+0100
TZOFFSETTO:+0200
TZNAME:CEST
DTSTART:20220327T010000
END:DAYLIGHT
BEGIN:STANDARD
TZOFFSETFROM:+0200
TZOFFSETTO:+0100
TZNAME:CET
DTSTART:20221030T010000
END:STANDARD
BEGIN:DAYLIGHT
TZOFFSETFROM:+0100
TZOFFSETTO:+0200
TZNAME:CEST
DTSTART:20230326T010000
END:DAYLIGHT
BEGIN:STANDARD
TZOFFSETFROM:+0200
TZOFFSETTO:+0100
TZNAME:CET
DTSTART:20231029T010000
END:STANDARD
BEGIN:DAYLIGHT
TZOFFSETFROM:+0100
TZOFFSETTO:+0200
TZNAME:CEST
DTSTART:20240331T010000
END:DAYLIGHT
BEGIN:STANDARD
TZOFFSETFROM:+0200
TZOFFSETTO:+0100
TZNAME:CET
DTSTART:20241027T010000
END:STANDARD
END:VTIMEZONE
BEGIN:VEVENT
DTSTART;TZID=Europe/Amsterdam:20231206T090000
DTEND;TZID=Europe/Amsterdam:20231206T093000
DTSTAMP:20260421T135541
CREATED:20230412T135426Z
LAST-MODIFIED:20240606T131431Z
UID:10001953-1701853200-1701855000@joriskerkamersfoort.nl
SUMMARY:Meditatiemoment met de Stadsdominee
DESCRIPTION:Iedereen is welkom en meedoen is eenvoudig. \nZorg dat je even voor 9 uur bij de zijdeur van de Sint Joriskerk bent (Zevenhuizen 3\, tegenover café Nul33). Diederiek van Loo begeleidt de groep dan naar de mooiste plaatsen in de kerk. Daar brandt de Paaskaars\, mensen groeten en gaan zitten. Ieder in de stilte. Om 9 uur begint na een gongslag 25 minuten stilte. Er zijn geen teksten\, geen oefeningen\, geen gesprek. Geniet van de ruimte voor jezelf. De hele dag voelt anders aan\, na zo’n begin. \nWil je eerst wat meer informatie of heb je een vraag\, mail dan de Stadsdominee. \nN.B. af en toe is de Sint Joriskerk bezet en dan vindt de stiltemeditatie plaats in de Amersfoortse Zwaan. Hiervoor is een mailgroep die op de hoogte wordt gesteld van dit soort wijzigingen. Wil je je naam op die lijst hebben\, stuur mij dan even een mailtje\, dan ben je altijd op de hoogte.
URL:https://joriskerkamersfoort.nl/evenement/meditatiemoment-met-de-stadsdominee-2/2023-12-06/
LOCATION:Sint-Joriskerk\, Hof 1\, Amersfoort\, 3811 CJ\, Nederland
ATTACH;FMTTYPE=image/jpeg:https://joriskerkamersfoort.nl/wp-content/uploads/2021/01/meditatiemoment-joriskerk-kaars-e1638434129897.jpg
GEO:52.1566965;5.3902512
X-APPLE-STRUCTURED-LOCATION;VALUE=URI;X-ADDRESS=Sint-Joriskerk Hof 1 Amersfoort 3811 CJ Nederland;X-APPLE-RADIUS=500;X-TITLE=Hof 1:geo:5.3902512,52.1566965
END:VEVENT
BEGIN:VEVENT
DTSTART;TZID=Europe/Amsterdam:20231206T200000
DTEND;TZID=Europe/Amsterdam:20231206T213000
DTSTAMP:20260421T135541
CREATED:20231011T095158Z
LAST-MODIFIED:20231011T095226Z
UID:10002863-1701892800-1701898200@joriskerkamersfoort.nl
SUMMARY:Spread the Love tour met Shirma Rouse & Dwight Dissels
DESCRIPTION:Na een succesvolle kersttour in 2022 bundelen Shirma Rouse en Dwight Dissels opnieuw hun krachten voor de tour “Spread the Love” in december 2023. Deze unieke samenwerking tussen de gospel/soul man en de Nederlandse Queen of Soul belooft een muzikale belevenis waarin diverse kerstklassiekers en gospels worden gezongen. Vanaf december zullen ze gezamenlijk optreden in verschillende prominente kerken door heel Nederland. \nShirma Rouse \nShirma Tamara Rouse\, ook wel de Dutch Queen of Soul genoemd\, werd geboren op Curaçao en is opgegroeid op Sint Eustatius. Shirma is niet meer weg te denken uit de Nederlandse muziekscene. Haar enorme bereik\, soulvolle en rijke stemgeluid maken haar tot één van de meest gevraagde zangeressen van Nederland. \nDwight Dissels \nDwight Dissels is vooral bekend vanwege zijn optreden in The Voice of Holland en The Passion in 2017. Geworteld in de gospelmuziek brengt hij een duidelijke boodschap van geloof\, hoop en liefde over via zijn nummers. Hoewel hij regelmatig te zien is op de Nederlandse televisie met soulful optredens\, heeft de gospelmuziek de weg voor hem geplaveid om de zanger te worden die hij tegenwoordig is.
URL:https://joriskerkamersfoort.nl/evenement/16743/
LOCATION:Sint-Joriskerk\, Hof 1\, Amersfoort\, 3811 CJ\, Nederland
ATTACH;FMTTYPE=image/jpeg:https://joriskerkamersfoort.nl/wp-content/uploads/2023/10/dsc03085-scaled.jpg
GEO:52.1566965;5.3902512
X-APPLE-STRUCTURED-LOCATION;VALUE=URI;X-ADDRESS=Sint-Joriskerk Hof 1 Amersfoort 3811 CJ Nederland;X-APPLE-RADIUS=500;X-TITLE=Hof 1:geo:5.3902512,52.1566965
END:VEVENT
END:VCALENDAR