BEGIN:VCALENDAR
VERSION:2.0
PRODID:-//Joriskerk Amersfoort - ECPv6.15.20//NONSGML v1.0//EN
CALSCALE:GREGORIAN
METHOD:PUBLISH
X-WR-CALNAME:Joriskerk Amersfoort
X-ORIGINAL-URL:https://joriskerkamersfoort.nl
X-WR-CALDESC:Evenementen voor Joriskerk Amersfoort
REFRESH-INTERVAL;VALUE=DURATION:PT1H
X-Robots-Tag:noindex
X-PUBLISHED-TTL:PT1H
BEGIN:VTIMEZONE
TZID:Europe/Amsterdam
BEGIN:DAYLIGHT
TZOFFSETFROM:+0100
TZOFFSETTO:+0200
TZNAME:CEST
DTSTART:20220327T010000
END:DAYLIGHT
BEGIN:STANDARD
TZOFFSETFROM:+0200
TZOFFSETTO:+0100
TZNAME:CET
DTSTART:20221030T010000
END:STANDARD
BEGIN:DAYLIGHT
TZOFFSETFROM:+0100
TZOFFSETTO:+0200
TZNAME:CEST
DTSTART:20230326T010000
END:DAYLIGHT
BEGIN:STANDARD
TZOFFSETFROM:+0200
TZOFFSETTO:+0100
TZNAME:CET
DTSTART:20231029T010000
END:STANDARD
BEGIN:DAYLIGHT
TZOFFSETFROM:+0100
TZOFFSETTO:+0200
TZNAME:CEST
DTSTART:20240331T010000
END:DAYLIGHT
BEGIN:STANDARD
TZOFFSETFROM:+0200
TZOFFSETTO:+0100
TZNAME:CET
DTSTART:20241027T010000
END:STANDARD
END:VTIMEZONE
BEGIN:VEVENT
DTSTART;TZID=Europe/Amsterdam:20231209T160000
DTEND;TZID=Europe/Amsterdam:20231209T170000
DTSTAMP:20260421T153411
CREATED:20231101T110243Z
LAST-MODIFIED:20231101T110451Z
UID:10002870-1702137600-1702141200@joriskerkamersfoort.nl
SUMMARY:Lessons and Carols kerstconcerten
DESCRIPTION:Na het succes van vorig jaar zijn er op zaterdag 9 december weer twee uitvoeringen van de Lessons and Carols door een groot koor en een blazersensemble in de prachtige Sint-Joriskerk in Amersfoort. De traditie van Lessons and Carols komt uit de Anglicaanse kerk. De uitvoering in Amersfoort is een religieus-humanistische variant van het Apostolisch Genootschap. Daarin worden kerstliedklassiekers (carols) afgewisseld met eigentijdse interpretaties van het kerstverhaal (lessons). \nInformatie\nEr zijn twee concerten mogelijk (van 16:00 – 17:00 uur & van 20:00 – 21:00 uur). In verband met het beperkte aantal plaatsen is snel reserveren aan te raden. De gratis kaarten zijn te verkrijgen via www.apgen.nl/lessonsandcarols. Na het concert kun je een vrijwillige bijdrage doen voor wat het je waard was. \nOver Apostolisch Genootschap\nAls plaats voor religieus-humanistische zingeving biedt Apostolisch Genootschap ontmoetingsplaatsen waar mensen zich samen verdiepen in levensvragen\, elkaar inspireren tot bewust en liefdevol leven en elkaar nabij zijn. Zo wil het genootschap bijdragen aan een duurzame wereld waar mensen met compassie en solidair samenleven.\napgen.nl
URL:https://joriskerkamersfoort.nl/evenement/lessons-and-carols-kerstconcert/2023-12-09/1/
LOCATION:Sint-Joriskerk\, Hof 1\, Amersfoort\, 3811 CJ\, Nederland
ATTACH;FMTTYPE=image/jpeg:https://joriskerkamersfoort.nl/wp-content/uploads/2023/11/kerstviering-lessons-and-carols.jpg
GEO:52.1566965;5.3902512
X-APPLE-STRUCTURED-LOCATION;VALUE=URI;X-ADDRESS=Sint-Joriskerk Hof 1 Amersfoort 3811 CJ Nederland;X-APPLE-RADIUS=500;X-TITLE=Hof 1:geo:5.3902512,52.1566965
END:VEVENT
BEGIN:VEVENT
DTSTART;TZID=Europe/Amsterdam:20231209T200000
DTEND;TZID=Europe/Amsterdam:20231209T210000
DTSTAMP:20260421T153411
CREATED:20231101T110243Z
LAST-MODIFIED:20231101T110451Z
UID:10002871-1702152000-1702155600@joriskerkamersfoort.nl
SUMMARY:Lessons and Carols kerstconcerten
DESCRIPTION:Na het succes van vorig jaar zijn er op zaterdag 9 december weer twee uitvoeringen van de Lessons and Carols door een groot koor en een blazersensemble in de prachtige Sint-Joriskerk in Amersfoort. De traditie van Lessons and Carols komt uit de Anglicaanse kerk. De uitvoering in Amersfoort is een religieus-humanistische variant van het Apostolisch Genootschap. Daarin worden kerstliedklassiekers (carols) afgewisseld met eigentijdse interpretaties van het kerstverhaal (lessons). \nInformatie\nEr zijn twee concerten mogelijk (van 16:00 – 17:00 uur & van 20:00 – 21:00 uur). In verband met het beperkte aantal plaatsen is snel reserveren aan te raden. De gratis kaarten zijn te verkrijgen via www.apgen.nl/lessonsandcarols. Na het concert kun je een vrijwillige bijdrage doen voor wat het je waard was. \nOver Apostolisch Genootschap\nAls plaats voor religieus-humanistische zingeving biedt Apostolisch Genootschap ontmoetingsplaatsen waar mensen zich samen verdiepen in levensvragen\, elkaar inspireren tot bewust en liefdevol leven en elkaar nabij zijn. Zo wil het genootschap bijdragen aan een duurzame wereld waar mensen met compassie en solidair samenleven.\napgen.nl
URL:https://joriskerkamersfoort.nl/evenement/lessons-and-carols-kerstconcert/2023-12-09/2/
LOCATION:Sint-Joriskerk\, Hof 1\, Amersfoort\, 3811 CJ\, Nederland
ATTACH;FMTTYPE=image/jpeg:https://joriskerkamersfoort.nl/wp-content/uploads/2023/11/kerstviering-lessons-and-carols.jpg
GEO:52.1566965;5.3902512
X-APPLE-STRUCTURED-LOCATION;VALUE=URI;X-ADDRESS=Sint-Joriskerk Hof 1 Amersfoort 3811 CJ Nederland;X-APPLE-RADIUS=500;X-TITLE=Hof 1:geo:5.3902512,52.1566965
END:VEVENT
END:VCALENDAR