BEGIN:VCALENDAR
VERSION:2.0
PRODID:-//Joriskerk Amersfoort - ECPv6.15.20//NONSGML v1.0//EN
CALSCALE:GREGORIAN
METHOD:PUBLISH
X-ORIGINAL-URL:https://joriskerkamersfoort.nl
X-WR-CALDESC:Evenementen voor Joriskerk Amersfoort
REFRESH-INTERVAL;VALUE=DURATION:PT1H
X-Robots-Tag:noindex
X-PUBLISHED-TTL:PT1H
BEGIN:VTIMEZONE
TZID:Europe/Amsterdam
BEGIN:DAYLIGHT
TZOFFSETFROM:+0100
TZOFFSETTO:+0200
TZNAME:CEST
DTSTART:20220327T010000
END:DAYLIGHT
BEGIN:STANDARD
TZOFFSETFROM:+0200
TZOFFSETTO:+0100
TZNAME:CET
DTSTART:20221030T010000
END:STANDARD
BEGIN:DAYLIGHT
TZOFFSETFROM:+0100
TZOFFSETTO:+0200
TZNAME:CEST
DTSTART:20230326T010000
END:DAYLIGHT
BEGIN:STANDARD
TZOFFSETFROM:+0200
TZOFFSETTO:+0100
TZNAME:CET
DTSTART:20231029T010000
END:STANDARD
BEGIN:DAYLIGHT
TZOFFSETFROM:+0100
TZOFFSETTO:+0200
TZNAME:CEST
DTSTART:20240331T010000
END:DAYLIGHT
BEGIN:STANDARD
TZOFFSETFROM:+0200
TZOFFSETTO:+0100
TZNAME:CET
DTSTART:20241027T010000
END:STANDARD
END:VTIMEZONE
BEGIN:VEVENT
DTSTART;TZID=Europe/Amsterdam:20231212T200000
DTEND;TZID=Europe/Amsterdam:20231212T221500
DTSTAMP:20260421T135631
CREATED:20231115T100251Z
LAST-MODIFIED:20231115T100332Z
UID:10002877-1702411200-1702419300@joriskerkamersfoort.nl
SUMMARY:Kerst met Sela - Immanuel\, God is met ons
DESCRIPTION:’De maagd zal zwanger zijn en een zoon baren\,\nen men zal Hem de naam Immanuel geven\,’\nwat in onze taal betekent: ‘God is met ons’.\nNBV21\, Mattheus 1 vers 23 \nSinds de 4e eeuw na Christus\, ergens tussen het jaar 300 en 400\, vieren christenen samen de geboorte van Jezus. Vanaf dat moment zal die rijke belofte uit het boek Jesaja\, herhaald door de evangelist Mattheus\, hebben geklonken. Jezus is geboren\, Gods grote belofte is vervuld. \nVoor wie nog niet eerder is geweest: een kerstconcert van Sela is een avond waar we samen deze magnifieke gebeurtenis herbeleven. Verstild\, intiem\, groots en feestelijk. Een (meezing)concert waar je de verbinding voelt met andere christenen om je heen. Samen God loven met een programma van nieuwe én bekende Sela-liederen in combinatie met oude vertrouwde kerstliederen.
URL:https://joriskerkamersfoort.nl/evenement/kerst-met-sela-immanuel-god-is-met-ons/
LOCATION:Sint-Joriskerk\, Hof 1\, Amersfoort\, 3811 CJ\, Nederland
GEO:52.1566965;5.3902512
X-APPLE-STRUCTURED-LOCATION;VALUE=URI;X-ADDRESS=Sint-Joriskerk Hof 1 Amersfoort 3811 CJ Nederland;X-APPLE-RADIUS=500;X-TITLE=Hof 1:geo:5.3902512,52.1566965
END:VEVENT
END:VCALENDAR