BEGIN:VCALENDAR
VERSION:2.0
PRODID:-//Joriskerk Amersfoort - ECPv6.15.20//NONSGML v1.0//EN
CALSCALE:GREGORIAN
METHOD:PUBLISH
X-WR-CALNAME:Joriskerk Amersfoort
X-ORIGINAL-URL:https://joriskerkamersfoort.nl
X-WR-CALDESC:Evenementen voor Joriskerk Amersfoort
REFRESH-INTERVAL;VALUE=DURATION:PT1H
X-Robots-Tag:noindex
X-PUBLISHED-TTL:PT1H
BEGIN:VTIMEZONE
TZID:Europe/Amsterdam
BEGIN:DAYLIGHT
TZOFFSETFROM:+0100
TZOFFSETTO:+0200
TZNAME:CEST
DTSTART:20220327T010000
END:DAYLIGHT
BEGIN:STANDARD
TZOFFSETFROM:+0200
TZOFFSETTO:+0100
TZNAME:CET
DTSTART:20221030T010000
END:STANDARD
BEGIN:DAYLIGHT
TZOFFSETFROM:+0100
TZOFFSETTO:+0200
TZNAME:CEST
DTSTART:20230326T010000
END:DAYLIGHT
BEGIN:STANDARD
TZOFFSETFROM:+0200
TZOFFSETTO:+0100
TZNAME:CET
DTSTART:20231029T010000
END:STANDARD
BEGIN:DAYLIGHT
TZOFFSETFROM:+0100
TZOFFSETTO:+0200
TZNAME:CEST
DTSTART:20240331T010000
END:DAYLIGHT
BEGIN:STANDARD
TZOFFSETFROM:+0200
TZOFFSETTO:+0100
TZNAME:CET
DTSTART:20241027T010000
END:STANDARD
END:VTIMEZONE
BEGIN:VEVENT
DTSTART;TZID=Europe/Amsterdam:20231219T193000
DTEND;TZID=Europe/Amsterdam:20231219T210000
DTSTAMP:20260421T153421
CREATED:20231115T103115Z
LAST-MODIFIED:20231115T103144Z
UID:10002881-1703014200-1703019600@joriskerkamersfoort.nl
SUMMARY:A Festival of Nine Lessons & Carols
DESCRIPTION:o.l.v. Wouter Verhage \nm.m.v. Rien Donkersloot – orgel   \nHilda Versluis en Marcel Treffers – trompet \nNet als vorig jaar  (zie hier) organiseren we ook dit jaar weer zelf een Festival of Lessons and Carols\, naar voorbeeld van de viering die in de Anglicaanse traditie vlak voor Kerstmis plaatsvindt. Aan de hand van korte bijbellezingen\, gedichten en andere teksten wordt het verhaal van de belofte\, aankondiging en komst van Jezus verteld. Deze ‘lessons’ worden omlijst met bekende en minder bekende Christmas Carols\, hymnen en andere koorwerken (de ‘carols’). Een deel van deze liederen kan worden meegezongen door de bezoekers. Het thema van deze editie is ‘Wie is toch dit kind?’. \nDe liturgische vorm Festival of Lessons and Carols komt uit de Anglicaanse traditie. De eerste liturgie in deze vorm werd in 1880 samengesteld door Edward Benson\, bisschop van Truro (Cornwall). Het werd gelijk een jaarlijkse traditie en al snel namen andere kerken de viering over. Tegenwoordig vinden dit soort vieringen overal ter wereld plaats. \nDe toegang is vrij (het is immers een viering en geen concert)\, maar aan de organisatie zijn wel aanzienlijke kosten verbonden. Om onze jaarlijkse traditie voort te kunnen zetten\, vragen we van onze bezoekers om bij de collecte naar draagkracht een redelijk deel te geven van wat voor een uitvoering in concertvorm wordt betaald. Met een bijdrage van gemiddeld tussen vijf en tien euro per persoon zijn we naar verwachting uit de kosten.
URL:https://joriskerkamersfoort.nl/evenement/a-festival-of-nine-lessons-carols/
LOCATION:Sint-Joriskerk\, Hof 1\, Amersfoort\, 3811 CJ\, Nederland
GEO:52.1566965;5.3902512
X-APPLE-STRUCTURED-LOCATION;VALUE=URI;X-ADDRESS=Sint-Joriskerk Hof 1 Amersfoort 3811 CJ Nederland;X-APPLE-RADIUS=500;X-TITLE=Hof 1:geo:5.3902512,52.1566965
END:VEVENT
END:VCALENDAR