BEGIN:VCALENDAR
VERSION:2.0
PRODID:-//Joriskerk Amersfoort - ECPv6.15.20//NONSGML v1.0//EN
CALSCALE:GREGORIAN
METHOD:PUBLISH
X-WR-CALNAME:Joriskerk Amersfoort
X-ORIGINAL-URL:https://joriskerkamersfoort.nl
X-WR-CALDESC:Evenementen voor Joriskerk Amersfoort
REFRESH-INTERVAL;VALUE=DURATION:PT1H
X-Robots-Tag:noindex
X-PUBLISHED-TTL:PT1H
BEGIN:VTIMEZONE
TZID:Europe/Amsterdam
BEGIN:DAYLIGHT
TZOFFSETFROM:+0100
TZOFFSETTO:+0200
TZNAME:CEST
DTSTART:20220327T010000
END:DAYLIGHT
BEGIN:STANDARD
TZOFFSETFROM:+0200
TZOFFSETTO:+0100
TZNAME:CET
DTSTART:20221030T010000
END:STANDARD
BEGIN:DAYLIGHT
TZOFFSETFROM:+0100
TZOFFSETTO:+0200
TZNAME:CEST
DTSTART:20230326T010000
END:DAYLIGHT
BEGIN:STANDARD
TZOFFSETFROM:+0200
TZOFFSETTO:+0100
TZNAME:CET
DTSTART:20231029T010000
END:STANDARD
BEGIN:DAYLIGHT
TZOFFSETFROM:+0100
TZOFFSETTO:+0200
TZNAME:CEST
DTSTART:20240331T010000
END:DAYLIGHT
BEGIN:STANDARD
TZOFFSETFROM:+0200
TZOFFSETTO:+0100
TZNAME:CET
DTSTART:20241027T010000
END:STANDARD
END:VTIMEZONE
BEGIN:VEVENT
DTSTART;TZID=Europe/Amsterdam:20231223T193000
DTEND;TZID=Europe/Amsterdam:20231223T220000
DTSTAMP:20260422T040158
CREATED:20231115T105245Z
LAST-MODIFIED:20231115T105245Z
UID:10002883-1703359800-1703368800@joriskerkamersfoort.nl
SUMMARY:Cantate Deo zingt Koralen - Het Kerstlied door de eeuwen heen
DESCRIPTION:D.V. zaterdag 23 december 2023 \nKerstconcert in de Sint Joriskerk \nThema: ‘Cantate Deo zingt Koralen – Het Kerstlied door de eeuwen heen’\n \nAanvang: 19.30 uur (kerk open: 19.00 uur ) \nm.m.v. \n\n\nChristelijk Gemengd Koor “Cantate Deo” uit Amersfoort o.l.v. Mark Brandwijk\n\nJohan van der Graaf\, orgel\nArjan Wouters\, vleugel\nNanette Mans\, sopraan\nEvelyn Heuvelmans\, hobo\nSeverin van Dijk\, dwarsfluit\nDs. P.W.J. van der Toorn\, spreker\n\nKaartverkoop via www.koopjekaartje.nl
URL:https://joriskerkamersfoort.nl/evenement/cantate-deo-zingt-koralen-het-kerstlied-door-de-eeuwen-heen/
LOCATION:Sint-Joriskerk\, Hof 1\, Amersfoort\, 3811 CJ\, Nederland
GEO:52.1566965;5.3902512
X-APPLE-STRUCTURED-LOCATION;VALUE=URI;X-ADDRESS=Sint-Joriskerk Hof 1 Amersfoort 3811 CJ Nederland;X-APPLE-RADIUS=500;X-TITLE=Hof 1:geo:5.3902512,52.1566965
END:VEVENT
END:VCALENDAR