BEGIN:VCALENDAR
VERSION:2.0
PRODID:-//Joriskerk Amersfoort - ECPv6.15.20//NONSGML v1.0//EN
CALSCALE:GREGORIAN
METHOD:PUBLISH
X-ORIGINAL-URL:https://joriskerkamersfoort.nl
X-WR-CALDESC:Evenementen voor Joriskerk Amersfoort
REFRESH-INTERVAL;VALUE=DURATION:PT1H
X-Robots-Tag:noindex
X-PUBLISHED-TTL:PT1H
BEGIN:VTIMEZONE
TZID:Europe/Amsterdam
BEGIN:DAYLIGHT
TZOFFSETFROM:+0100
TZOFFSETTO:+0200
TZNAME:CEST
DTSTART:20230326T010000
END:DAYLIGHT
BEGIN:STANDARD
TZOFFSETFROM:+0200
TZOFFSETTO:+0100
TZNAME:CET
DTSTART:20231029T010000
END:STANDARD
BEGIN:DAYLIGHT
TZOFFSETFROM:+0100
TZOFFSETTO:+0200
TZNAME:CEST
DTSTART:20240331T010000
END:DAYLIGHT
BEGIN:STANDARD
TZOFFSETFROM:+0200
TZOFFSETTO:+0100
TZNAME:CET
DTSTART:20241027T010000
END:STANDARD
BEGIN:DAYLIGHT
TZOFFSETFROM:+0100
TZOFFSETTO:+0200
TZNAME:CEST
DTSTART:20250330T010000
END:DAYLIGHT
BEGIN:STANDARD
TZOFFSETFROM:+0200
TZOFFSETTO:+0100
TZNAME:CET
DTSTART:20251026T010000
END:STANDARD
END:VTIMEZONE
BEGIN:VEVENT
DTSTART;TZID=Europe/Amsterdam:20240101T153000
DTEND;TZID=Europe/Amsterdam:20240101T170000
DTSTAMP:20260421T135553
CREATED:20231115T105736Z
LAST-MODIFIED:20231115T105736Z
UID:10002885-1704123000-1704128400@joriskerkamersfoort.nl
SUMMARY:Nieuwjaarsconcert door Orgelconcerten Sint-Joriskerk
DESCRIPTION:Op maandag 1 januari 2024 concerteert Rien Donkersloot ‘Bach op Nieuwjaarsdag’ op hoofd- en koororgel met uitsluitend muziek van Johann Sebastian Bach. Op het programma staan onder andere Preludium en Fuga in c moll BWV 539 en 575 en diverse koraalbewerkingen op het koororgel. Op het hoofdorgel speelt hij Preludium und Fuge in c moll\, BWV 546\, Aria ‘Die Seele ruht in Jesu Händen’\, BWV 127 (in een arrangement Albert van der Hoeven)\, het Concerto in Es BWV 597 en Preludium und Fuge in D\, BWV 532.
URL:https://joriskerkamersfoort.nl/evenement/nieuwjaarsconcert-door-orgelconcerten-sint-joriskerk/
LOCATION:Sint-Joriskerk\, Hof 1\, Amersfoort\, 3811 CJ\, Nederland
ATTACH;FMTTYPE=image/jpeg:https://joriskerkamersfoort.nl/wp-content/uploads/2015/10/orgel-sint-joriskerk-amersfoort.jpg
GEO:52.1566965;5.3902512
X-APPLE-STRUCTURED-LOCATION;VALUE=URI;X-ADDRESS=Sint-Joriskerk Hof 1 Amersfoort 3811 CJ Nederland;X-APPLE-RADIUS=500;X-TITLE=Hof 1:geo:5.3902512,52.1566965
END:VEVENT
END:VCALENDAR