BEGIN:VCALENDAR
VERSION:2.0
PRODID:-//Joriskerk Amersfoort - ECPv6.15.19//NONSGML v1.0//EN
CALSCALE:GREGORIAN
METHOD:PUBLISH
X-ORIGINAL-URL:https://joriskerkamersfoort.nl
X-WR-CALDESC:Evenementen voor Joriskerk Amersfoort
REFRESH-INTERVAL;VALUE=DURATION:PT1H
X-Robots-Tag:noindex
X-PUBLISHED-TTL:PT1H
BEGIN:VTIMEZONE
TZID:Europe/Amsterdam
BEGIN:DAYLIGHT
TZOFFSETFROM:+0100
TZOFFSETTO:+0200
TZNAME:CEST
DTSTART:20230326T010000
END:DAYLIGHT
BEGIN:STANDARD
TZOFFSETFROM:+0200
TZOFFSETTO:+0100
TZNAME:CET
DTSTART:20231029T010000
END:STANDARD
BEGIN:DAYLIGHT
TZOFFSETFROM:+0100
TZOFFSETTO:+0200
TZNAME:CEST
DTSTART:20240331T010000
END:DAYLIGHT
BEGIN:STANDARD
TZOFFSETFROM:+0200
TZOFFSETTO:+0100
TZNAME:CET
DTSTART:20241027T010000
END:STANDARD
BEGIN:DAYLIGHT
TZOFFSETFROM:+0100
TZOFFSETTO:+0200
TZNAME:CEST
DTSTART:20250330T010000
END:DAYLIGHT
BEGIN:STANDARD
TZOFFSETFROM:+0200
TZOFFSETTO:+0100
TZNAME:CET
DTSTART:20251026T010000
END:STANDARD
END:VTIMEZONE
BEGIN:VEVENT
DTSTART;TZID=Europe/Amsterdam:20240420T160000
DTEND;TZID=Europe/Amsterdam:20240420T170000
DTSTAMP:20260421T065737
CREATED:20240301T083234Z
LAST-MODIFIED:20240419T075404Z
UID:10003277-1713628800-1713632400@joriskerkamersfoort.nl
SUMMARY:Ingebruikname Strubbe orgelpositief - Rien Donkersloot
DESCRIPTION:Iedereen is welkom bij de klankdemonstratie van het Strubbe-orgel in de Sint-Joriskerk in Amersfoort op zaterdag 20 april. Jorisorganist Rien Donkersloot verzorgt de demonstratie en geeft daarna een concert op het orgel. \nHet Strubbe-orgel is in 1977 gebouwd voor woonzorginsteling De Lichtenberg in Amersfoort. Toen het huis sloot\, werd het overgeplaatst naar de Sint-Joriskerk. Het werd gerestaureerd en in nieuwe kleuren geschilderd. De Sifflet 1’ werd opgeschoven tot 1 1/3’. Het orgel werd gestemd in de zogenoemde Middentoonstemming\, waardoor het geschikt is voor het uitvoeren van oude muziek\, met componisten als Jan Pieterszoon Sweelinck.\nDe demonstratie op Zaterdag 20 april begint om 16.00 uur. De toegang is vrij. \nEr zijn op deze zaterdag meer orgelactiviteiten in de Joriskerk. Organist Frank van Wijk demonstreert van 14:00 tot 16:00 uur het Naber-hoofdorgel en het Metzler/Edskes-koororgel voor leden van de Stichting Internationale Orgelreizen. Belangstellenden van de concerten van de Sint-Joriskerk mogen daarbij aanwezig zijn. Ook hiervan is de toegang vrij. \nNa afloop van het concert op het Strubbe-orgel wordt er een drankje en een nootje geserveerd.
URL:https://joriskerkamersfoort.nl/evenement/ingebruikname-strubbe-orgelpositief-rien-donkersloot/
LOCATION:Sint-Joriskerk\, Hof 1\, Amersfoort\, 3811 CJ\, Nederland
ATTACH;FMTTYPE=image/webp:https://joriskerkamersfoort.nl/wp-content/uploads/2024/02/strubbe-orgelpositief.webp
GEO:52.1566965;5.3902512
X-APPLE-STRUCTURED-LOCATION;VALUE=URI;X-ADDRESS=Sint-Joriskerk Hof 1 Amersfoort 3811 CJ Nederland;X-APPLE-RADIUS=500;X-TITLE=Hof 1:geo:5.3902512,52.1566965
END:VEVENT
END:VCALENDAR