BEGIN:VCALENDAR
VERSION:2.0
PRODID:-//Joriskerk Amersfoort - ECPv6.15.20//NONSGML v1.0//EN
CALSCALE:GREGORIAN
METHOD:PUBLISH
X-WR-CALNAME:Joriskerk Amersfoort
X-ORIGINAL-URL:https://joriskerkamersfoort.nl
X-WR-CALDESC:Evenementen voor Joriskerk Amersfoort
REFRESH-INTERVAL;VALUE=DURATION:PT1H
X-Robots-Tag:noindex
X-PUBLISHED-TTL:PT1H
BEGIN:VTIMEZONE
TZID:Europe/Amsterdam
BEGIN:DAYLIGHT
TZOFFSETFROM:+0100
TZOFFSETTO:+0200
TZNAME:CEST
DTSTART:20230326T010000
END:DAYLIGHT
BEGIN:STANDARD
TZOFFSETFROM:+0200
TZOFFSETTO:+0100
TZNAME:CET
DTSTART:20231029T010000
END:STANDARD
BEGIN:DAYLIGHT
TZOFFSETFROM:+0100
TZOFFSETTO:+0200
TZNAME:CEST
DTSTART:20240331T010000
END:DAYLIGHT
BEGIN:STANDARD
TZOFFSETFROM:+0200
TZOFFSETTO:+0100
TZNAME:CET
DTSTART:20241027T010000
END:STANDARD
BEGIN:DAYLIGHT
TZOFFSETFROM:+0100
TZOFFSETTO:+0200
TZNAME:CEST
DTSTART:20250330T010000
END:DAYLIGHT
BEGIN:STANDARD
TZOFFSETFROM:+0200
TZOFFSETTO:+0100
TZNAME:CET
DTSTART:20251026T010000
END:STANDARD
END:VTIMEZONE
BEGIN:VEVENT
DTSTART;TZID=Europe/Amsterdam:20240425T194500
DTEND;TZID=Europe/Amsterdam:20240425T221500
DTSTAMP:20260421T172015
CREATED:20240301T084128Z
LAST-MODIFIED:20240301T084710Z
UID:10003279-1714074300-1714083300@joriskerkamersfoort.nl
SUMMARY:Oranjeconcert ‘Vrede & Vrijheid’ met Cantate Deo
DESCRIPTION:Oranjeconcert ‘Vrede & Vrijheid’ met Cantate Deo in Amersfoort. Door het Chr. Gemengd koor Cantate Deo. \n o.l.v. Mark Brandwijk\nM.m.v. Brassband Amersfoort o.l.v. Vincent Verhage\nJohan van der Graaf\, orgel\nArjan Wouters\,vleugel \nm.m.v. \n\n\nChristelijk Gemengd Koor “Cantate Deo” uit Amersfoort o.l.v. Mark Brandwijk\n\nBrassband Amersfoort o.l.v. Vincent Verhage\nJohan van der Graaf\, hoofdorgel\nArjan Wouters\, koororgel en vleugel\n\nKaartjes\nDe toegangsprijs voor volwassenen is in de voorverkoop: € 5\,00 en aan de kerk € 12\,50 per persoon. Voor kinderen tot en met 15 jaar is de toegang gratis. Bestel hier de toegangskaarten voor dit concert
URL:https://joriskerkamersfoort.nl/evenement/oranjeconcert-vrede-vrijheid-met-cantate-deo/
LOCATION:Sint-Joriskerk\, Hof 1\, Amersfoort\, 3811 CJ\, Nederland
GEO:52.1566965;5.3902512
X-APPLE-STRUCTURED-LOCATION;VALUE=URI;X-ADDRESS=Sint-Joriskerk Hof 1 Amersfoort 3811 CJ Nederland;X-APPLE-RADIUS=500;X-TITLE=Hof 1:geo:5.3902512,52.1566965
END:VEVENT
END:VCALENDAR