BEGIN:VCALENDAR
VERSION:2.0
PRODID:-//Joriskerk Amersfoort - ECPv6.15.19//NONSGML v1.0//EN
CALSCALE:GREGORIAN
METHOD:PUBLISH
X-ORIGINAL-URL:https://joriskerkamersfoort.nl
X-WR-CALDESC:Evenementen voor Joriskerk Amersfoort
REFRESH-INTERVAL;VALUE=DURATION:PT1H
X-Robots-Tag:noindex
X-PUBLISHED-TTL:PT1H
BEGIN:VTIMEZONE
TZID:Europe/Amsterdam
BEGIN:DAYLIGHT
TZOFFSETFROM:+0100
TZOFFSETTO:+0200
TZNAME:CEST
DTSTART:20230326T010000
END:DAYLIGHT
BEGIN:STANDARD
TZOFFSETFROM:+0200
TZOFFSETTO:+0100
TZNAME:CET
DTSTART:20231029T010000
END:STANDARD
BEGIN:DAYLIGHT
TZOFFSETFROM:+0100
TZOFFSETTO:+0200
TZNAME:CEST
DTSTART:20240331T010000
END:DAYLIGHT
BEGIN:STANDARD
TZOFFSETFROM:+0200
TZOFFSETTO:+0100
TZNAME:CET
DTSTART:20241027T010000
END:STANDARD
BEGIN:DAYLIGHT
TZOFFSETFROM:+0100
TZOFFSETTO:+0200
TZNAME:CEST
DTSTART:20250330T010000
END:DAYLIGHT
BEGIN:STANDARD
TZOFFSETFROM:+0200
TZOFFSETTO:+0100
TZNAME:CET
DTSTART:20251026T010000
END:STANDARD
END:VTIMEZONE
BEGIN:VEVENT
DTSTART;TZID=Europe/Amsterdam:20240427T120000
DTEND;TZID=Europe/Amsterdam:20240427T160000
DTSTAMP:20260421T050331
CREATED:20240327T110150Z
LAST-MODIFIED:20240327T110150Z
UID:10003286-1714219200-1714233600@joriskerkamersfoort.nl
SUMMARY:Kinderspeurtocht door de Sint-Joriskerk
DESCRIPTION:Wil jij op speurtocht in de Sint-Joriskerk? Welke mooie plekken kun jij vinden en los jij alle opdrachten op? Kom langs! Tijdens sommige zaterdagen in de lente zijn alle kinderen (gratis) welkom om een speurtocht te komen doen. De speurtocht en meer informatie vind je bij de ingang. \nInformatie\nDe kerk is op geselecteerde zaterdagen geopend van 12:00 – 16:00 uur. Kinderen tot 12 jaar gratis! De speurtocht is gratis\, begeleiding van een volwassene wel verplicht. Entree kost €2 voor mensen boven de 12 jaar.
URL:https://joriskerkamersfoort.nl/evenement/kinderspeurtocht-door-de-sint-joriskerk/2024-04-27/
LOCATION:Sint-Joriskerk\, Hof 1\, Amersfoort\, 3811 CJ\, Nederland
ATTACH;FMTTYPE=image/jpeg:https://joriskerkamersfoort.nl/wp-content/uploads/2019/04/img_0293.jpg
GEO:52.1566965;5.3902512
X-APPLE-STRUCTURED-LOCATION;VALUE=URI;X-ADDRESS=Sint-Joriskerk Hof 1 Amersfoort 3811 CJ Nederland;X-APPLE-RADIUS=500;X-TITLE=Hof 1:geo:5.3902512,52.1566965
END:VEVENT
BEGIN:VEVENT
DTSTART;TZID=Europe/Amsterdam:20240427T120000
DTEND;TZID=Europe/Amsterdam:20240427T160000
DTSTAMP:20260421T050331
CREATED:20240419T080217Z
LAST-MODIFIED:20240419T080350Z
UID:10003282-1714219200-1714233600@joriskerkamersfoort.nl
SUMMARY:Open tijdens Koningsdag 2024
DESCRIPTION:Tijdens Koningsdag bent u van harte welkom om de kerk te bezichtigen\, even bij te komen van de drukte op straat of om met uw kind een (gratis!) speurtocht door de kerk te doen! \nInformatie\nDe kerk is geopend van 12:00 – 16:00 uur. Entree kost €2\, toegang tot 12 jaar of als Vriend van de Joriskerk gratis.
URL:https://joriskerkamersfoort.nl/evenement/lenteopenstelling-2024-2/
LOCATION:Sint-Joriskerk\, Hof 1\, Amersfoort\, 3811 CJ\, Nederland
ATTACH;FMTTYPE=image/jpeg:https://joriskerkamersfoort.nl/wp-content/uploads/2019/04/img_0233-1.jpg
GEO:52.1566965;5.3902512
X-APPLE-STRUCTURED-LOCATION;VALUE=URI;X-ADDRESS=Sint-Joriskerk Hof 1 Amersfoort 3811 CJ Nederland;X-APPLE-RADIUS=500;X-TITLE=Hof 1:geo:5.3902512,52.1566965
END:VEVENT
END:VCALENDAR