BEGIN:VCALENDAR
VERSION:2.0
PRODID:-//Joriskerk Amersfoort - ECPv6.15.19//NONSGML v1.0//EN
CALSCALE:GREGORIAN
METHOD:PUBLISH
X-WR-CALNAME:Joriskerk Amersfoort
X-ORIGINAL-URL:https://joriskerkamersfoort.nl
X-WR-CALDESC:Evenementen voor Joriskerk Amersfoort
REFRESH-INTERVAL;VALUE=DURATION:PT1H
X-Robots-Tag:noindex
X-PUBLISHED-TTL:PT1H
BEGIN:VTIMEZONE
TZID:Europe/Amsterdam
BEGIN:DAYLIGHT
TZOFFSETFROM:+0100
TZOFFSETTO:+0200
TZNAME:CEST
DTSTART:20230326T010000
END:DAYLIGHT
BEGIN:STANDARD
TZOFFSETFROM:+0200
TZOFFSETTO:+0100
TZNAME:CET
DTSTART:20231029T010000
END:STANDARD
BEGIN:DAYLIGHT
TZOFFSETFROM:+0100
TZOFFSETTO:+0200
TZNAME:CEST
DTSTART:20240331T010000
END:DAYLIGHT
BEGIN:STANDARD
TZOFFSETFROM:+0200
TZOFFSETTO:+0100
TZNAME:CET
DTSTART:20241027T010000
END:STANDARD
BEGIN:DAYLIGHT
TZOFFSETFROM:+0100
TZOFFSETTO:+0200
TZNAME:CEST
DTSTART:20250330T010000
END:DAYLIGHT
BEGIN:STANDARD
TZOFFSETFROM:+0200
TZOFFSETTO:+0100
TZNAME:CET
DTSTART:20251026T010000
END:STANDARD
END:VTIMEZONE
BEGIN:VEVENT
DTSTART;TZID=Europe/Amsterdam:20240821T090000
DTEND;TZID=Europe/Amsterdam:20240821T093000
DTSTAMP:20260420T161903
CREATED:20230412T135426Z
LAST-MODIFIED:20240606T131431Z
UID:10001990-1724230800-1724232600@joriskerkamersfoort.nl
SUMMARY:Meditatiemoment met de Stadsdominee
DESCRIPTION:Iedereen is welkom en meedoen is eenvoudig. \nZorg dat je even voor 9 uur bij de zijdeur van de Sint Joriskerk bent (Zevenhuizen 3\, tegenover café Nul33). Diederiek van Loo begeleidt de groep dan naar de mooiste plaatsen in de kerk. Daar brandt de Paaskaars\, mensen groeten en gaan zitten. Ieder in de stilte. Om 9 uur begint na een gongslag 25 minuten stilte. Er zijn geen teksten\, geen oefeningen\, geen gesprek. Geniet van de ruimte voor jezelf. De hele dag voelt anders aan\, na zo’n begin. \nWil je eerst wat meer informatie of heb je een vraag\, mail dan de Stadsdominee. \nN.B. af en toe is de Sint Joriskerk bezet en dan vindt de stiltemeditatie plaats in de Amersfoortse Zwaan. Hiervoor is een mailgroep die op de hoogte wordt gesteld van dit soort wijzigingen. Wil je je naam op die lijst hebben\, stuur mij dan even een mailtje\, dan ben je altijd op de hoogte.
URL:https://joriskerkamersfoort.nl/evenement/meditatiemoment-met-de-stadsdominee-2/2024-08-21/
LOCATION:Sint-Joriskerk\, Hof 1\, Amersfoort\, 3811 CJ\, Nederland
ATTACH;FMTTYPE=image/jpeg:https://joriskerkamersfoort.nl/wp-content/uploads/2021/01/meditatiemoment-joriskerk-kaars-e1638434129897.jpg
GEO:52.1566965;5.3902512
X-APPLE-STRUCTURED-LOCATION;VALUE=URI;X-ADDRESS=Sint-Joriskerk Hof 1 Amersfoort 3811 CJ Nederland;X-APPLE-RADIUS=500;X-TITLE=Hof 1:geo:5.3902512,52.1566965
END:VEVENT
BEGIN:VEVENT
DTSTART;TZID=Europe/Amsterdam:20240821T110000
DTEND;TZID=Europe/Amsterdam:20240821T170000
DTSTAMP:20260420T161903
CREATED:20240119T133942Z
LAST-MODIFIED:20241024T192752Z
UID:10002955-1724238000-1724259600@joriskerkamersfoort.nl
SUMMARY:Zomeropenstelling Sint-Joriskerk
DESCRIPTION:Als Stadskerk binnen Amersfoort openen wij elke zomer onze deuren. De zomeropenstelling van 2024 loopt van dinsdag 28 mei t/m zaterdag 2 november 2024. Wij heten dan iedereen van harte welkom om onze kerk te bezoeken en bewonderen. \nJaarthema\nTijdens de zomeropenstelling organiseren we diverse exposities van kunstenaars uit de stad\, regio en het land. Dit jaar is in Amersfoort het toeristische jaarthema “Water” gekozen. Water is van levensbelang voor de stad en wij vinden onze oorsprong dan ook in Water. Alle kunstwerken van de vier exposities in 2024 sluiten aan op dit thema. \nMeer informatie\nKom langs tussen 28 mei en 2 november 2024. We zijn dan open van dinsdag t/m zaterdag tussen 11:00 en 17:00 uur. Entree kost €2\, toegang tot 12 jaar of als Vriend van de Joriskerk gratis. \nGesloten vanwege verhuur:\n \nLaatste datum openstelling valt op 30 oktober 2024.
URL:https://joriskerkamersfoort.nl/evenement/zomeropenstelling-sint-joriskerk/2024-08-21/
LOCATION:Sint-Joriskerk\, Hof 1\, Amersfoort\, 3811 CJ\, Nederland
ATTACH;FMTTYPE=image/jpeg:https://joriskerkamersfoort.nl/wp-content/uploads/2024/01/openstelling-2024.jpg
GEO:52.1566965;5.3902512
X-APPLE-STRUCTURED-LOCATION;VALUE=URI;X-ADDRESS=Sint-Joriskerk Hof 1 Amersfoort 3811 CJ Nederland;X-APPLE-RADIUS=500;X-TITLE=Hof 1:geo:5.3902512,52.1566965
END:VEVENT
BEGIN:VEVENT
DTSTART;TZID=Europe/Amsterdam:20240821T110000
DTEND;TZID=Europe/Amsterdam:20240821T170000
DTSTAMP:20260420T161903
CREATED:20240419T100605Z
LAST-MODIFIED:20240917T202412Z
UID:10003713-1724238000-1724259600@joriskerkamersfoort.nl
SUMMARY:Expositie “Aqua-Art” van Galerie Absoluut
DESCRIPTION:Galerie Absoluut is een eigenzinnige groep kunstenaars zonder galerie\, die regelmatig exposities organiseert. Ook dit jaar mogen zij weer in de Sint-Joriskerk exposeren. De kunstenaars willen graag hun nieuwste werk laten zien en hebben als titel Aqua-Art gekozen. \nBinnen Galerie Absoluut zijn er schilders\, beeldhouwers\, fotografen en een textiel kunstenaar. Hun werk is zeer gevarieerd\, vaak geïnspireerd op landschap en natuur maar dan eerder abstract weergegeven. Ook de mens is inspiratiebron. \nFeestelijke opening\nDe feestelijke opening van Aqua-Art is op vrijdag 23 augustus 2024 om 15:00 uur. De expositie loopt van 20 augustus t/m 21 september 2024. \nOpeningstijden\nDe Sint-Joriskerk is geopend van dinsdag t/m zaterdag van 11 tot 17 uur. Op vrijdagmiddagen zijn er kunstenaars van Galerie Absoluut aanwezig\, van 15 tot 17 uur. Toegang tot de Sint-Joriskerk kost 2 euro\, ter ondersteuning van het onderhoud. \nGesloten vanwege verhuur\n \nLet op: incidenteel is de kerk gesloten voor privé-verhuur. \n\nDonderdag 19 september\nZaterdag 21 september 14.00 – 17.00\nZaterdag 28 september\n\n 
URL:https://joriskerkamersfoort.nl/evenement/expositie-aqua-art-van-galerie-absoluut/2024-08-21/
LOCATION:Sint-Joriskerk\, Hof 1\, Amersfoort\, 3811 CJ\, Nederland
ATTACH;FMTTYPE=image/jpeg:https://joriskerkamersfoort.nl/wp-content/uploads/2024/08/poster_a3_aquaart_07-2024_2-1_page-0001.jpg
GEO:52.1566965;5.3902512
X-APPLE-STRUCTURED-LOCATION;VALUE=URI;X-ADDRESS=Sint-Joriskerk Hof 1 Amersfoort 3811 CJ Nederland;X-APPLE-RADIUS=500;X-TITLE=Hof 1:geo:5.3902512,52.1566965
END:VEVENT
BEGIN:VEVENT
DTSTART;TZID=Europe/Amsterdam:20240821T200000
DTEND;TZID=Europe/Amsterdam:20240821T210000
DTSTAMP:20260420T161903
CREATED:20240606T130807Z
LAST-MODIFIED:20240606T130807Z
UID:10003335-1724270400-1724274000@joriskerkamersfoort.nl
SUMMARY:Zomers orgelconcert: Rien Donkersloot
DESCRIPTION:Welkom tijdens de zomerse orgelconcerten in de Sint-Joriskerk! Deze zomer kunt u weer genieten van orgelconcerten op de woensdagavonden vanaf 3 juli tot 11 september. We heten u van harte welkom vanaf 20.00 uur. Deze reeks concerten wordt georganiseerd door Orgelconcerten Joriskerk. \nOver dit concert \n21 augustus – Rien Donkersloot speelt zijn tweede concert in de zomerserie op het Strubbe positief en op het koororgel. Op de nieuwe aanwinst in de kerk improviseert hij en speelt hij muziek uit het Camphuysen manuscript (2e helft van de 17e eeuw) en op het koororgel werken van Nicolaus Bruhns\, Johann Nicolaus Hanff\, J.S. Bach en Guy Bovet. Hij sluit af met een improvisatie. \nInformatie \nHet concert begint om 20.00 uur. Toegang €10 (t/m 18 jaar gratis)\, inclusief koffie en thee vooraf en na afloop.
URL:https://joriskerkamersfoort.nl/evenement/zomers-orgelconcert-rien-donkersloot-4/
LOCATION:Sint-Joriskerk\, Hof 1\, Amersfoort\, 3811 CJ\, Nederland
ATTACH;FMTTYPE=image/jpeg:https://joriskerkamersfoort.nl/wp-content/uploads/2024/06/cpdf_affiche-zomerserie-2024-a6-afbeelding.jpg
GEO:52.1566965;5.3902512
X-APPLE-STRUCTURED-LOCATION;VALUE=URI;X-ADDRESS=Sint-Joriskerk Hof 1 Amersfoort 3811 CJ Nederland;X-APPLE-RADIUS=500;X-TITLE=Hof 1:geo:5.3902512,52.1566965
END:VEVENT
END:VCALENDAR