BEGIN:VCALENDAR
VERSION:2.0
PRODID:-//Joriskerk Amersfoort - ECPv6.15.19//NONSGML v1.0//EN
CALSCALE:GREGORIAN
METHOD:PUBLISH
X-WR-CALNAME:Joriskerk Amersfoort
X-ORIGINAL-URL:https://joriskerkamersfoort.nl
X-WR-CALDESC:Evenementen voor Joriskerk Amersfoort
REFRESH-INTERVAL;VALUE=DURATION:PT1H
X-Robots-Tag:noindex
X-PUBLISHED-TTL:PT1H
BEGIN:VTIMEZONE
TZID:Europe/Amsterdam
BEGIN:DAYLIGHT
TZOFFSETFROM:+0100
TZOFFSETTO:+0200
TZNAME:CEST
DTSTART:20230326T010000
END:DAYLIGHT
BEGIN:STANDARD
TZOFFSETFROM:+0200
TZOFFSETTO:+0100
TZNAME:CET
DTSTART:20231029T010000
END:STANDARD
BEGIN:DAYLIGHT
TZOFFSETFROM:+0100
TZOFFSETTO:+0200
TZNAME:CEST
DTSTART:20240331T010000
END:DAYLIGHT
BEGIN:STANDARD
TZOFFSETFROM:+0200
TZOFFSETTO:+0100
TZNAME:CET
DTSTART:20241027T010000
END:STANDARD
BEGIN:DAYLIGHT
TZOFFSETFROM:+0100
TZOFFSETTO:+0200
TZNAME:CEST
DTSTART:20250330T010000
END:DAYLIGHT
BEGIN:STANDARD
TZOFFSETFROM:+0200
TZOFFSETTO:+0100
TZNAME:CET
DTSTART:20251026T010000
END:STANDARD
END:VTIMEZONE
BEGIN:VEVENT
DTSTART;TZID=Europe/Amsterdam:20240929T143000
DTEND;TZID=Europe/Amsterdam:20240929T170000
DTSTAMP:20260420T123924
CREATED:20240627T100524Z
LAST-MODIFIED:20240929T070034Z
UID:10003360-1727620200-1727629200@joriskerkamersfoort.nl
SUMMARY:Momentum
DESCRIPTION:Iedere zondagmiddag van mei tot en met september is de Sint Joriskerk opengesteld tijdens ‘Momentum’. Tussen 14.30 en 17.00 uur kun je binnenwandelen voor een gratis bezoekje aan deze eeuwenoude kerk. Je kunt de Joriskerk bekijken\, een kaarsje aansteken\, tot bezinning komen of een gesprekje aangaan. Om 15.00 uur en om 16.00 uur is er een kort liturgisch moment met live muziek\, bijbellezing\, stilte en gebed. Iedere week werken andere musici mee aan dit gevarieerde programma. \nMomentum wordt al 10 jaar georganiseerd door vrijwilligers van de Raad van Kerken Amersfoort.
URL:https://joriskerkamersfoort.nl/evenement/momentum/2024-09-29/
LOCATION:Sint-Joriskerk\, Hof 1\, Amersfoort\, 3811 CJ\, Nederland
ATTACH;FMTTYPE=image/jpeg:https://joriskerkamersfoort.nl/wp-content/uploads/2024/06/img_20240505_153438-scaled.jpg
GEO:52.1566965;5.3902512
X-APPLE-STRUCTURED-LOCATION;VALUE=URI;X-ADDRESS=Sint-Joriskerk Hof 1 Amersfoort 3811 CJ Nederland;X-APPLE-RADIUS=500;X-TITLE=Hof 1:geo:5.3902512,52.1566965
END:VEVENT
END:VCALENDAR