BEGIN:VCALENDAR
VERSION:2.0
PRODID:-//Joriskerk Amersfoort - ECPv6.15.19//NONSGML v1.0//EN
CALSCALE:GREGORIAN
METHOD:PUBLISH
X-ORIGINAL-URL:https://joriskerkamersfoort.nl
X-WR-CALDESC:Evenementen voor Joriskerk Amersfoort
REFRESH-INTERVAL;VALUE=DURATION:PT1H
X-Robots-Tag:noindex
X-PUBLISHED-TTL:PT1H
BEGIN:VTIMEZONE
TZID:Europe/Amsterdam
BEGIN:DAYLIGHT
TZOFFSETFROM:+0100
TZOFFSETTO:+0200
TZNAME:CEST
DTSTART:20230326T010000
END:DAYLIGHT
BEGIN:STANDARD
TZOFFSETFROM:+0200
TZOFFSETTO:+0100
TZNAME:CET
DTSTART:20231029T010000
END:STANDARD
BEGIN:DAYLIGHT
TZOFFSETFROM:+0100
TZOFFSETTO:+0200
TZNAME:CEST
DTSTART:20240331T010000
END:DAYLIGHT
BEGIN:STANDARD
TZOFFSETFROM:+0200
TZOFFSETTO:+0100
TZNAME:CET
DTSTART:20241027T010000
END:STANDARD
BEGIN:DAYLIGHT
TZOFFSETFROM:+0100
TZOFFSETTO:+0200
TZNAME:CEST
DTSTART:20250330T010000
END:DAYLIGHT
BEGIN:STANDARD
TZOFFSETFROM:+0200
TZOFFSETTO:+0100
TZNAME:CET
DTSTART:20251026T010000
END:STANDARD
END:VTIMEZONE
BEGIN:VEVENT
DTSTART;TZID=Europe/Amsterdam:20241012T100000
DTEND;TZID=Europe/Amsterdam:20241012T220000
DTSTAMP:20260420T073223
CREATED:20240926T133149Z
LAST-MODIFIED:20241010T100113Z
UID:10004037-1728727200-1728770400@joriskerkamersfoort.nl
SUMMARY:Bachdag Amersfoort 2024
DESCRIPTION:Op 12 oktober 2024 worden in de oude binnenstad van Amersfoort weer meer dan zestig gratis concerten gegeven in alle kerken en kerkjes. Met prachtige muziek van Bach\, en van andere componisten die door hem geïnspireerd zijn. \nProgramma\nHet programma deze dag ziet er als volgt uit: \n\n10.00 – 15.45 uur: Elk heel uur Bachconcerten* van 45 minuten\n16.00 – 16.30 uur: Sint-Jorislezing door Gert-Jan Segers\n16.30 – 16.45 uur: Discussie onder leiding van Deken Capittel Sint Joris\n16.45 -17.00 uur: De lezing wordt muzikaal af- gesloten door Raaf Hekkema. Saxofonist en hoofdvakdocent Kon. Conservatorium Den Haag\n17.00 – 18.00 uur: Ontmoeting met een drankje. Tevens gelegenheid de expositie te bezichtigen\n19.30 – 22.00 uur: Slotconcert Bachdag (betaald ticket nodig\, deze kunt u hier boeken)\n\nMeer informatie over de Bachdag en het volledige programma vindt u hier.
URL:https://joriskerkamersfoort.nl/evenement/bachdag-amersfoort-2024/
LOCATION:Sint-Joriskerk\, Hof 1\, Amersfoort\, 3811 CJ\, Nederland
GEO:52.1566965;5.3902512
X-APPLE-STRUCTURED-LOCATION;VALUE=URI;X-ADDRESS=Sint-Joriskerk Hof 1 Amersfoort 3811 CJ Nederland;X-APPLE-RADIUS=500;X-TITLE=Hof 1:geo:5.3902512,52.1566965
END:VEVENT
BEGIN:VEVENT
DTSTART;TZID=Europe/Amsterdam:20241012T160000
DTEND;TZID=Europe/Amsterdam:20241012T180000
DTSTAMP:20260420T073223
CREATED:20240703T085816Z
LAST-MODIFIED:20241003T091554Z
UID:10003420-1728748800-1728756000@joriskerkamersfoort.nl
SUMMARY:Sint-Jorislezing door Gert-Jan Segers
DESCRIPTION:“ Wie één mens redt\, redt heel Nederland” \nPas als die ene mens recht wordt gedaan\, leven we allemaal in een rechtsstaat. Alleen als die ene medemens vrij en veilig is\, vormen we samen een beschaving. \nBij de toeslagenaffaire werd zichtbaar dat in ons land regels soms belangrijker zijn dan mensen. Duizenden slachtoffers heb- ben daar jarenlang – financieel en persoonlijk – een hoge prijs voor betaald. En nog altijd wachten de meesten van hen op het moment dat hen recht wordt gedaan. Vanuit persoonlijke betrokkenheid bij de afhandeling van dit drama gaat Gert-Jan Segers in de Sint-Jorislezing op zoek naar een overheid die die ene mens weer ziet staan. \nOok bij een ogenschijnlijk heel ander thema komt het opnieuw op die ene aan. Bij het herlevend antisemitisme wordt zichtbaar dat vrijheid en veiligheid niet meer vanzelfsprekend zijn voor een van onze kleinste minderheden. 375 jaar na de komst van gevluchte Joden naar Amersfoort\, is er sprake van groeiende Jodenhaat. Vanuit persoonlijke betrokkenheid bij de Joodse ge- meenschap gaat Segers in diezelfde lezing op zoek naar een land dat pal staat voor die ene. \nPraktische informatie Sint-Jorislezing\nOp zaterdag 12 oktober 2024 vindt de Sint-Jorislezing plaats in de Sint-Joriskerk in Amersfoort. Deze lezing is een initiatief van stichting het Capittel van Sint Joris. De bijeenkomst begint om 16.00 uur en duurt tot 18.00 uur. Toegang is gratis. De deur is vanaf 15.30 uur open. \nDe lezing wordt muzikaal afgesloten door Raaf Hekkema\, saxofonist. Na afloop van de lezing is er gelegenheid tot ontmoeting onder het genot van een drankje. Ook kan de expositie “Amersfoort Waterstad” worden bekeken van het Rietveld Paviljoen. De toegang is gratis en reserveren is niet nodig. \nOver Gert-Jan Segers\nGert-Jan Segers (1969) woont in Amersfoort\, is getrouwd met Rianne en samen hebben ze drie studerende dochters. Hij was ruim tien jaar Tweede Kamerlid voor de ChristenUnie\, schreef daarover het boek ‘Macht en onmacht’ en is nu zelfstandig ondernemer. \nUitnodiging\nBekijk hier de volledige uitnodiging. \nFoto’s: Website Christenunie.nl / Kjell Schipper 2018
URL:https://joriskerkamersfoort.nl/evenement/sint-jorislezing-van-het-capittel-van-sint-joris/
LOCATION:Sint-Joriskerk\, Hof 1\, Amersfoort\, 3811 CJ\, Nederland
ATTACH;FMTTYPE=image/jpeg:https://joriskerkamersfoort.nl/wp-content/uploads/2024/07/gj-segers.jpg
GEO:52.1566965;5.3902512
X-APPLE-STRUCTURED-LOCATION;VALUE=URI;X-ADDRESS=Sint-Joriskerk Hof 1 Amersfoort 3811 CJ Nederland;X-APPLE-RADIUS=500;X-TITLE=Hof 1:geo:5.3902512,52.1566965
END:VEVENT
BEGIN:VEVENT
DTSTART;TZID=Europe/Amsterdam:20241012T193000
DTEND;TZID=Europe/Amsterdam:20241012T213000
DTSTAMP:20260420T073223
CREATED:20240926T133511Z
LAST-MODIFIED:20240926T133606Z
UID:10004038-1728761400-1728768600@joriskerkamersfoort.nl
SUMMARY:Slotconcert Bachdag Amersfoort 2024
DESCRIPTION:Klik hier om kaarten te bestellen \nUitvoerenden:\nCapella Amersfoort olv. Anthony Scheffer\nSonante Vocale olv. Patrick Pranger\nBeide koren samen of apart\, met begeleiding van kistorgel en blazers.\nRien Donkersloot\, Naber-orgel\nRaaf Hekkema\, saxofoon\, intermezzi \nWelkomstwoord\n\nGabrieli Surrexit Christus\nMonteverdi Zefiro Torna Libro sei\, no qinque\n\nIntermezzo \n\nWalther Nun bitten wir den Heiligen Geist\nEccard Der Heilig Geist vom Himmel kam\nJ.S. Bach Anhang zu Kantate BWV 207\n\nIntermezzo \n\nJ.S. Bach BWV 226 fuga\nJ.S. Bach BWV 226 koraal\nJ.S. Bach Orgelwerk Naber-orgel\n\nPAUZE\n\nHarvey Come Holy Ghost\, solo gezongen door Patrick\, tenor solo gespeeld door hobo\n\nOrgelwerk \n\nJ.K. Kerll Sanctus\, uit Missa Superba\nJ.S. Bach Osanna\, uit H-moll Messe\n\nIntermezzo \n\nMendelssohn Wer nur den lieben Gott lässt walten – koraal\nMendelssohn Wer nur den lieben Gott lässt walten – openingsdeel kl\nBruckner Aequale\nOs Justi\nAequale II\n\nIntermezzo \n\nBecker Bleibe\, Abend will es werden\n\nOrgelwerk \n\nPärt Veni sancte Spiritus\, uit Berliner Messe\n\nRond het thema ‘Uitblazen met Bach’ bouwden we een uiterst interessant programma op. \nDe koren Sonante Vocale en Capella Amersfoort spelen een centrale rol in dit concert. De dirigenten Anthony Scheffer en Patrick Pranger hebben zich vooral laten inspireren door aerofonen (wind\, lucht\, natuur\, poëzie)\, het uitstorten van de Heilige Geest en de nalatenschap van Bach. \nWe reizen in een concert met koren\, trombones\, hobo’s\, saxofoon en orgels door de tijd. In het centrum Johann Sebastian Bach (uiteraard)\, maar daaromheen reizen we van Gabrieli en Eccard langs Mendelssohn en Bruckner naar Arvo Párt. Telkens pakt Raaf Hekkema\, de oprichter van het bekende rietensemble Calefax\, de draad van de vertelling op met een intermezzo met zijn organist Aart Bergwerff. \nOp een heel andere manier dan in 2022\, maar even indrukwekkend wordt de Joriskerk gevuld met ongelofelijke muziek. \nDe moeite waard om er ook deze keer bij te zijn in de Joriskerk! \nKlik hier om kaarten te bestellen
URL:https://joriskerkamersfoort.nl/evenement/slotconcert-bachdag-amersfoort-2024/
LOCATION:Sint-Joriskerk\, Hof 1\, Amersfoort\, 3811 CJ\, Nederland
ATTACH;FMTTYPE=image/png:https://joriskerkamersfoort.nl/wp-content/uploads/2022/08/bachdag.png
GEO:52.1566965;5.3902512
X-APPLE-STRUCTURED-LOCATION;VALUE=URI;X-ADDRESS=Sint-Joriskerk Hof 1 Amersfoort 3811 CJ Nederland;X-APPLE-RADIUS=500;X-TITLE=Hof 1:geo:5.3902512,52.1566965
END:VEVENT
END:VCALENDAR