BEGIN:VCALENDAR
VERSION:2.0
PRODID:-//Joriskerk Amersfoort - ECPv6.15.19//NONSGML v1.0//EN
CALSCALE:GREGORIAN
METHOD:PUBLISH
X-WR-CALNAME:Joriskerk Amersfoort
X-ORIGINAL-URL:https://joriskerkamersfoort.nl
X-WR-CALDESC:Evenementen voor Joriskerk Amersfoort
REFRESH-INTERVAL;VALUE=DURATION:PT1H
X-Robots-Tag:noindex
X-PUBLISHED-TTL:PT1H
BEGIN:VTIMEZONE
TZID:Europe/Amsterdam
BEGIN:DAYLIGHT
TZOFFSETFROM:+0100
TZOFFSETTO:+0200
TZNAME:CEST
DTSTART:20230326T010000
END:DAYLIGHT
BEGIN:STANDARD
TZOFFSETFROM:+0200
TZOFFSETTO:+0100
TZNAME:CET
DTSTART:20231029T010000
END:STANDARD
BEGIN:DAYLIGHT
TZOFFSETFROM:+0100
TZOFFSETTO:+0200
TZNAME:CEST
DTSTART:20240331T010000
END:DAYLIGHT
BEGIN:STANDARD
TZOFFSETFROM:+0200
TZOFFSETTO:+0100
TZNAME:CET
DTSTART:20241027T010000
END:STANDARD
BEGIN:DAYLIGHT
TZOFFSETFROM:+0100
TZOFFSETTO:+0200
TZNAME:CEST
DTSTART:20250330T010000
END:DAYLIGHT
BEGIN:STANDARD
TZOFFSETFROM:+0200
TZOFFSETTO:+0100
TZNAME:CET
DTSTART:20251026T010000
END:STANDARD
END:VTIMEZONE
BEGIN:VEVENT
DTSTART;TZID=Europe/Amsterdam:20241024T110000
DTEND;TZID=Europe/Amsterdam:20241024T170000
DTSTAMP:20260420T073211
CREATED:20240119T133942Z
LAST-MODIFIED:20241024T192752Z
UID:10003001-1729767600-1729789200@joriskerkamersfoort.nl
SUMMARY:Zomeropenstelling Sint-Joriskerk
DESCRIPTION:Als Stadskerk binnen Amersfoort openen wij elke zomer onze deuren. De zomeropenstelling van 2024 loopt van dinsdag 28 mei t/m zaterdag 2 november 2024. Wij heten dan iedereen van harte welkom om onze kerk te bezoeken en bewonderen. \nJaarthema\nTijdens de zomeropenstelling organiseren we diverse exposities van kunstenaars uit de stad\, regio en het land. Dit jaar is in Amersfoort het toeristische jaarthema “Water” gekozen. Water is van levensbelang voor de stad en wij vinden onze oorsprong dan ook in Water. Alle kunstwerken van de vier exposities in 2024 sluiten aan op dit thema. \nMeer informatie\nKom langs tussen 28 mei en 2 november 2024. We zijn dan open van dinsdag t/m zaterdag tussen 11:00 en 17:00 uur. Entree kost €2\, toegang tot 12 jaar of als Vriend van de Joriskerk gratis. \nGesloten vanwege verhuur:\n \nLaatste datum openstelling valt op 30 oktober 2024.
URL:https://joriskerkamersfoort.nl/evenement/zomeropenstelling-sint-joriskerk/2024-10-24/
LOCATION:Sint-Joriskerk\, Hof 1\, Amersfoort\, 3811 CJ\, Nederland
ATTACH;FMTTYPE=image/jpeg:https://joriskerkamersfoort.nl/wp-content/uploads/2024/01/openstelling-2024.jpg
GEO:52.1566965;5.3902512
X-APPLE-STRUCTURED-LOCATION;VALUE=URI;X-ADDRESS=Sint-Joriskerk Hof 1 Amersfoort 3811 CJ Nederland;X-APPLE-RADIUS=500;X-TITLE=Hof 1:geo:5.3902512,52.1566965
END:VEVENT
BEGIN:VEVENT
DTSTART;TZID=Europe/Amsterdam:20241024T110000
DTEND;TZID=Europe/Amsterdam:20241024T170000
DTSTAMP:20260420T073211
CREATED:20240419T100753Z
LAST-MODIFIED:20241024T192605Z
UID:10003768-1729767600-1729789200@joriskerkamersfoort.nl
SUMMARY:Expositie "Amersfoort Waterstad" door Stichting Rietveldpaviljoen
DESCRIPTION:Van dinsdag 24 september t/m woensdag 30 oktober exposeert Stichting Rietveldpaviljoen met de tentoonstelling “Amersfoort waterstad”\, de tijd\, weerspiegeld in de gracht. Zonder water geen Amersfoort. De stad is ontstaan uit water\, dankt haar naam aan die doorwaadbare plaats (foort of voorde) en de Eem (Amer) en door de oude grachten waarin de tijd zich soms in een weerspiegeling laat zien\, stroomt al eeuwen het water. \nVerschillende fotografen hebben de hechte band tussen deze stad en het water vastgelegd in de expositie Amersfoort Waterstad. Waar lag vroeger de doorwaadbare plaats waaruit Amersfoort is ontstaan? Hoe wordt al dat water eigenlijk beheerd? Waarom is de Koppelpoort uniek in zijn soort? En wat is water eigenlijk? \nEen expositie van het team Rietveldpaviljoen in de Sint-Joriskerk in Amersfoort. De tentoonstelling bevat foto’s\, die water belichten vanuit historisch\, economisch en recreatief perspectief. \nInformatie\nU bent van harte welkom bij de opening van deze expositie op vrijdag 27 september 2024 om 16.00 uur. Toegang is gratis. \nKom langs tussen 24 september en 30 oktober 2024. We zijn dan open van dinsdag t/m zaterdag tussen 11:00 en 17:00 uur. Entree kost €2\, toegang tot 12 jaar of als Vriend van de Joriskerk gratis. \nGesloten vanwege verhuur: \nGeen data bekend. Laatste datum openstelling op 30 oktober.
URL:https://joriskerkamersfoort.nl/evenement/expositie-mijn-waterstad-door-stichting-rietveldpaviljoen/2024-10-24/
LOCATION:Sint-Joriskerk\, Hof 1\, Amersfoort\, 3811 CJ\, Nederland
ATTACH;FMTTYPE=image/jpeg:https://joriskerkamersfoort.nl/wp-content/uploads/2024/04/033-joriskerk-afoort-waterstad-flyer-expositie.jpg
GEO:52.1566965;5.3902512
X-APPLE-STRUCTURED-LOCATION;VALUE=URI;X-ADDRESS=Sint-Joriskerk Hof 1 Amersfoort 3811 CJ Nederland;X-APPLE-RADIUS=500;X-TITLE=Hof 1:geo:5.3902512,52.1566965
END:VEVENT
END:VCALENDAR