BEGIN:VCALENDAR
VERSION:2.0
PRODID:-//Joriskerk Amersfoort - ECPv6.15.19//NONSGML v1.0//EN
CALSCALE:GREGORIAN
METHOD:PUBLISH
X-WR-CALNAME:Joriskerk Amersfoort
X-ORIGINAL-URL:https://joriskerkamersfoort.nl
X-WR-CALDESC:Evenementen voor Joriskerk Amersfoort
REFRESH-INTERVAL;VALUE=DURATION:PT1H
X-Robots-Tag:noindex
X-PUBLISHED-TTL:PT1H
BEGIN:VTIMEZONE
TZID:Europe/Amsterdam
BEGIN:DAYLIGHT
TZOFFSETFROM:+0100
TZOFFSETTO:+0200
TZNAME:CEST
DTSTART:20230326T010000
END:DAYLIGHT
BEGIN:STANDARD
TZOFFSETFROM:+0200
TZOFFSETTO:+0100
TZNAME:CET
DTSTART:20231029T010000
END:STANDARD
BEGIN:DAYLIGHT
TZOFFSETFROM:+0100
TZOFFSETTO:+0200
TZNAME:CEST
DTSTART:20240331T010000
END:DAYLIGHT
BEGIN:STANDARD
TZOFFSETFROM:+0200
TZOFFSETTO:+0100
TZNAME:CET
DTSTART:20241027T010000
END:STANDARD
BEGIN:DAYLIGHT
TZOFFSETFROM:+0100
TZOFFSETTO:+0200
TZNAME:CEST
DTSTART:20250330T010000
END:DAYLIGHT
BEGIN:STANDARD
TZOFFSETFROM:+0200
TZOFFSETTO:+0100
TZNAME:CET
DTSTART:20251026T010000
END:STANDARD
END:VTIMEZONE
BEGIN:VEVENT
DTSTART;TZID=Europe/Amsterdam:20241101T203000
DTEND;TZID=Europe/Amsterdam:20241101T233000
DTSTAMP:20260420T091909
CREATED:20241003T084251Z
LAST-MODIFIED:20241003T084412Z
UID:10004041-1730493000-1730503800@joriskerkamersfoort.nl
SUMMARY:The Unplugged Experience
DESCRIPTION:Om de nostalgie van MTV Unplugged weer tot leven te brengen heeft Rocko Events “The Unplugged Experience – Tribute to MTV Unplugged” opgezet. Het concept laat akoestische muziek doen herleven op zeer bijzondere locaties en speelt daarbij vooral in op het belevingsaspect van muziek en de veelzijdigheid van Unplugged muziek. Het is absoluut geen doorsnee tribute in de vorm van een ode aan één van de bands die heeft meegedaan hebben… dit concept gaat veel verder! \n\n\nHet betreft een luisterconcert met staplaatsen! \nEr is horeca aanwezig op locatie. Graag rekening houden dat het een kerk is\, zodoende tijdens het concert niet gaan kletsen i.v.m. storend geluid. We willen namelijk een optimale beleving aanbieden aan de luisteraars. \n\nTijden\nDeuren open: 19:00 uur\nStart show: 20:30 uur\nShow duurt ca. 150 minuten
URL:https://joriskerkamersfoort.nl/evenement/the-unplugged-experience/
LOCATION:Sint-Joriskerk\, Hof 1\, Amersfoort\, 3811 CJ\, Nederland
ATTACH;FMTTYPE=image/png:https://joriskerkamersfoort.nl/wp-content/uploads/2024/10/logo-tue-transparant.png
GEO:52.1566965;5.3902512
X-APPLE-STRUCTURED-LOCATION;VALUE=URI;X-ADDRESS=Sint-Joriskerk Hof 1 Amersfoort 3811 CJ Nederland;X-APPLE-RADIUS=500;X-TITLE=Hof 1:geo:5.3902512,52.1566965
END:VEVENT
END:VCALENDAR