BEGIN:VCALENDAR
VERSION:2.0
PRODID:-//Joriskerk Amersfoort - ECPv6.15.19//NONSGML v1.0//EN
CALSCALE:GREGORIAN
METHOD:PUBLISH
X-ORIGINAL-URL:https://joriskerkamersfoort.nl
X-WR-CALDESC:Evenementen voor Joriskerk Amersfoort
REFRESH-INTERVAL;VALUE=DURATION:PT1H
X-Robots-Tag:noindex
X-PUBLISHED-TTL:PT1H
BEGIN:VTIMEZONE
TZID:Europe/Amsterdam
BEGIN:DAYLIGHT
TZOFFSETFROM:+0100
TZOFFSETTO:+0200
TZNAME:CEST
DTSTART:20230326T010000
END:DAYLIGHT
BEGIN:STANDARD
TZOFFSETFROM:+0200
TZOFFSETTO:+0100
TZNAME:CET
DTSTART:20231029T010000
END:STANDARD
BEGIN:DAYLIGHT
TZOFFSETFROM:+0100
TZOFFSETTO:+0200
TZNAME:CEST
DTSTART:20240331T010000
END:DAYLIGHT
BEGIN:STANDARD
TZOFFSETFROM:+0200
TZOFFSETTO:+0100
TZNAME:CET
DTSTART:20241027T010000
END:STANDARD
BEGIN:DAYLIGHT
TZOFFSETFROM:+0100
TZOFFSETTO:+0200
TZNAME:CEST
DTSTART:20250330T010000
END:DAYLIGHT
BEGIN:STANDARD
TZOFFSETFROM:+0200
TZOFFSETTO:+0100
TZNAME:CET
DTSTART:20251026T010000
END:STANDARD
END:VTIMEZONE
BEGIN:VEVENT
DTSTART;TZID=Europe/Amsterdam:20241109T200000
DTEND;TZID=Europe/Amsterdam:20241109T220000
DTSTAMP:20260420T073249
CREATED:20241003T085656Z
LAST-MODIFIED:20241003T085656Z
UID:10004044-1731182400-1731189600@joriskerkamersfoort.nl
SUMMARY:Jesu\, meine Freude door St. Joris Kamerkoor
DESCRIPTION:‘Ach\, wie flüchtig ist ein Menschenleben’. In dit programma met koorwerken uit de Duitse barok staan de kwetsbaarheid en fragiliteit van ons kortstondige leven centraal. \nJohann Sebastian Bach kon zich voor zijn muzikale vorming beroepen op een groot aantal van zijn eigen familieleden. Op zijn vijftigste deed hij een poging om een stamboom op te stellen van zijn muzikale voorvaderen. Ongeveer gelijktijdig kreeg hij via het zogenaamde Altbachisches Archiv de beschikking over een groot aantal composities van die voorvaderen. Uit dat archief passen (net als zijn eigen motet ‘Jesu\, meine Freude’ en de stukken van Melchior Franck) de werken van zijn ooms Johann Michael Bach en Johann Christoph Bach en zijn oudoom Johann Bach in dit thema. \nDe stukken van Johann Hermann Schein en Heinrich Schütz zijn geschreven tijdens de Dertigjarige oorlog (1618-1648). Die had enorme gevolgen op de bewoners van het tegenwoordige Duitsland. De teksten van de composities reflecteren opvallend vaak de sterfelijkheid van de mens. Ach\, hoe vluchtig en nietig is een mensenleven! \nProgramma\nHet programma is opgebouwd rond de thema’s ‘geboorte\, ‘jeugd en liefde’ en ‘ouderdom en sterven’\, met de volgende werken: \n– Johann Bach (1604-1673): Unser Leben ist ein Schatten \n– Johann Hermann Schein (1586-1630): Freue dich des Weibes deiner Jugend\, Siehe\, also wird gesegnet en Unser Leben währet siebenzig Jahr \n– Johann Michael Bach (1648-1694): Unser Leben währet siebenzig Jahr \n– Melchior Franck (1579-1639): Steh auf\, meine Freundin\, Ich schlafe\, aber mein Herz wachet en Unser Leben währet siebzig Jahr \n– Johann Sebastian Bach (1685-1750)/Johann Christoph Bach (1642-1703): Ich lasse dich nicht \n– Johan Christoph Bach: Fürchte dich nicht en Es ist nun aus mit meinem Leben \n– Johann Sebastian Bach: Jesu\, meine Freude \n– Heinrich Schütz (1585-1672): Selig sind die Toten \nInstrumentale medewerking wordt verleend door Cappella Maria Barbara o.l.v. Henk van Zonneveld. \nInformatie\nAanvang 20:00 uur; de toegangsprijs bedraagt € 20/jongeren t/m 18 jaar hebben gratis toegang. Kaarten bestellen kunt u hier of via de koorleden.
URL:https://joriskerkamersfoort.nl/evenement/jesu-meine-freude-door-st-joris-kamerkoor/
LOCATION:Sint-Joriskerk\, Hof 1\, Amersfoort\, 3811 CJ\, Nederland
GEO:52.1566965;5.3902512
X-APPLE-STRUCTURED-LOCATION;VALUE=URI;X-ADDRESS=Sint-Joriskerk Hof 1 Amersfoort 3811 CJ Nederland;X-APPLE-RADIUS=500;X-TITLE=Hof 1:geo:5.3902512,52.1566965
END:VEVENT
END:VCALENDAR