BEGIN:VCALENDAR
VERSION:2.0
PRODID:-//Joriskerk Amersfoort - ECPv6.15.19//NONSGML v1.0//EN
CALSCALE:GREGORIAN
METHOD:PUBLISH
X-WR-CALNAME:Joriskerk Amersfoort
X-ORIGINAL-URL:https://joriskerkamersfoort.nl
X-WR-CALDESC:Evenementen voor Joriskerk Amersfoort
REFRESH-INTERVAL;VALUE=DURATION:PT1H
X-Robots-Tag:noindex
X-PUBLISHED-TTL:PT1H
BEGIN:VTIMEZONE
TZID:Europe/Amsterdam
BEGIN:DAYLIGHT
TZOFFSETFROM:+0100
TZOFFSETTO:+0200
TZNAME:CEST
DTSTART:20230326T010000
END:DAYLIGHT
BEGIN:STANDARD
TZOFFSETFROM:+0200
TZOFFSETTO:+0100
TZNAME:CET
DTSTART:20231029T010000
END:STANDARD
BEGIN:DAYLIGHT
TZOFFSETFROM:+0100
TZOFFSETTO:+0200
TZNAME:CEST
DTSTART:20240331T010000
END:DAYLIGHT
BEGIN:STANDARD
TZOFFSETFROM:+0200
TZOFFSETTO:+0100
TZNAME:CET
DTSTART:20241027T010000
END:STANDARD
BEGIN:DAYLIGHT
TZOFFSETFROM:+0100
TZOFFSETTO:+0200
TZNAME:CEST
DTSTART:20250330T010000
END:DAYLIGHT
BEGIN:STANDARD
TZOFFSETFROM:+0200
TZOFFSETTO:+0100
TZNAME:CET
DTSTART:20251026T010000
END:STANDARD
END:VTIMEZONE
BEGIN:VEVENT
DTSTART;TZID=Europe/Amsterdam:20241130T140000
DTEND;TZID=Europe/Amsterdam:20241130T173000
DTSTAMP:20260420T041725
CREATED:20241010T095059Z
LAST-MODIFIED:20241010T095059Z
UID:10004049-1732975200-1732987800@joriskerkamersfoort.nl
SUMMARY:Interdisciplinair symposium Magnificat
DESCRIPTION:De lofzang van Maria als rode draad in theologie\, kunst en muziek.\n\nOp D.V. zaterdag 30 november 2024 vindt er in de Sint-Joriskerk in Amersfoort een uniek interdisciplinair symposium plaats. Vanuit de Lofzang van Maria – het Magnificat – worden er lijnen getrokken naar de theologie en muziek. Het programma is van 14.00 tot 17.30 uur. Ook wordt een boek met adventsmeditaties gepresenteerd. Dit boek is tijdens het symposium te koop. \nDe kosten voor deelname bedragen € 25\,00 per persoon. Studenten tot 25 jaar krijgen voor € 10\,00 toegang tot dit symposium. Dit bedrag is inclusief het volledige programma en een hapje en drankje. \nDeelnemen? \nKoop uw tickets in de online ticketshop! Vul uw mailadres nauwkeurig in\, u ontvangt uw entreebewijzen in uw mailbox.
URL:https://joriskerkamersfoort.nl/evenement/interdisciplinair-symposium-magnificat/
LOCATION:Sint-Joriskerk\, Hof 1\, Amersfoort\, 3811 CJ\, Nederland
ATTACH;FMTTYPE=image/jpeg:https://joriskerkamersfoort.nl/wp-content/uploads/2024/10/symposium-magnificat.jpg
GEO:52.1566965;5.3902512
X-APPLE-STRUCTURED-LOCATION;VALUE=URI;X-ADDRESS=Sint-Joriskerk Hof 1 Amersfoort 3811 CJ Nederland;X-APPLE-RADIUS=500;X-TITLE=Hof 1:geo:5.3902512,52.1566965
END:VEVENT
END:VCALENDAR