BEGIN:VCALENDAR
VERSION:2.0
PRODID:-//Joriskerk Amersfoort - ECPv6.15.19//NONSGML v1.0//EN
CALSCALE:GREGORIAN
METHOD:PUBLISH
X-ORIGINAL-URL:https://joriskerkamersfoort.nl
X-WR-CALDESC:Evenementen voor Joriskerk Amersfoort
REFRESH-INTERVAL;VALUE=DURATION:PT1H
X-Robots-Tag:noindex
X-PUBLISHED-TTL:PT1H
BEGIN:VTIMEZONE
TZID:Europe/Amsterdam
BEGIN:DAYLIGHT
TZOFFSETFROM:+0100
TZOFFSETTO:+0200
TZNAME:CEST
DTSTART:20230326T010000
END:DAYLIGHT
BEGIN:STANDARD
TZOFFSETFROM:+0200
TZOFFSETTO:+0100
TZNAME:CET
DTSTART:20231029T010000
END:STANDARD
BEGIN:DAYLIGHT
TZOFFSETFROM:+0100
TZOFFSETTO:+0200
TZNAME:CEST
DTSTART:20240331T010000
END:DAYLIGHT
BEGIN:STANDARD
TZOFFSETFROM:+0200
TZOFFSETTO:+0100
TZNAME:CET
DTSTART:20241027T010000
END:STANDARD
BEGIN:DAYLIGHT
TZOFFSETFROM:+0100
TZOFFSETTO:+0200
TZNAME:CEST
DTSTART:20250330T010000
END:DAYLIGHT
BEGIN:STANDARD
TZOFFSETFROM:+0200
TZOFFSETTO:+0100
TZNAME:CET
DTSTART:20251026T010000
END:STANDARD
END:VTIMEZONE
BEGIN:VEVENT
DTSTART;TZID=Europe/Amsterdam:20241207T160000
DTEND;TZID=Europe/Amsterdam:20241207T173000
DTSTAMP:20260420T041712
CREATED:20241106T142330Z
LAST-MODIFIED:20241106T142352Z
UID:10004059-1733587200-1733592600@joriskerkamersfoort.nl
SUMMARY:Lessons and Carols
DESCRIPTION:Op zaterdag 7 december zijn er twee uitvoeringen van Lessons & Carols in de Sint-Joriskerk in Amersfoort. Twee religieus-humanistische kerstvieringen om al helemaal in kerstsfeer te komen. \n\nHet middagconcert is van 16.00 tot 17.30 uur.\nHet avondconcert is van 20.00 tot 21.30 uur.\n\nMet deze uitvoeringen geven we een eigentijdse invulling aan een oude traditie om in de tijd voor kerst liederen te zingen en teksten te lezen over de betekenis van kerstmis. \nNet als vorig jaar zingen meer dan honderd zangers de traditionele Engelse kerstliederen in de overvolle St. Joriskerk. Ze worden begeleid door professionals: dirigent Tobias Bethlehem\, organist Bas Westerhof en een koperensemble. Nieuw dit jaar is een kleine kerstmarkt in de kerk\, met leuke kerstspullen en een tafel van stichting WereldWijd voor Kinderen. De stichting zamelt geld in voor kwetsbare kinderen. \nMeer informatie\nBestel je (gratis) kaartjes voor het middag- of avondconcert via apgen.nl/lessonsandcarols. Na afloop kun je een vrijwillige bijdrage doen voor wat het concert je waard was (o.a. door het scannen van een QR-code). Na aftrek van een deel van de kosten doneren we de inkomsten aan WereldWijd voor Kinderen. Deze stichting richt zich op hulp aan en ontwikkeling van kansarme kinderen wereldwijd.
URL:https://joriskerkamersfoort.nl/evenement/lessons-and-carols/2024-12-07/1/
LOCATION:Sint-Joriskerk\, Hof 1\, Amersfoort\, 3811 CJ\, Nederland
ATTACH;FMTTYPE=image/jpeg:https://joriskerkamersfoort.nl/wp-content/uploads/2024/11/lessons-and-carols-7-december-2024.jpg
GEO:52.1566965;5.3902512
X-APPLE-STRUCTURED-LOCATION;VALUE=URI;X-ADDRESS=Sint-Joriskerk Hof 1 Amersfoort 3811 CJ Nederland;X-APPLE-RADIUS=500;X-TITLE=Hof 1:geo:5.3902512,52.1566965
END:VEVENT
BEGIN:VEVENT
DTSTART;TZID=Europe/Amsterdam:20241207T200000
DTEND;TZID=Europe/Amsterdam:20241207T213000
DTSTAMP:20260420T041712
CREATED:20241106T142330Z
LAST-MODIFIED:20241106T142352Z
UID:10004060-1733601600-1733607000@joriskerkamersfoort.nl
SUMMARY:Lessons and Carols
DESCRIPTION:Op zaterdag 7 december zijn er twee uitvoeringen van Lessons & Carols in de Sint-Joriskerk in Amersfoort. Twee religieus-humanistische kerstvieringen om al helemaal in kerstsfeer te komen. \n\nHet middagconcert is van 16.00 tot 17.30 uur.\nHet avondconcert is van 20.00 tot 21.30 uur.\n\nMet deze uitvoeringen geven we een eigentijdse invulling aan een oude traditie om in de tijd voor kerst liederen te zingen en teksten te lezen over de betekenis van kerstmis. \nNet als vorig jaar zingen meer dan honderd zangers de traditionele Engelse kerstliederen in de overvolle St. Joriskerk. Ze worden begeleid door professionals: dirigent Tobias Bethlehem\, organist Bas Westerhof en een koperensemble. Nieuw dit jaar is een kleine kerstmarkt in de kerk\, met leuke kerstspullen en een tafel van stichting WereldWijd voor Kinderen. De stichting zamelt geld in voor kwetsbare kinderen. \nMeer informatie\nBestel je (gratis) kaartjes voor het middag- of avondconcert via apgen.nl/lessonsandcarols. Na afloop kun je een vrijwillige bijdrage doen voor wat het concert je waard was (o.a. door het scannen van een QR-code). Na aftrek van een deel van de kosten doneren we de inkomsten aan WereldWijd voor Kinderen. Deze stichting richt zich op hulp aan en ontwikkeling van kansarme kinderen wereldwijd.
URL:https://joriskerkamersfoort.nl/evenement/lessons-and-carols/2024-12-07/2/
LOCATION:Sint-Joriskerk\, Hof 1\, Amersfoort\, 3811 CJ\, Nederland
ATTACH;FMTTYPE=image/jpeg:https://joriskerkamersfoort.nl/wp-content/uploads/2024/11/lessons-and-carols-7-december-2024.jpg
GEO:52.1566965;5.3902512
X-APPLE-STRUCTURED-LOCATION;VALUE=URI;X-ADDRESS=Sint-Joriskerk Hof 1 Amersfoort 3811 CJ Nederland;X-APPLE-RADIUS=500;X-TITLE=Hof 1:geo:5.3902512,52.1566965
END:VEVENT
END:VCALENDAR