BEGIN:VCALENDAR
VERSION:2.0
PRODID:-//Joriskerk Amersfoort - ECPv6.15.19//NONSGML v1.0//EN
CALSCALE:GREGORIAN
METHOD:PUBLISH
X-WR-CALNAME:Joriskerk Amersfoort
X-ORIGINAL-URL:https://joriskerkamersfoort.nl
X-WR-CALDESC:Evenementen voor Joriskerk Amersfoort
REFRESH-INTERVAL;VALUE=DURATION:PT1H
X-Robots-Tag:noindex
X-PUBLISHED-TTL:PT1H
BEGIN:VTIMEZONE
TZID:Europe/Amsterdam
BEGIN:DAYLIGHT
TZOFFSETFROM:+0100
TZOFFSETTO:+0200
TZNAME:CEST
DTSTART:20230326T010000
END:DAYLIGHT
BEGIN:STANDARD
TZOFFSETFROM:+0200
TZOFFSETTO:+0100
TZNAME:CET
DTSTART:20231029T010000
END:STANDARD
BEGIN:DAYLIGHT
TZOFFSETFROM:+0100
TZOFFSETTO:+0200
TZNAME:CEST
DTSTART:20240331T010000
END:DAYLIGHT
BEGIN:STANDARD
TZOFFSETFROM:+0200
TZOFFSETTO:+0100
TZNAME:CET
DTSTART:20241027T010000
END:STANDARD
BEGIN:DAYLIGHT
TZOFFSETFROM:+0100
TZOFFSETTO:+0200
TZNAME:CEST
DTSTART:20250330T010000
END:DAYLIGHT
BEGIN:STANDARD
TZOFFSETFROM:+0200
TZOFFSETTO:+0100
TZNAME:CET
DTSTART:20251026T010000
END:STANDARD
END:VTIMEZONE
BEGIN:VEVENT
DTSTART;TZID=Europe/Amsterdam:20241214T200000
DTEND;TZID=Europe/Amsterdam:20241214T213000
DTSTAMP:20260420T041722
CREATED:20241003T090046Z
LAST-MODIFIED:20241212T102926Z
UID:10004045-1734206400-1734211800@joriskerkamersfoort.nl
SUMMARY:Kerstconcert Toonkunst Amersfoort
DESCRIPTION:Informatie\n1. Orgel: Nun komm BWV 659\, Bach \n2. Nun komm BWV 61:1 – Bach \n3. Es ist ein Ros – Praetorius \n4. Orgel en alt: Bereite dich Zion – Weihnachts Oratorium\, Bach \n5. Gloria 589 – Vivaldi \n6. Fallt mit Danken – Weihnachts Oratorium\, Bach \n7. Cantique de Jean Racine\, Fauré \n8. In the bleak midwinter\, Darke \n9. Es wird ein Stern (uit: Christus) – Mendelssohn \n10. Piano en sopraan – (nader in te vullen) \n11. The first nowell – Willcocks \n12. Hark! The herald angels sing\, Mendelssohn (1 samenzang\, 2 koor\, 3 samenzang met descant koor) \nKoor\nToonkunst Amersfoort \nDirigent\nGerben Budding \nBegeleiding\nPiano: Hans-Erik Dijkstra\nOrgel: Rien Donkersloot \nSolisten\nSopraan: Nanette Mans\nAlt: Neline Adams \nKaarten bestellen\nIndien u een Livestream ticket aanschaft ontvangt u een dag voor aanvang een mail van ons met daarin de link naar onze Livestream op Youtube. In de Sint-Joriskerk is deze livestream tevens via schermen te zien zodat u altijd goed zicht heeft op koor en musici. Kaarten bij de Sint-Joriskerk zijn uitsluitend via pin te betalen. U kunt ook online bestellen.
URL:https://joriskerkamersfoort.nl/evenement/kerstconcert-toonkunst-amersfoort/
LOCATION:Sint-Joriskerk\, Hof 1\, Amersfoort\, 3811 CJ\, Nederland
GEO:52.1566965;5.3902512
X-APPLE-STRUCTURED-LOCATION;VALUE=URI;X-ADDRESS=Sint-Joriskerk Hof 1 Amersfoort 3811 CJ Nederland;X-APPLE-RADIUS=500;X-TITLE=Hof 1:geo:5.3902512,52.1566965
END:VEVENT
END:VCALENDAR