BEGIN:VCALENDAR
VERSION:2.0
PRODID:-//Joriskerk Amersfoort - ECPv6.15.19//NONSGML v1.0//EN
CALSCALE:GREGORIAN
METHOD:PUBLISH
X-WR-CALNAME:Joriskerk Amersfoort
X-ORIGINAL-URL:https://joriskerkamersfoort.nl
X-WR-CALDESC:Evenementen voor Joriskerk Amersfoort
REFRESH-INTERVAL;VALUE=DURATION:PT1H
X-Robots-Tag:noindex
X-PUBLISHED-TTL:PT1H
BEGIN:VTIMEZONE
TZID:Europe/Amsterdam
BEGIN:DAYLIGHT
TZOFFSETFROM:+0100
TZOFFSETTO:+0200
TZNAME:CEST
DTSTART:20230326T010000
END:DAYLIGHT
BEGIN:STANDARD
TZOFFSETFROM:+0200
TZOFFSETTO:+0100
TZNAME:CET
DTSTART:20231029T010000
END:STANDARD
BEGIN:DAYLIGHT
TZOFFSETFROM:+0100
TZOFFSETTO:+0200
TZNAME:CEST
DTSTART:20240331T010000
END:DAYLIGHT
BEGIN:STANDARD
TZOFFSETFROM:+0200
TZOFFSETTO:+0100
TZNAME:CET
DTSTART:20241027T010000
END:STANDARD
BEGIN:DAYLIGHT
TZOFFSETFROM:+0100
TZOFFSETTO:+0200
TZNAME:CEST
DTSTART:20250330T010000
END:DAYLIGHT
BEGIN:STANDARD
TZOFFSETFROM:+0200
TZOFFSETTO:+0100
TZNAME:CET
DTSTART:20251026T010000
END:STANDARD
END:VTIMEZONE
BEGIN:VEVENT
DTSTART;TZID=Europe/Amsterdam:20241224T220000
DTEND;TZID=Europe/Amsterdam:20241224T230000
DTSTAMP:20260420T041722
CREATED:20241212T103428Z
LAST-MODIFIED:20241212T103528Z
UID:10004066-1735077600-1735081200@joriskerkamersfoort.nl
SUMMARY:Kerstnachtdienst ‘God in ons midden?’
DESCRIPTION:Dinsdag 24 december om 22.00 uur vindt in de Sint-Joriskerk in Amersfoort de Kerstnachtdienst plaats. Het thema is: ‘God in ons midden?’ Muzikale medewerking verlenen het Ars Musica Studentenkoor en organist Rien Donkersloot. Het koor zingt Engelse Christmas Carols en bezoekers krijgen volop gelegenheid mee te zingen met bekende kerstliederen. Voorganger is Wim Vermeulen\, predikant van de Jacobikerk in Utrecht. \n\n\n\nPraktische informatie De toegang is gratis. De deuren gaan open om 21.30 uur; vanaf 21.45 uur is er koor- en samenzang. Er zijn twee collecten\, de eerste is voor inloophuis De Aandacht aan de Zuidsingel; de tweede is bestemd voor de kosten van de dienst. \n\n\n\nOver De Kerstnachtdienst is voorbereid door een werkgroep met leden uit plaatselijke kerken: de protestantse wijkgemeente van de Adventkerk en de Sint-Joriskerk\, de Christelijke Gereformeerde Ichthuskerk en de Nederlandse Gereformeerde Kerk uit Amersfoort-Zuid.
URL:https://joriskerkamersfoort.nl/evenement/kerstnachtdienst-god-in-ons-midden/
LOCATION:Sint-Joriskerk\, Hof 1\, Amersfoort\, 3811 CJ\, Nederland
ATTACH;FMTTYPE=image/jpeg:https://joriskerkamersfoort.nl/wp-content/uploads/2020/05/img_8974-scaled.jpg
GEO:52.1566965;5.3902512
X-APPLE-STRUCTURED-LOCATION;VALUE=URI;X-ADDRESS=Sint-Joriskerk Hof 1 Amersfoort 3811 CJ Nederland;X-APPLE-RADIUS=500;X-TITLE=Hof 1:geo:5.3902512,52.1566965
END:VEVENT
END:VCALENDAR