BEGIN:VCALENDAR
VERSION:2.0
PRODID:-//Joriskerk Amersfoort - ECPv6.15.19//NONSGML v1.0//EN
CALSCALE:GREGORIAN
METHOD:PUBLISH
X-ORIGINAL-URL:https://joriskerkamersfoort.nl
X-WR-CALDESC:Evenementen voor Joriskerk Amersfoort
REFRESH-INTERVAL;VALUE=DURATION:PT1H
X-Robots-Tag:noindex
X-PUBLISHED-TTL:PT1H
BEGIN:VTIMEZONE
TZID:Europe/Amsterdam
BEGIN:DAYLIGHT
TZOFFSETFROM:+0100
TZOFFSETTO:+0200
TZNAME:CEST
DTSTART:20240331T010000
END:DAYLIGHT
BEGIN:STANDARD
TZOFFSETFROM:+0200
TZOFFSETTO:+0100
TZNAME:CET
DTSTART:20241027T010000
END:STANDARD
BEGIN:DAYLIGHT
TZOFFSETFROM:+0100
TZOFFSETTO:+0200
TZNAME:CEST
DTSTART:20250330T010000
END:DAYLIGHT
BEGIN:STANDARD
TZOFFSETFROM:+0200
TZOFFSETTO:+0100
TZNAME:CET
DTSTART:20251026T010000
END:STANDARD
BEGIN:DAYLIGHT
TZOFFSETFROM:+0100
TZOFFSETTO:+0200
TZNAME:CEST
DTSTART:20260329T010000
END:DAYLIGHT
BEGIN:STANDARD
TZOFFSETFROM:+0200
TZOFFSETTO:+0100
TZNAME:CET
DTSTART:20261025T010000
END:STANDARD
END:VTIMEZONE
BEGIN:VEVENT
DTSTART;TZID=Europe/Amsterdam:20250101T153000
DTEND;TZID=Europe/Amsterdam:20250101T170000
DTSTAMP:20260420T022535
CREATED:20241203T200910Z
LAST-MODIFIED:20241203T201032Z
UID:10004064-1735745400-1735750800@joriskerkamersfoort.nl
SUMMARY:Nieuwjaarsbach met Rien Donkersloot
DESCRIPTION:Op woensdag 1 januari geeft Rien Donkersloot een concert de Sint-Joriskerk in Amersfoort een concert met alleen maar muziek van Johann Sebastian Bach (1685-1750). Daarmee zet hij een lange Joris-traditie voort van Bachconcerten op Nieuwjaarsdag. \nDit jaar laat hij op het koororgel Capriccio in B-dur (BWV 992) horen. Bach componeerde het werk op jonge leeftijd toen zijn oudere broer Johann Jacob (1682-1722) het huis verliet om de hobo te spelen in het leger van de Zweedse koning Karel XII. Hij bleef daar tot aan zijn dood werken. \nOp het hoofdorgel speelt Rien onder andere het Concerto in d nach Vivaldi (BWV 596) en transcripties van cantatedelen. Hij eindigt met de Fantasia und Fuge in g moll (BWV 542). \nRien Donkersloot (Rotterdam\, 1985) is sinds 2012 organist van de Sint-Joriskerk in Amersfoort. Hij studeerde orgel en kerkmuziek aan het Rotterdams Conservatorium bij Bas de Vroome en Ben van Oosten en studeerde summa cum laude af. Naast orgel speelt Rien beiaard. Hij studeerde aan de Nederlandse Beiaardschool in Amersfoort bij Frans Haagen. In juni 2011 studeerde hij af\, eveneens cum laude. \nHet concert begint om 15:30 uur\, kerk open om 15:00 uur\, toegang bij  de deur 10 euro (tot 18 jaar vrije toegang)\, inclusief koffie of thee vooraf en na afloop. \nFoto door Koos van Noppen
URL:https://joriskerkamersfoort.nl/evenement/nieuwjaarsbach-met-rien-donkersloot/
LOCATION:Sint-Joriskerk\, Hof 1\, Amersfoort\, 3811 CJ\, Nederland
ATTACH;FMTTYPE=image/jpeg:https://joriskerkamersfoort.nl/wp-content/uploads/2024/12/9079-rien-donkersloot-koos-van-noppen-scaled.jpg
GEO:52.1566965;5.3902512
X-APPLE-STRUCTURED-LOCATION;VALUE=URI;X-ADDRESS=Sint-Joriskerk Hof 1 Amersfoort 3811 CJ Nederland;X-APPLE-RADIUS=500;X-TITLE=Hof 1:geo:5.3902512,52.1566965
END:VEVENT
END:VCALENDAR