BEGIN:VCALENDAR
VERSION:2.0
PRODID:-//Joriskerk Amersfoort - ECPv6.15.19//NONSGML v1.0//EN
CALSCALE:GREGORIAN
METHOD:PUBLISH
X-ORIGINAL-URL:https://joriskerkamersfoort.nl
X-WR-CALDESC:Evenementen voor Joriskerk Amersfoort
REFRESH-INTERVAL;VALUE=DURATION:PT1H
X-Robots-Tag:noindex
X-PUBLISHED-TTL:PT1H
BEGIN:VTIMEZONE
TZID:Europe/Amsterdam
BEGIN:DAYLIGHT
TZOFFSETFROM:+0100
TZOFFSETTO:+0200
TZNAME:CEST
DTSTART:20240331T010000
END:DAYLIGHT
BEGIN:STANDARD
TZOFFSETFROM:+0200
TZOFFSETTO:+0100
TZNAME:CET
DTSTART:20241027T010000
END:STANDARD
BEGIN:DAYLIGHT
TZOFFSETFROM:+0100
TZOFFSETTO:+0200
TZNAME:CEST
DTSTART:20250330T010000
END:DAYLIGHT
BEGIN:STANDARD
TZOFFSETFROM:+0200
TZOFFSETTO:+0100
TZNAME:CET
DTSTART:20251026T010000
END:STANDARD
BEGIN:DAYLIGHT
TZOFFSETFROM:+0100
TZOFFSETTO:+0200
TZNAME:CEST
DTSTART:20260329T010000
END:DAYLIGHT
BEGIN:STANDARD
TZOFFSETFROM:+0200
TZOFFSETTO:+0100
TZNAME:CET
DTSTART:20261025T010000
END:STANDARD
END:VTIMEZONE
BEGIN:VEVENT
DTSTART;TZID=Europe/Amsterdam:20250329T193000
DTEND;TZID=Europe/Amsterdam:20250329T220000
DTSTAMP:20260419T230014
CREATED:20250305T141920Z
LAST-MODIFIED:20250305T141920Z
UID:10004347-1743276600-1743285600@joriskerkamersfoort.nl
SUMMARY:Op weg naar Pasen -  concert
DESCRIPTION:Een concert met samenwerking van vier koren\, o.l.v. Jan Hendrik van Schothorst.\nIn samenwerking met: \n\nChristelijk Mannenkoor Ede\nHervormd Gemengd Zangkoor Con Amore\nChristelijk Jongerenkoor The Messengers\nReformatorisch Jongerenkoor Chenánja\n\nPraktische informatie\nHet concert start om 19.30 uur. Ticketprijzen variëren van €5 – €12\,50.\nVoorverkoopprijzen zijn goedkoper. Tickets zijn hier te boeken: https://shop.ikbenaanwezig.nl/tickets/event/op-weg-naar-pasen-2025
URL:https://joriskerkamersfoort.nl/evenement/op-weg-naar-pasen-concert/
LOCATION:Sint-Joriskerk\, Hof 1\, Amersfoort\, 3811 CJ\, Nederland
ATTACH;FMTTYPE=image/jpeg:https://joriskerkamersfoort.nl/wp-content/uploads/2025/03/paasconcert-29-maart-2025-724x1024-1.jpg
GEO:52.1566965;5.3902512
X-APPLE-STRUCTURED-LOCATION;VALUE=URI;X-ADDRESS=Sint-Joriskerk Hof 1 Amersfoort 3811 CJ Nederland;X-APPLE-RADIUS=500;X-TITLE=Hof 1:geo:5.3902512,52.1566965
END:VEVENT
END:VCALENDAR