BEGIN:VCALENDAR
VERSION:2.0
PRODID:-//Joriskerk Amersfoort - ECPv6.15.19//NONSGML v1.0//EN
CALSCALE:GREGORIAN
METHOD:PUBLISH
X-ORIGINAL-URL:https://joriskerkamersfoort.nl
X-WR-CALDESC:Evenementen voor Joriskerk Amersfoort
REFRESH-INTERVAL;VALUE=DURATION:PT1H
X-Robots-Tag:noindex
X-PUBLISHED-TTL:PT1H
BEGIN:VTIMEZONE
TZID:Europe/Amsterdam
BEGIN:DAYLIGHT
TZOFFSETFROM:+0100
TZOFFSETTO:+0200
TZNAME:CEST
DTSTART:20240331T010000
END:DAYLIGHT
BEGIN:STANDARD
TZOFFSETFROM:+0200
TZOFFSETTO:+0100
TZNAME:CET
DTSTART:20241027T010000
END:STANDARD
BEGIN:DAYLIGHT
TZOFFSETFROM:+0100
TZOFFSETTO:+0200
TZNAME:CEST
DTSTART:20250330T010000
END:DAYLIGHT
BEGIN:STANDARD
TZOFFSETFROM:+0200
TZOFFSETTO:+0100
TZNAME:CET
DTSTART:20251026T010000
END:STANDARD
BEGIN:DAYLIGHT
TZOFFSETFROM:+0100
TZOFFSETTO:+0200
TZNAME:CEST
DTSTART:20260329T010000
END:DAYLIGHT
BEGIN:STANDARD
TZOFFSETFROM:+0200
TZOFFSETTO:+0100
TZNAME:CET
DTSTART:20261025T010000
END:STANDARD
END:VTIMEZONE
BEGIN:VEVENT
DTSTART;TZID=Europe/Amsterdam:20250402T090000
DTEND;TZID=Europe/Amsterdam:20250402T093000
DTSTAMP:20260419T210903
CREATED:20250115T124401Z
LAST-MODIFIED:20260216T121334Z
UID:10004666-1743584400-1743586200@joriskerkamersfoort.nl
SUMMARY:Meditatiemoment met de stadsdominee
DESCRIPTION:Iedereen is welkom en meedoen is eenvoudig. \nZorg dat je even voor 9 uur bij de zijdeur van de Sint-Joriskerk bent (Zevenhuizen 3\, tegenover café Nul33). Een vrijwilliger begeleidt de groep dan naar de mooiste plaatsen in de kerk. Daar brandt de Paaskaars\, mensen groeten en gaan zitten. Ieder in de stilte. Om 9 uur begint na een gongslag 25 minuten stilte. Er zijn geen teksten\, geen oefeningen\, geen gesprek. Geniet van de ruimte voor jezelf. De hele dag voelt anders aan\, na zo’n begin. \nN.B. af en toe is de Sint-Joriskerk bezet en dan vindt de stiltemeditatie plaats in de Amersfoortse Zwaan. Hiervoor is een mailgroep die op de hoogte wordt gesteld van dit soort wijzigingen. Wil je je naam op die lijst hebben\, stuur dan even een mailtje\, dan ben je altijd op de hoogte.
URL:https://joriskerkamersfoort.nl/evenement/meditatiemoment-met-de-stadsdominee-2-2/2025-04-02/
LOCATION:Sint-Joriskerk\, Hof 1\, Amersfoort\, 3811 CJ\, Nederland
ATTACH;FMTTYPE=image/jpeg:https://joriskerkamersfoort.nl/wp-content/uploads/2025/01/706a4201-scaled-e1771244114588.jpg
GEO:52.1566965;5.3902512
X-APPLE-STRUCTURED-LOCATION;VALUE=URI;X-ADDRESS=Sint-Joriskerk Hof 1 Amersfoort 3811 CJ Nederland;X-APPLE-RADIUS=500;X-TITLE=Hof 1:geo:5.3902512,52.1566965
END:VEVENT
BEGIN:VEVENT
DTSTART;TZID=Europe/Amsterdam:20250402T200000
DTEND;TZID=Europe/Amsterdam:20250402T213000
DTSTAMP:20260419T210903
CREATED:20250305T150417Z
LAST-MODIFIED:20250313T123503Z
UID:10004353-1743624000-1743629400@joriskerkamersfoort.nl
SUMMARY:Concert Eton College Chapel Choir
DESCRIPTION:Hoewel het zingen in diensten in de College Chapel de voornaamste taak van het koor is\, gaat het koor steeds vaker op tournee\, dit jaar naar Nederland. Op woensdag 2 april 2025 geeft Eton College Chapel Choir een concert in de Sint-Joriskerk. \nEton College Choir\nHet koor staat onder leiding van Tim Johnson\, de Director of Music van Eton College. Na zijn studie in Cambridge was hij dirigent van colleges in Wellington en Eltham. Hij maakte met het koor van Eton twee cd’s en maakte met hen concertreizen naar China\, Japan\, Duitsland\, India en Letland. Hij is ook dirigent van de Windsor and Eton Choral Society. \nChristopher Allsop is sinds januari 2023 aan Eton College verbonden als organist. Hij studeerde orgel in zijn geboorteplaats Londen. Hij was vanaf 1997 verbonden aan Birmingham Cathedral en gaf les aan het conservatorium in deze stad. In 2004 werd hij Assistant Organist van Worcester Cathedral en Director of Music aan de King’s School in Worcester. \nProgramma\nOp het programma staat een aantal grote koorwerken uit de Engelse romantiek\, waarbij het orgel een grote rol speelt\, zoals ‘And I saw a new heaven’ van Edgar Bainton (1880-1956)\, ‘Great is the Lord’ (Psalm 48) van Edward Elgar (1857-1934)\, ‘O thou the central orb’ van Charles Wood (1866-1926) en John Irelands ‘Greater love had no man’. Het concert sluit af met het majestueuze ‘I was glad\, (Psalm 122) van Charles Hubert Hastings Parry (1848-1918). \nHet koor laat niet alleen Engelse muziek horen\, ook Franse muziek komt aan bod. Van de Messe Solennelle van Louis Vierne (1870-1837) zingt het koor drie delen: Kyrie\, Sanctus en Agnus Dei. \nVerder staat van Ralph Vaughan Williams (1872-1958) het vroeg-moderne ‘Let all the world in every corner sing’ op het programma en een aantal a capella werken: ‘Locus iste’ van Anton Bruckner (1824-1896) en het serene eerste vers van Psalm 119 ‘Beati quorum via integra est’ van Charles Villiers Stanford (1852-1924). \nVerder speelt Christopher Allsop twee orgelwerken. \nPraktische informatie\nHet concert begint om 20:00 uur\, kerk open om 19:30 uur. Toegang 10 euro (tot 18 jaar vrije toegang)\, inclusief koffie of thee vooraf.
URL:https://joriskerkamersfoort.nl/evenement/concert-eton-college-chapel-choir/
LOCATION:Sint-Joriskerk\, Hof 1\, Amersfoort\, 3811 CJ\, Nederland
ATTACH;FMTTYPE=image/jpeg:https://joriskerkamersfoort.nl/wp-content/uploads/2025/03/ec-picture-ccc-2024.jpg
GEO:52.1566965;5.3902512
X-APPLE-STRUCTURED-LOCATION;VALUE=URI;X-ADDRESS=Sint-Joriskerk Hof 1 Amersfoort 3811 CJ Nederland;X-APPLE-RADIUS=500;X-TITLE=Hof 1:geo:5.3902512,52.1566965
END:VEVENT
END:VCALENDAR