BEGIN:VCALENDAR
VERSION:2.0
PRODID:-//Joriskerk Amersfoort - ECPv6.15.19//NONSGML v1.0//EN
CALSCALE:GREGORIAN
METHOD:PUBLISH
X-WR-CALNAME:Joriskerk Amersfoort
X-ORIGINAL-URL:https://joriskerkamersfoort.nl
X-WR-CALDESC:Evenementen voor Joriskerk Amersfoort
REFRESH-INTERVAL;VALUE=DURATION:PT1H
X-Robots-Tag:noindex
X-PUBLISHED-TTL:PT1H
BEGIN:VTIMEZONE
TZID:Europe/Amsterdam
BEGIN:DAYLIGHT
TZOFFSETFROM:+0100
TZOFFSETTO:+0200
TZNAME:CEST
DTSTART:20240331T010000
END:DAYLIGHT
BEGIN:STANDARD
TZOFFSETFROM:+0200
TZOFFSETTO:+0100
TZNAME:CET
DTSTART:20241027T010000
END:STANDARD
BEGIN:DAYLIGHT
TZOFFSETFROM:+0100
TZOFFSETTO:+0200
TZNAME:CEST
DTSTART:20250330T010000
END:DAYLIGHT
BEGIN:STANDARD
TZOFFSETFROM:+0200
TZOFFSETTO:+0100
TZNAME:CET
DTSTART:20251026T010000
END:STANDARD
BEGIN:DAYLIGHT
TZOFFSETFROM:+0100
TZOFFSETTO:+0200
TZNAME:CEST
DTSTART:20260329T010000
END:DAYLIGHT
BEGIN:STANDARD
TZOFFSETFROM:+0200
TZOFFSETTO:+0100
TZNAME:CET
DTSTART:20261025T010000
END:STANDARD
END:VTIMEZONE
BEGIN:VEVENT
DTSTART;TZID=Europe/Amsterdam:20250405T120000
DTEND;TZID=Europe/Amsterdam:20250405T160000
DTSTAMP:20260419T210850
CREATED:20250219T111141Z
LAST-MODIFIED:20250219T111141Z
UID:10004341-1743854400-1743868800@joriskerkamersfoort.nl
SUMMARY:Bezichtig de Sint-Joriskerk in de lente!
DESCRIPTION:Wij openen onze deuren tijdens de lente. Bezoekers zijn op geselecteerde zaterdagen van harte welkom om de Sint-Joriskerk te bezichtigen. \nGratis kinderspeurtocht\nMet kinderen op speurtocht in de Sint-Joriskerk? Kinderen kunnen tijdens de openstelling een (gratis!) speurtocht komen doen. Begeleiding van een volwassene verplicht\, meer informatie te vinden bij de ingang. \nEntree informatie\nDe kerk is geopend van 12:00 – 16:00 uur. Entree kost €2\, toegang tot 12 jaar of als Vriend van de Joriskerk gratis. \nOpen zaterdagen \n\nZaterdag 22 maart 12 – 16 uur\nZaterdag 5 april 12 – 16 uur\nZaterdag 12 april 12 – 16 uur\nZaterdag 26 april 12 – 16 uur
URL:https://joriskerkamersfoort.nl/evenement/bezichtig-de-sint-joriskerk-in-de-lente/2025-04-05/
LOCATION:Sint-Joriskerk\, Hof 1\, Amersfoort\, 3811 CJ\, Nederland
ATTACH;FMTTYPE=image/jpeg:https://joriskerkamersfoort.nl/wp-content/uploads/2025/02/lenteopenstelling-2025.jpg
GEO:52.1566965;5.3902512
X-APPLE-STRUCTURED-LOCATION;VALUE=URI;X-ADDRESS=Sint-Joriskerk Hof 1 Amersfoort 3811 CJ Nederland;X-APPLE-RADIUS=500;X-TITLE=Hof 1:geo:5.3902512,52.1566965
END:VEVENT
BEGIN:VEVENT
DTSTART;TZID=Europe/Amsterdam:20250405T153000
DTEND;TZID=Europe/Amsterdam:20250405T163000
DTSTAMP:20260419T210850
CREATED:20250305T150853Z
LAST-MODIFIED:20250326T140434Z
UID:10004354-1743867000-1743870600@joriskerkamersfoort.nl
SUMMARY:Concert op het Strubbe-orgel met blokfluit door Magda de Jong
DESCRIPTION:Organist Rien Donkersloot en blokfluitiste Magda de Jong geven op zaterdagmiddag 5 april 2025 een concert in de Sint-Joriskerk in Amersfoort. Het concert vindt plaats op en rond het Strubbe-orgel in de noordbeuk van de kerk. Op het programma staan werken van Praetorius\, Sweelinck\, Ricco\, Rossi en Van Eijck\, Frescobaldi. \nOver Magda de Jong\nMagda de Jong begon op tienjarige leeftijd met blokfluit spelen. Aanvankelijk zag ze de blokfluit als beginnersinstrument\, maar al snel werd ze verliefd op de klank. Dat had als gevolg dat ze voorgoed koos voor de muziek. Aan het Rotterdams Conservatorium studeerde ze bij Thera de Clerck en in 1995 voltooide ze haar studie bij Han Tol. \nAls solist speelt Magda de Jong samen met verschillende organisten\, zoals Christiaan Ingelse\, Gerben Mourik en Gerben Budding. In Duo Passionate maakt en speelt ze samen met Jaap-Jan de Rooij thematische programma’s. Ook werkt ze samen met dirigent Patrick van der Linden. Cambiamento Musicale\, is een kwartet waarin ze musiceert met Stephan Esmeijer\, Gerrieke Verheij en Gerben Mourik. Componisten zoals Arie Keijzer en Abraham den Dunnen droegen hun composities aan haar op. \nZe heeft in Gouda een uitgebreide lespraktijk vanuit het speciaal voor dat doel gebouwde Fluithuis\, dat ondertussen een begrip is in Gouda en omstreken. In deze karakteristieke ruimte geeft ze les aan jong en oud op alle soorten blokfluiten. Die verschillende soorten fluiten worden ook gebruikt in de ensembles en kwartetten waarin les kan worden gevolgd. \nAlgemene informatie\nHet concert in de Sint-Joriskerk begint om 15.30 uur. Vanaf 15.00 uur is de kerk open. Vooraf en na afloop is er gratis koffie en thee. De toegang is vrij. Na afloop is er een collecte. Op het programmablad staat een QR-code voor het scannen van een bijdrage.
URL:https://joriskerkamersfoort.nl/evenement/concert-op-het-strubbe-orgel/
LOCATION:Sint-Joriskerk\, Hof 1\, Amersfoort\, 3811 CJ\, Nederland
ATTACH;FMTTYPE=image/jpeg:https://joriskerkamersfoort.nl/wp-content/uploads/2025/03/magda-de-jongduopassionate.jpg
GEO:52.1566965;5.3902512
X-APPLE-STRUCTURED-LOCATION;VALUE=URI;X-ADDRESS=Sint-Joriskerk Hof 1 Amersfoort 3811 CJ Nederland;X-APPLE-RADIUS=500;X-TITLE=Hof 1:geo:5.3902512,52.1566965
END:VEVENT
END:VCALENDAR