BEGIN:VCALENDAR
VERSION:2.0
PRODID:-//Joriskerk Amersfoort - ECPv6.15.19//NONSGML v1.0//EN
CALSCALE:GREGORIAN
METHOD:PUBLISH
X-ORIGINAL-URL:https://joriskerkamersfoort.nl
X-WR-CALDESC:Evenementen voor Joriskerk Amersfoort
REFRESH-INTERVAL;VALUE=DURATION:PT1H
X-Robots-Tag:noindex
X-PUBLISHED-TTL:PT1H
BEGIN:VTIMEZONE
TZID:Europe/Amsterdam
BEGIN:DAYLIGHT
TZOFFSETFROM:+0100
TZOFFSETTO:+0200
TZNAME:CEST
DTSTART:20240331T010000
END:DAYLIGHT
BEGIN:STANDARD
TZOFFSETFROM:+0200
TZOFFSETTO:+0100
TZNAME:CET
DTSTART:20241027T010000
END:STANDARD
BEGIN:DAYLIGHT
TZOFFSETFROM:+0100
TZOFFSETTO:+0200
TZNAME:CEST
DTSTART:20250330T010000
END:DAYLIGHT
BEGIN:STANDARD
TZOFFSETFROM:+0200
TZOFFSETTO:+0100
TZNAME:CET
DTSTART:20251026T010000
END:STANDARD
BEGIN:DAYLIGHT
TZOFFSETFROM:+0100
TZOFFSETTO:+0200
TZNAME:CEST
DTSTART:20260329T010000
END:DAYLIGHT
BEGIN:STANDARD
TZOFFSETFROM:+0200
TZOFFSETTO:+0100
TZNAME:CET
DTSTART:20261025T010000
END:STANDARD
END:VTIMEZONE
BEGIN:VEVENT
DTSTART;TZID=Europe/Amsterdam:20250411T200000
DTEND;TZID=Europe/Amsterdam:20250411T220000
DTSTAMP:20260419T205301
CREATED:20250305T142858Z
LAST-MODIFIED:20250305T142858Z
UID:10004349-1744401600-1744408800@joriskerkamersfoort.nl
SUMMARY:Devine Compassion concert SoliAmersfoort
DESCRIPTION:De naam Andrew Lloyd Webber behoeft nauwelijks introductie. In dit passieconcert zingt SoliAmersfoort delen uit zijn revolutionaire rock-opera Jesus Christ Superstar\, gearrangeerd door Neil Slater. De avond wordt echter grotendeels gevuld met een werk van zijn vader William Lloyd Webber\, The Divine Compassion is een ontroerend werk dat het lijdensverhaal van Christus volgens het evangelie van Johannes vertelt met accent op de liefde en het mededogen waarmee Jezus zijn offer voor de mensheid brengt. Op drie momenten van reflectie wordt iedereen uitgenodigd deel te nemen aan de overdenking door mee te zingen! Met deze muziek van vader en zoon die enerzijds hetzelfde thema heeft maar qua muzikale invulling hemelsbreed verschilt brengen we een verrassend passie­concert. \n\n\nPraktische informatie\nDe deuren openen om 19:30 uur\, het concert start om 20:00 uur. Kaartjes kosten € 20\,00 (jongeren tot 21 jaar € 10\,00). Te koop via https://www.ticketkantoor.nl/shop/divine
URL:https://joriskerkamersfoort.nl/evenement/devine-compassion-concert-soliamersfoort/
LOCATION:Sint-Joriskerk\, Hof 1\, Amersfoort\, 3811 CJ\, Nederland
ATTACH;FMTTYPE=image/jpeg:https://joriskerkamersfoort.nl/wp-content/uploads/2025/03/poster-lloydwebbers_25_poster_v3.1-01.jpg
GEO:52.1566965;5.3902512
X-APPLE-STRUCTURED-LOCATION;VALUE=URI;X-ADDRESS=Sint-Joriskerk Hof 1 Amersfoort 3811 CJ Nederland;X-APPLE-RADIUS=500;X-TITLE=Hof 1:geo:5.3902512,52.1566965
END:VEVENT
END:VCALENDAR