BEGIN:VCALENDAR
VERSION:2.0
PRODID:-//Joriskerk Amersfoort - ECPv6.15.20//NONSGML v1.0//EN
CALSCALE:GREGORIAN
METHOD:PUBLISH
X-ORIGINAL-URL:https://joriskerkamersfoort.nl
X-WR-CALDESC:Evenementen voor Joriskerk Amersfoort
REFRESH-INTERVAL;VALUE=DURATION:PT1H
X-Robots-Tag:noindex
X-PUBLISHED-TTL:PT1H
BEGIN:VTIMEZONE
TZID:Europe/Amsterdam
BEGIN:DAYLIGHT
TZOFFSETFROM:+0100
TZOFFSETTO:+0200
TZNAME:CEST
DTSTART:20240331T010000
END:DAYLIGHT
BEGIN:STANDARD
TZOFFSETFROM:+0200
TZOFFSETTO:+0100
TZNAME:CET
DTSTART:20241027T010000
END:STANDARD
BEGIN:DAYLIGHT
TZOFFSETFROM:+0100
TZOFFSETTO:+0200
TZNAME:CEST
DTSTART:20250330T010000
END:DAYLIGHT
BEGIN:STANDARD
TZOFFSETFROM:+0200
TZOFFSETTO:+0100
TZNAME:CET
DTSTART:20251026T010000
END:STANDARD
BEGIN:DAYLIGHT
TZOFFSETFROM:+0100
TZOFFSETTO:+0200
TZNAME:CEST
DTSTART:20260329T010000
END:DAYLIGHT
BEGIN:STANDARD
TZOFFSETFROM:+0200
TZOFFSETTO:+0100
TZNAME:CET
DTSTART:20261025T010000
END:STANDARD
END:VTIMEZONE
BEGIN:VEVENT
DTSTART;TZID=Europe/Amsterdam:20250704T110000
DTEND;TZID=Europe/Amsterdam:20250704T170000
DTSTAMP:20260422T060213
CREATED:20250326T144440Z
LAST-MODIFIED:20250925T084835Z
UID:10006613-1751626800-1751648400@joriskerkamersfoort.nl
SUMMARY:Sint-Joriskerk geopend voor bezoek!
DESCRIPTION:Tijdens de zomer is de Sint-Joriskerk van dinsdag t/m zaterdag geopend voor bezoekers. Een plaats van rust en stilte of om rond te kijken in het bijzondere gebouw. We openen van 13 mei t/m 4 oktober 2025. We zien u graag dan! \nGratis kinderspeurtocht\nMet kinderen op speurtocht in de Sint-Joriskerk? Kinderen kunnen tijdens de openstelling een (gratis!) speurtocht komen doen. Begeleiding van een volwassene verplicht\, meer informatie te vinden bij de ingang. \nEntree informatie\nDe kerk is geopend op dinsdag t/m zaterdag\, van 11:00 – 17:00 uur. Entree kost €2\, toegang tot 12 jaar\, of als Vriend van de Sint-Joriskerk\, gratis. \nWij zijn i.v.m. verhuur gesloten op: \n\nwoensdag 1 oktober
URL:https://joriskerkamersfoort.nl/evenement/sint-joriskerk-geopend-voor-bezoek/2025-07-04/
LOCATION:Sint-Joriskerk\, Hof 1\, Amersfoort\, 3811 CJ\, Nederland
ATTACH;FMTTYPE=image/jpeg:https://joriskerkamersfoort.nl/wp-content/uploads/2025/03/visual-zomer-openstelling-2025-sint-joriskerk.jpg
GEO:52.1566965;5.3902512
X-APPLE-STRUCTURED-LOCATION;VALUE=URI;X-ADDRESS=Sint-Joriskerk Hof 1 Amersfoort 3811 CJ Nederland;X-APPLE-RADIUS=500;X-TITLE=Hof 1:geo:5.3902512,52.1566965
END:VEVENT
BEGIN:VEVENT
DTSTART;TZID=Europe/Amsterdam:20250704T203000
DTEND;TZID=Europe/Amsterdam:20250704T230000
DTSTAMP:20260422T060213
CREATED:20250205T135121Z
LAST-MODIFIED:20250205T135422Z
UID:10004339-1751661000-1751670000@joriskerkamersfoort.nl
SUMMARY:Tribute to Queen - Unplugged
DESCRIPTION:Stel je voor: de iconische nummers van Queen in een intieme\, op MTV Unplugged geïnspireerde\, akoestische setting. Tributeband ‘The Dutch Queen Unplugged’ brengt een eerbetoon aan de tijdloze muziek van Queen. Nummers als ‘Radio Ga Ga’ worden omgetoverd tot ingetogen ballads\, en hits als ‘Bohemian Rhapsody’ en ‘Another One Bites The Dust’ krijgen een nieuwe dimensie. In kleine bezetting maar met dezelfde energie brengen topmuzikanten vele juweeltjes uit het rijke oeuvre van de band. Kom kijken en ervaar het zelf! \n\n\n\n\n\n\nMerijn van Haren – zang (Navarone en The Analogues)\nKees Lewiszong – gitaar\, zang (Navarone)\nHenk Jan Heuvelink – piano\, zang (Marike Jager en Klein Orkest) \n\n\n\nTijden\nDeuren open: 19:00 uur\nStart show: 20:30 uur\nHet betreft een luisterconcert met staplaatsen! Er is horeca aanwezig op locatie.
URL:https://joriskerkamersfoort.nl/evenement/tribute-to-queen-unplugged/
LOCATION:Sint-Joriskerk\, Hof 1\, Amersfoort\, 3811 CJ\, Nederland
ATTACH;FMTTYPE=image/jpeg:https://joriskerkamersfoort.nl/wp-content/uploads/2025/02/dutch-queen-unplugged.jpg
GEO:52.1566965;5.3902512
X-APPLE-STRUCTURED-LOCATION;VALUE=URI;X-ADDRESS=Sint-Joriskerk Hof 1 Amersfoort 3811 CJ Nederland;X-APPLE-RADIUS=500;X-TITLE=Hof 1:geo:5.3902512,52.1566965
END:VEVENT
END:VCALENDAR