BEGIN:VCALENDAR
VERSION:2.0
PRODID:-//Joriskerk Amersfoort - ECPv6.15.20//NONSGML v1.0//EN
CALSCALE:GREGORIAN
METHOD:PUBLISH
X-WR-CALNAME:Joriskerk Amersfoort
X-ORIGINAL-URL:https://joriskerkamersfoort.nl
X-WR-CALDESC:Evenementen voor Joriskerk Amersfoort
REFRESH-INTERVAL;VALUE=DURATION:PT1H
X-Robots-Tag:noindex
X-PUBLISHED-TTL:PT1H
BEGIN:VTIMEZONE
TZID:Europe/Amsterdam
BEGIN:DAYLIGHT
TZOFFSETFROM:+0100
TZOFFSETTO:+0200
TZNAME:CEST
DTSTART:20240331T010000
END:DAYLIGHT
BEGIN:STANDARD
TZOFFSETFROM:+0200
TZOFFSETTO:+0100
TZNAME:CET
DTSTART:20241027T010000
END:STANDARD
BEGIN:DAYLIGHT
TZOFFSETFROM:+0100
TZOFFSETTO:+0200
TZNAME:CEST
DTSTART:20250330T010000
END:DAYLIGHT
BEGIN:STANDARD
TZOFFSETFROM:+0200
TZOFFSETTO:+0100
TZNAME:CET
DTSTART:20251026T010000
END:STANDARD
BEGIN:DAYLIGHT
TZOFFSETFROM:+0100
TZOFFSETTO:+0200
TZNAME:CEST
DTSTART:20260329T010000
END:DAYLIGHT
BEGIN:STANDARD
TZOFFSETFROM:+0200
TZOFFSETTO:+0100
TZNAME:CET
DTSTART:20261025T010000
END:STANDARD
END:VTIMEZONE
BEGIN:VEVENT
DTSTART;TZID=Europe/Amsterdam:20250915T193000
DTEND;TZID=Europe/Amsterdam:20250915T201500
DTSTAMP:20260422T112727
CREATED:20250702T202553Z
LAST-MODIFIED:20250826T124003Z
UID:10006552-1757964600-1757967300@joriskerkamersfoort.nl
SUMMARY:Kroonbede 2025
DESCRIPTION:Samen bidden voor stad en land\, aan de vooravond van de Troonrede. Op maandag 15 september 19.30-20.15 uur organiseert de Raad van Kerken Amersfoort de jaarlijkse Kroonbede in de St.-Joriskerk. Paul Schenderling verzorgt de preek met het thema ‘Het rijk van de schaarste en het rijk van de overvloed’. \nKoor 4U verleent medewerking onder leiding van Ron Adelaar. Welkom voor iedereen\, ook voor de koffie en thee na afloop.
URL:https://joriskerkamersfoort.nl/evenement/kroonbede-2025/
LOCATION:Sint-Joriskerk\, Hof 1\, Amersfoort\, 3811 CJ\, Nederland
ATTACH;FMTTYPE=image/jpeg:https://joriskerkamersfoort.nl/wp-content/uploads/2025/07/flyer-kroonbede-joriskerk-15-september-2025.jpg
GEO:52.1566965;5.3902512
X-APPLE-STRUCTURED-LOCATION;VALUE=URI;X-ADDRESS=Sint-Joriskerk Hof 1 Amersfoort 3811 CJ Nederland;X-APPLE-RADIUS=500;X-TITLE=Hof 1:geo:5.3902512,52.1566965
END:VEVENT
END:VCALENDAR