BEGIN:VCALENDAR
VERSION:2.0
PRODID:-//Joriskerk Amersfoort - ECPv6.15.19//NONSGML v1.0//EN
CALSCALE:GREGORIAN
METHOD:PUBLISH
X-WR-CALNAME:Joriskerk Amersfoort
X-ORIGINAL-URL:https://joriskerkamersfoort.nl
X-WR-CALDESC:Evenementen voor Joriskerk Amersfoort
REFRESH-INTERVAL;VALUE=DURATION:PT1H
X-Robots-Tag:noindex
X-PUBLISHED-TTL:PT1H
BEGIN:VTIMEZONE
TZID:Europe/Amsterdam
BEGIN:DAYLIGHT
TZOFFSETFROM:+0100
TZOFFSETTO:+0200
TZNAME:CEST
DTSTART:20250330T010000
END:DAYLIGHT
BEGIN:STANDARD
TZOFFSETFROM:+0200
TZOFFSETTO:+0100
TZNAME:CET
DTSTART:20251026T010000
END:STANDARD
BEGIN:DAYLIGHT
TZOFFSETFROM:+0100
TZOFFSETTO:+0200
TZNAME:CEST
DTSTART:20260329T010000
END:DAYLIGHT
BEGIN:STANDARD
TZOFFSETFROM:+0200
TZOFFSETTO:+0100
TZNAME:CET
DTSTART:20261025T010000
END:STANDARD
BEGIN:DAYLIGHT
TZOFFSETFROM:+0100
TZOFFSETTO:+0200
TZNAME:CEST
DTSTART:20270328T010000
END:DAYLIGHT
BEGIN:STANDARD
TZOFFSETFROM:+0200
TZOFFSETTO:+0100
TZNAME:CET
DTSTART:20271031T010000
END:STANDARD
END:VTIMEZONE
BEGIN:VEVENT
DTSTART;TZID=Europe/Amsterdam:20260110T153000
DTEND;TZID=Europe/Amsterdam:20260110T163000
DTSTAMP:20260420T161228
CREATED:20251216T151158Z
LAST-MODIFIED:20251218T112727Z
UID:10006708-1768059000-1768062600@joriskerkamersfoort.nl
SUMMARY:Buxtehude Integrale – Deel 5 door Rien Donkersloot
DESCRIPTION:Rien Donkersloot speelt alle orgelwerken van Buxtehude\, concert V. \nOp zaterdagmiddag 10 januari gaat Rien Donkersloot verder met het spelen van alle orgelwerken van Buxtehude. In een reeks van ongeveer tien concerten speelt Rien alle orgelwerken van de Deens-Duitse componist Dieterich Buxtehude (1637-1707) op het Metzler-Edskes koororgel van de Sint-Joriskerk. \nHet concert begint om 15:30 uur. De toegang is vrij\, met een collecte na afloop. Heb je geen geld bij je?  In het programmaboekje staat een QR-code. Gratis koffie en thee vooraf en na afloop.
URL:https://joriskerkamersfoort.nl/evenement/buxtehude-integrale-deel-5-door-rien-donkersloot/
LOCATION:Sint-Joriskerk\, Hof 1\, Amersfoort\, 3811 CJ\, Nederland
ATTACH;FMTTYPE=image/jpeg:https://joriskerkamersfoort.nl/wp-content/uploads/2025/12/260110-rd-buxtehude-v-poster-koororgel-scaled.jpg
GEO:52.1566965;5.3902512
X-APPLE-STRUCTURED-LOCATION;VALUE=URI;X-ADDRESS=Sint-Joriskerk Hof 1 Amersfoort 3811 CJ Nederland;X-APPLE-RADIUS=500;X-TITLE=Hof 1:geo:5.3902512,52.1566965
END:VEVENT
END:VCALENDAR