BEGIN:VCALENDAR
VERSION:2.0
PRODID:-//Joriskerk Amersfoort - ECPv6.15.19//NONSGML v1.0//EN
CALSCALE:GREGORIAN
METHOD:PUBLISH
X-WR-CALNAME:Joriskerk Amersfoort
X-ORIGINAL-URL:https://joriskerkamersfoort.nl
X-WR-CALDESC:Evenementen voor Joriskerk Amersfoort
REFRESH-INTERVAL;VALUE=DURATION:PT1H
X-Robots-Tag:noindex
X-PUBLISHED-TTL:PT1H
BEGIN:VTIMEZONE
TZID:Europe/Amsterdam
BEGIN:DAYLIGHT
TZOFFSETFROM:+0100
TZOFFSETTO:+0200
TZNAME:CEST
DTSTART:20250330T010000
END:DAYLIGHT
BEGIN:STANDARD
TZOFFSETFROM:+0200
TZOFFSETTO:+0100
TZNAME:CET
DTSTART:20251026T010000
END:STANDARD
BEGIN:DAYLIGHT
TZOFFSETFROM:+0100
TZOFFSETTO:+0200
TZNAME:CEST
DTSTART:20260329T010000
END:DAYLIGHT
BEGIN:STANDARD
TZOFFSETFROM:+0200
TZOFFSETTO:+0100
TZNAME:CET
DTSTART:20261025T010000
END:STANDARD
BEGIN:DAYLIGHT
TZOFFSETFROM:+0100
TZOFFSETTO:+0200
TZNAME:CEST
DTSTART:20270328T010000
END:DAYLIGHT
BEGIN:STANDARD
TZOFFSETFROM:+0200
TZOFFSETTO:+0100
TZNAME:CET
DTSTART:20271031T010000
END:STANDARD
END:VTIMEZONE
BEGIN:VEVENT
DTSTART;TZID=Europe/Amsterdam:20260306T193000
DTEND;TZID=Europe/Amsterdam:20260306T213000
DTSTAMP:20260420T143259
CREATED:20251216T151931Z
LAST-MODIFIED:20260108T135945Z
UID:10006710-1772825400-1772832600@joriskerkamersfoort.nl
SUMMARY:Met Christus opgestaan - concert Sela
DESCRIPTION:Christelijke band Sela komt naar Amersfoort voor paasconcert \nOp vrijdag 6 maart komt de christelijke band Sela naar Amersfoort voor een bijzonder paasconcert in de Joriskerk. Tijdens dit concert staan de woorden uit Kolossenzen 3 centraal: ‘Met Christus gestorven; met Christus opgestaan; met Christus verborgen in God.’ \nDeze bijbeltekst kan vreemd klinken: hoe kun je gestorven zijn en toch leven in God? Maar precies dat is de kern van Pasen: het oude leven is voorbij en in Christus begint iets nieuws. Door te geloven worden we met Christus verbonden\, in zijn dood én opstanding. Ons leven hangt niet langer af van wat wij doen\, maar rust in Hem. \nHet paasconcert van Sela is onderdeel van een landelijke treeks. Tijdens deze concerten maakt Sela samen met het publiek een muzikale reis door de laatste dagen van Jezus: van zijn intocht in Jeruzalem\, langs het kruis en het stille graf\, tot aan de vreugde van zijn opstanding. Bekende paasliederen klinken naast de Sela-liederen van het gelijknamige album dat in januari verschijnt. \nSela nodigt je uit om mee te lopen met de discipelen\, stil te worden bij het kruis en de opstanding voluit te vieren! \nDatum: vrijdag 6 maart\nLocatie: Joriskerk – Amersfoort\nStandaard entreekaarten kosten € 31\,50 en zijn verkrijgbaar via sela.nl/concerten
URL:https://joriskerkamersfoort.nl/evenement/concert-sela/
LOCATION:Sint-Joriskerk\, Hof 1\, Amersfoort\, 3811 CJ\, Nederland
ATTACH;FMTTYPE=image/jpeg:https://joriskerkamersfoort.nl/wp-content/uploads/2025/12/socials_1280_800.jpg
GEO:52.1566965;5.3902512
X-APPLE-STRUCTURED-LOCATION;VALUE=URI;X-ADDRESS=Sint-Joriskerk Hof 1 Amersfoort 3811 CJ Nederland;X-APPLE-RADIUS=500;X-TITLE=Hof 1:geo:5.3902512,52.1566965
END:VEVENT
END:VCALENDAR