BEGIN:VCALENDAR
VERSION:2.0
PRODID:-//Joriskerk Amersfoort - ECPv6.15.20//NONSGML v1.0//EN
CALSCALE:GREGORIAN
METHOD:PUBLISH
X-ORIGINAL-URL:https://joriskerkamersfoort.nl
X-WR-CALDESC:Evenementen voor Joriskerk Amersfoort
REFRESH-INTERVAL;VALUE=DURATION:PT1H
X-Robots-Tag:noindex
X-PUBLISHED-TTL:PT1H
BEGIN:VTIMEZONE
TZID:Europe/Amsterdam
BEGIN:DAYLIGHT
TZOFFSETFROM:+0100
TZOFFSETTO:+0200
TZNAME:CEST
DTSTART:20260329T010000
END:DAYLIGHT
BEGIN:STANDARD
TZOFFSETFROM:+0200
TZOFFSETTO:+0100
TZNAME:CET
DTSTART:20261025T010000
END:STANDARD
BEGIN:DAYLIGHT
TZOFFSETFROM:+0100
TZOFFSETTO:+0200
TZNAME:CEST
DTSTART:20270328T010000
END:DAYLIGHT
BEGIN:STANDARD
TZOFFSETFROM:+0200
TZOFFSETTO:+0100
TZNAME:CET
DTSTART:20271031T010000
END:STANDARD
BEGIN:DAYLIGHT
TZOFFSETFROM:+0100
TZOFFSETTO:+0200
TZNAME:CEST
DTSTART:20280326T010000
END:DAYLIGHT
BEGIN:STANDARD
TZOFFSETFROM:+0200
TZOFFSETTO:+0100
TZNAME:CET
DTSTART:20281029T010000
END:STANDARD
END:VTIMEZONE
BEGIN:VEVENT
DTSTART;TZID=Europe/Amsterdam:20270730T110000
DTEND;TZID=Europe/Amsterdam:20270730T170000
DTSTAMP:20260423T075402
CREATED:20260422T111644Z
LAST-MODIFIED:20260422T111740Z
UID:10007505-1816945200-1816966800@joriskerkamersfoort.nl
SUMMARY:Sprekende Beelden - Mini-expositie Nic van Tricht
DESCRIPTION:In deze kleine expositie neemt de kunstenaar je mee in een verbeelding van geborgenheid\, gebrokenheid en vrijheid. Eerlijk\, troostend en confronterend. Kunstwerken gemaakt van verschillende materialen\, waaronder steen. \nNic van Tricht maakt al 20 jaar beeldende kunst. In zijn zoektocht naar waarheid en werkelijke vrijheid was er ook de confrontatie met gebrokenheid én het omarmen daarvan. Elk beeld mag een reactie bij de kijker losmaken op de vraag: En wat vind jij ervan? \nPraktische informatie\nVan 2 juni t/m 1 augustus 2026\nDinsdag t/m zaterdag\, 11 – 17 uur\nToegang kost 2 euro\, voor bezichtiging kerk en expositie. Kinderen t/m 12 jaar gratis.\nLet op: Op sommige dagen is de kerk dicht vanwege verhuur. Bekijk voor je bezoek altijd de agenda of de kerk geopend is.
URL:https://joriskerkamersfoort.nl/evenement/mini-expositie-sprekende-beelden-door-nic-van-tricht/2027-07-30/
LOCATION:Sint-Joriskerk\, Hof 1\, Amersfoort\, 3811 CJ\, Nederland
ATTACH;FMTTYPE=image/jpeg:https://joriskerkamersfoort.nl/wp-content/uploads/2026/03/sprekende-beelden-2.jpeg
GEO:52.1566965;5.3902512
X-APPLE-STRUCTURED-LOCATION;VALUE=URI;X-ADDRESS=Sint-Joriskerk Hof 1 Amersfoort 3811 CJ Nederland;X-APPLE-RADIUS=500;X-TITLE=Hof 1:geo:5.3902512,52.1566965
END:VEVENT
END:VCALENDAR