BEGIN:VCALENDAR
VERSION:2.0
PRODID:-//Joriskerk Amersfoort - ECPv6.15.20//NONSGML v1.0//EN
CALSCALE:GREGORIAN
METHOD:PUBLISH
X-WR-CALNAME:Joriskerk Amersfoort
X-ORIGINAL-URL:https://joriskerkamersfoort.nl
X-WR-CALDESC:Evenementen voor Joriskerk Amersfoort
REFRESH-INTERVAL;VALUE=DURATION:PT1H
X-Robots-Tag:noindex
X-PUBLISHED-TTL:PT1H
BEGIN:VTIMEZONE
TZID:Europe/Amsterdam
BEGIN:DAYLIGHT
TZOFFSETFROM:+0100
TZOFFSETTO:+0200
TZNAME:CEST
DTSTART:20210328T010000
END:DAYLIGHT
BEGIN:STANDARD
TZOFFSETFROM:+0200
TZOFFSETTO:+0100
TZNAME:CET
DTSTART:20211031T010000
END:STANDARD
BEGIN:DAYLIGHT
TZOFFSETFROM:+0100
TZOFFSETTO:+0200
TZNAME:CEST
DTSTART:20220327T010000
END:DAYLIGHT
BEGIN:STANDARD
TZOFFSETFROM:+0200
TZOFFSETTO:+0100
TZNAME:CET
DTSTART:20221030T010000
END:STANDARD
BEGIN:DAYLIGHT
TZOFFSETFROM:+0100
TZOFFSETTO:+0200
TZNAME:CEST
DTSTART:20230326T010000
END:DAYLIGHT
BEGIN:STANDARD
TZOFFSETFROM:+0200
TZOFFSETTO:+0100
TZNAME:CET
DTSTART:20231029T010000
END:STANDARD
END:VTIMEZONE
BEGIN:VEVENT
DTSTART;TZID=Europe/Amsterdam:20220614T110000
DTEND;TZID=Europe/Amsterdam:20220723T170000
DTSTAMP:20260425T170904
CREATED:20220315T200949Z
LAST-MODIFIED:20220608T195204Z
UID:10001651-1655204400-1658595600@joriskerkamersfoort.nl
SUMMARY:Expositie: Verboden\, Verdwenen\, Niet Vergeten
DESCRIPTION:Deze expositie bestaat uit 3 onderdelen: \nVerboden\, een expositie van de Leo Smit Stichting. Panelen met foto’s en toelichting over componisten in oorlogstijd \nVerdwenen\, een expositie van 033fotostad. Het lot van de zogeheten Nacht und Nebel gevangenen in de Tweede Wereldoorlog staat centraal in de foto-expositie over het concentratiekamp Natzweiler. In Natzweiler\, het enige Duitse concentratiekamp op Franse bodem\, zitten vele honderden Nacht und Nebel gevangenen uit Nederland en andere Europese landen opgesloten. Veel Nederlandse gevangenen zijn gedeporteerd vanuit kamp Amersfoort. Deze politieke gevangenen worden\, ver verwijderd van de bewoonde wereld\, onderworpen aan een hardvochtig regime van rechteloosheid en zware arbeid. Vrienden en verwanten weten niet waar zij zijn en of zij eigenlijk nog wel in leven zijn. Die afschrikking is precies wat de SS met het kamp beoogt. \nFoto’s en verhalen schetsen een beeld van dit in Nederland vrijwel onbekende kamp waar circa 70 subkampen bij hoorden. Er verblijven meer dan 50.000 gevangenen van dertig nationaliteiten. De expositie roept vragen op over de betekenis van herinneren\, over mensenrechten\, vrijheid. \nNiet Vergeten\, een expositie van de Stichting Herdenkingsstenen Amersfoort. Vitrines\, gevuld met herinneringen aan slachtoffers van het naziregime in de Tweede Wereldoorlog. \nOpen: Tijdens de zomeropenstelling van dinsdag 14 juni t/m zaterdag 23 juli\nTijden: dinsdag t/m zaterdag van 11.00-17.00 uur\nKosten: €2. Bij elke entree ontvangt u een folder met uitleg. Kinderen t/m 12 jaar gratis.
URL:https://joriskerkamersfoort.nl/evenement/expositie-nederlandse-componisten-in-oorlogstijd/
LOCATION:Sint-Joriskerk\, Hof 1\, Amersfoort\, 3811 CJ\, Nederland
ATTACH;FMTTYPE=image/jpeg:https://joriskerkamersfoort.nl/wp-content/uploads/2022/06/poster-verboden-verdwenen-niet-vergeten-scaled.jpg
GEO:52.1566965;5.3902512
X-APPLE-STRUCTURED-LOCATION;VALUE=URI;X-ADDRESS=Sint-Joriskerk Hof 1 Amersfoort 3811 CJ Nederland;X-APPLE-RADIUS=500;X-TITLE=Hof 1:geo:5.3902512,52.1566965
END:VEVENT
BEGIN:VEVENT
DTSTART;TZID=Europe/Amsterdam:20220608T130000
DTEND;TZID=Europe/Amsterdam:20220608T143000
DTSTAMP:20260425T170904
CREATED:20220608T195041Z
LAST-MODIFIED:20220608T195041Z
UID:10001661-1654693200-1654698600@joriskerkamersfoort.nl
SUMMARY:Lezing: Ontmoet Natzweiler
DESCRIPTION:Foto door Wim Brummelman \nDeze lezing maakt deel uit van de expositie Verboden\, Verdwenen\, Niet Vergeten. Met enkele verhalen en interviews staan we stil bij de betekenis van Natzweiler voor de ex-gevangenen\, hun families en voor ons. \nIn Natzweiler\, het enige Duitse concentratiekamp op Franse bodem\, zitten vele honderden Nacht und Nebel gevangenen uit Nederland en andere Europese landen opgesloten. Veel Nederlandse gevangenen zijn gedeporteerd vanuit kamp Amersfoort. Deze politieke gevangenen worden\, ver verwijderd van de bewoonde wereld\, onderworpen aan een hardvochtig regime van rechteloosheid en zware arbeid. Vrienden en verwanten weten niet waar zij zijn en of zij eigenlijk nog wel in leven zijn. Die afschrikking is precies wat de SS met het kamp beoogt. \nFoto’s\, tekeningen en persoonlijke verhalen \nFoto’s en verhalen schetsen een beeld van dit in Nederland vrijwel onbekende kamp waar circa 70 subkampen bij hoorden. Er verblijven meer dan 50.000 gevangenen van dertig nationaliteiten. De expositie roept vragen op over de betekenis van herinneren\, over mensenrechten\, vrijheid. \nDe expositie is tot stand gekomen dankzij de medewerking van de stichting Vriendenkring van Oud-Natzweilers\, Nationaal Monument Kamp Amersfoort\, het Centre Européen du Résistant Déporté (CERD) in Natzweiler en archieven en musea in diverse landen. Nabestaanden van gevangenen hebben beeldmateriaal beschikbaar gesteld. De expositie is mede mogelijk gemaakt met financiële steun van het v fonds (Nationaal Fonds voor Vrede\, Vrijheid en Veteranenzorg). De expositie is samengesteld door 033FOTOSTAD.
URL:https://joriskerkamersfoort.nl/evenement/lezing-ontmoet-natzweiler/
LOCATION:Sint-Joriskerk\, Hof 1\, Amersfoort\, 3811 CJ\, Nederland
GEO:52.1566965;5.3902512
X-APPLE-STRUCTURED-LOCATION;VALUE=URI;X-ADDRESS=Sint-Joriskerk Hof 1 Amersfoort 3811 CJ Nederland;X-APPLE-RADIUS=500;X-TITLE=Hof 1:geo:5.3902512,52.1566965
END:VEVENT
BEGIN:VEVENT
DTSTART;TZID=Europe/Amsterdam:20220606T153000
DTEND;TZID=Europe/Amsterdam:20220606T163000
DTSTAMP:20260425T170904
CREATED:20220510T184429Z
LAST-MODIFIED:20220510T184637Z
UID:10002081-1654529400-1654533000@joriskerkamersfoort.nl
SUMMARY:Orgelconcert culturele commissie Sint-Joriskerk
DESCRIPTION:
URL:https://joriskerkamersfoort.nl/evenement/orgelconcert-culturele-commissie-st-joriskerk/2022-06-06/
LOCATION:Sint-Joriskerk\, Hof 1\, Amersfoort\, 3811 CJ\, Nederland
ATTACH;FMTTYPE=image/png:https://joriskerkamersfoort.nl/wp-content/uploads/2020/12/orgel-e1608735091770.png
GEO:52.1566965;5.3902512
X-APPLE-STRUCTURED-LOCATION;VALUE=URI;X-ADDRESS=Sint-Joriskerk Hof 1 Amersfoort 3811 CJ Nederland;X-APPLE-RADIUS=500;X-TITLE=Hof 1:geo:5.3902512,52.1566965
END:VEVENT
BEGIN:VEVENT
DTSTART;TZID=Europe/Amsterdam:20220526T153000
DTEND;TZID=Europe/Amsterdam:20220526T163000
DTSTAMP:20260425T170904
CREATED:20220510T184429Z
LAST-MODIFIED:20220510T184637Z
UID:10002080-1653579000-1653582600@joriskerkamersfoort.nl
SUMMARY:Orgelconcert culturele commissie Sint-Joriskerk
DESCRIPTION:
URL:https://joriskerkamersfoort.nl/evenement/orgelconcert-culturele-commissie-st-joriskerk/2022-05-26/
LOCATION:Sint-Joriskerk\, Hof 1\, Amersfoort\, 3811 CJ\, Nederland
ATTACH;FMTTYPE=image/png:https://joriskerkamersfoort.nl/wp-content/uploads/2020/12/orgel-e1608735091770.png
GEO:52.1566965;5.3902512
X-APPLE-STRUCTURED-LOCATION;VALUE=URI;X-ADDRESS=Sint-Joriskerk Hof 1 Amersfoort 3811 CJ Nederland;X-APPLE-RADIUS=500;X-TITLE=Hof 1:geo:5.3902512,52.1566965
END:VEVENT
BEGIN:VEVENT
DTSTART;TZID=Europe/Amsterdam:20220521T194500
DTEND;TZID=Europe/Amsterdam:20220521T223000
DTSTAMP:20260425T170905
CREATED:20220510T184100Z
LAST-MODIFIED:20220510T184100Z
UID:10002082-1653162300-1653172200@joriskerkamersfoort.nl
SUMMARY:Concert Zingend uitzien naar de toekomst van Cantate Deo
DESCRIPTION:Presentatieconcert van Chr. Gem. Koor ‘Cantate Deo’\no.l.v. Mark Brandwijk \nMet\nJohan Bredewout\, vleugel\nJohan van der Graaf\, orgel\nArjan & Edith Post\, trompet\nWibrand van Norel\, pauken \nInformatie\nVoorverkoop: € 9\,-\, in de kerk: € 15\,- en kinderen t/m 12 jaar gratis. Kaarten verkrijgbaar via de koorleden\, de website of via 06-13071877.
URL:https://joriskerkamersfoort.nl/evenement/concert-zingend-uitzien-naar-de-toekomst-van-cantate-deo/
LOCATION:Sint-Joriskerk\, Hof 1\, Amersfoort\, 3811 CJ\, Nederland
GEO:52.1566965;5.3902512
X-APPLE-STRUCTURED-LOCATION;VALUE=URI;X-ADDRESS=Sint-Joriskerk Hof 1 Amersfoort 3811 CJ Nederland;X-APPLE-RADIUS=500;X-TITLE=Hof 1:geo:5.3902512,52.1566965
END:VEVENT
END:VCALENDAR