BEGIN:VCALENDAR
VERSION:2.0
PRODID:-//Joriskerk Amersfoort - ECPv6.15.20//NONSGML v1.0//EN
CALSCALE:GREGORIAN
METHOD:PUBLISH
X-WR-CALNAME:Joriskerk Amersfoort
X-ORIGINAL-URL:https://joriskerkamersfoort.nl
X-WR-CALDESC:Evenementen voor Joriskerk Amersfoort
REFRESH-INTERVAL;VALUE=DURATION:PT1H
X-Robots-Tag:noindex
X-PUBLISHED-TTL:PT1H
BEGIN:VTIMEZONE
TZID:Europe/Amsterdam
BEGIN:DAYLIGHT
TZOFFSETFROM:+0100
TZOFFSETTO:+0200
TZNAME:CEST
DTSTART:20210328T010000
END:DAYLIGHT
BEGIN:STANDARD
TZOFFSETFROM:+0200
TZOFFSETTO:+0100
TZNAME:CET
DTSTART:20211031T010000
END:STANDARD
BEGIN:DAYLIGHT
TZOFFSETFROM:+0100
TZOFFSETTO:+0200
TZNAME:CEST
DTSTART:20220327T010000
END:DAYLIGHT
BEGIN:STANDARD
TZOFFSETFROM:+0200
TZOFFSETTO:+0100
TZNAME:CET
DTSTART:20221030T010000
END:STANDARD
BEGIN:DAYLIGHT
TZOFFSETFROM:+0100
TZOFFSETTO:+0200
TZNAME:CEST
DTSTART:20230326T010000
END:DAYLIGHT
BEGIN:STANDARD
TZOFFSETFROM:+0200
TZOFFSETTO:+0100
TZNAME:CET
DTSTART:20231029T010000
END:STANDARD
END:VTIMEZONE
BEGIN:VEVENT
DTSTART;TZID=Europe/Amsterdam:20221105T120000
DTEND;TZID=Europe/Amsterdam:20221105T160000
DTSTAMP:20260424T094106
CREATED:20221011T183512Z
LAST-MODIFIED:20230201T130953Z
UID:10002046-1667649600-1667664000@joriskerkamersfoort.nl
SUMMARY:Winteropenstelling 2023
DESCRIPTION:Tijdens de winter is de Sint-Joriskerk op enkele zaterdagen geopend voor het publiek. Een plaats van rust en stilte of om rond te kijken in het bijzondere gebouw. \nGeopend: geselecteerde zaterdagen van 12:00 – 16:00 uur\nEntree: 2 euro p.p. incl. folder met uitleg. Kinderen t/m 12 jaar gratis.\nData: \n\nZaterdag 4 februari\nZaterdag 25 februari\nZaterdag 4 maart\n\nKijk voor de meest actuele openingsdagen en activiteiten in onze agenda.
URL:https://joriskerkamersfoort.nl/evenement/herfstopenstelling/2022-11-05/
ATTACH;FMTTYPE=image/jpeg:https://joriskerkamersfoort.nl/wp-content/uploads/2015/12/Raampartij-exterieur.jpg
END:VEVENT
BEGIN:VEVENT
DTSTART;TZID=Europe/Amsterdam:20221112T200000
DTEND;TZID=Europe/Amsterdam:20221112T220000
DTSTAMP:20260424T094106
CREATED:20221011T185343Z
LAST-MODIFIED:20221011T185343Z
UID:10001674-1668283200-1668290400@joriskerkamersfoort.nl
SUMMARY:Concert Sint Joris Kamerkoor
DESCRIPTION:Het boek der Psalmen vormt een van de oudste tekstuele bronnen voor de muziekgeschiedenis. Het boek geeft ons de vroegste informatie over hoe ver voor aanvang van onze jaartelling werd gemusiceerd; ver ook voor de tijd van het gregoriaans\, dat wordt beschouwd als de oorsprong van de klassieke muziek. Want de psalmen werden (en worden) immers gereciteerd en gezongen in de joodse eredienst. Wat het boek Genesis\, in zijn eentje\, voor de beeldende kunst heeft betekend\, dat zijn de psalmen geweest voor de muziekgeschiedenis. \nTegenwoordig worden de 150 psalmen ingedeeld in vijf kleinere verzamelingen. Het programma volgt dezelfde indeling en maakt een muziekhistorische reis door de tijd langs allerlei manieren van psalm zingen die\, binnen de verschillende tradities waarin ze zijn ontstaan\, zich elk hebben ontwikkeld tot een volledig eigen muzikale stijl. Denk maar eens aan het katholieke gregoriaans\, het Geneefse Psalter\, de Anglicaanse Chant of de Lutherse dubbelkorigheid. \nIn de joodse traditie heet het boek ‘Tehilim’\, lofliederen. Om zo dicht mogelijk bij de bron daarvan te komen werkt een voorzanger uit een Joodse gemeente mee aan het concert. Hij zingt Hebreeuwse psalmen in de oorspronkelijke vorm. \nOmdat het St. Joris Kamerkoor in 2020 alweer 35 jaar bestond\, hebben de koorleden in de oorspronkelijke opzet een speciale bijdrage geleverd aan de totstandkoming van dit lustrumprogramma door hun favoriete psalm(compositie) aan te dragen. De door de leden uitgekozen stukken (met composities uit het gregoriaans en van o.a. Sweelinck\, Byrd\, Mendelssohn\, Brahms\, Franck\, Andriessen\, Howells\, Rutter en MacMillan) geven dit programma\, ook voor onszelf\, een extra speciale en diepgaande betekenis. \nHelaas kon het oorspronkelijk in november 2020 geprogrammeerde concert om de inmiddels bekende reden niet doorgaan\, maar vanavond doen we het graag alsnog. \nMedewerking aan het concert wordt verleend door organist Diederik Blankesteijn en voorzanger Ken Gould. \nToegangsprijs € 15/jongeren t/m 18 jaar gratis. Kaarten kunt u bestellen via www.stjoriskamerkoor.nl/kaartverkoop\, via de leden of aan de kassa voor aanvang van het concert.
URL:https://joriskerkamersfoort.nl/evenement/concert-sint-joris-kamerkoor/
LOCATION:Sint-Joriskerk\, Hof 1\, Amersfoort\, 3811 CJ\, Nederland
GEO:52.1566965;5.3902512
X-APPLE-STRUCTURED-LOCATION;VALUE=URI;X-ADDRESS=Sint-Joriskerk Hof 1 Amersfoort 3811 CJ Nederland;X-APPLE-RADIUS=500;X-TITLE=Hof 1:geo:5.3902512,52.1566965
END:VEVENT
BEGIN:VEVENT
DTSTART;TZID=Europe/Amsterdam:20221119T193000
DTEND;TZID=Europe/Amsterdam:20221119T220000
DTSTAMP:20260424T094106
CREATED:20221011T185745Z
LAST-MODIFIED:20221020T180813Z
UID:10001675-1668886200-1668895200@joriskerkamersfoort.nl
SUMMARY:Concert De Lofstem
DESCRIPTION:Koorbegeleiding De Lofstem Ederveen
URL:https://joriskerkamersfoort.nl/evenement/concert-de-lofstem/
LOCATION:Sint-Joriskerk\, Hof 1\, Amersfoort\, 3811 CJ\, Nederland
GEO:52.1566965;5.3902512
X-APPLE-STRUCTURED-LOCATION;VALUE=URI;X-ADDRESS=Sint-Joriskerk Hof 1 Amersfoort 3811 CJ Nederland;X-APPLE-RADIUS=500;X-TITLE=Hof 1:geo:5.3902512,52.1566965
END:VEVENT
BEGIN:VEVENT
DTSTART;TZID=Europe/Amsterdam:20221126T200000
DTEND;TZID=Europe/Amsterdam:20221126T220000
DTSTAMP:20260424T094106
CREATED:20221011T190022Z
LAST-MODIFIED:20221020T181808Z
UID:10001676-1669492800-1669500000@joriskerkamersfoort.nl
SUMMARY:Concert SoliAmersfoort & AJO
DESCRIPTION:Concert in samenwerking met het Amersfoort Jeugd Orkest \nTcherepnin – Prelude to ‘La Princesse lointaine’\nBrahms – Nänie\nMendelssohn – Die erste Walpurgisnacht \nSint-Joriskerk\, Amersfoort\naanvang 20.00 uur \nTickets: €20\,00\, jongeren tot 25 jaar €5\,00\nTicketverkoop start op 17 oktober
URL:https://joriskerkamersfoort.nl/evenement/concert-soliamersfoort/
LOCATION:Sint-Joriskerk\, Hof 1\, Amersfoort\, 3811 CJ\, Nederland
GEO:52.1566965;5.3902512
X-APPLE-STRUCTURED-LOCATION;VALUE=URI;X-ADDRESS=Sint-Joriskerk Hof 1 Amersfoort 3811 CJ Nederland;X-APPLE-RADIUS=500;X-TITLE=Hof 1:geo:5.3902512,52.1566965
END:VEVENT
BEGIN:VEVENT
DTSTART;TZID=Europe/Amsterdam:20221127T153000
DTEND;TZID=Europe/Amsterdam:20221127T170000
DTSTAMP:20260424T094106
CREATED:20221124T190950Z
LAST-MODIFIED:20221124T191023Z
UID:10001732-1669563000-1669568400@joriskerkamersfoort.nl
SUMMARY:Choral Evensongs in Adventstijd
DESCRIPTION:Op de vier zondagen in de Adventstijd is er ’s middags om 15.30 uur een Choral Evensong in de Sint-Joriskerk in Amersfoort. Gratis toegang\, collecte bij de uitgang. \nZondag 27 november: Vocaal ensemble van het Koorhuys\, o.l.v. Paul Snoek; Rien Donkersloot\, orgel. \nZondag 4 december: Sint-Joris Kamerkoor o.l.v. Wouter Verhage; Rienk Bakker\, orgel. \nZondag 11 december: Capella Amersfoort\, o.l.v. Anthony Scheffer; Rien Donkersloot\, orgel. \nZondag 18 december: Amersfoortse Cantorij\, o.l.v. Bas Ramselaar; Rien Donkersloot\, orgel.
URL:https://joriskerkamersfoort.nl/evenement/choral-evensong-in-adventstijd/2022-11-27/
LOCATION:Sint-Joriskerk\, Hof 1\, Amersfoort\, 3811 CJ\, Nederland
ATTACH;FMTTYPE=image/jpeg:https://joriskerkamersfoort.nl/wp-content/uploads/2022/04/jan-willem-van-braak-lvv_kp0p8_m-unsplash-lichter-liggend-scaled.jpg
GEO:52.1566965;5.3902512
X-APPLE-STRUCTURED-LOCATION;VALUE=URI;X-ADDRESS=Sint-Joriskerk Hof 1 Amersfoort 3811 CJ Nederland;X-APPLE-RADIUS=500;X-TITLE=Hof 1:geo:5.3902512,52.1566965
END:VEVENT
END:VCALENDAR