BEGIN:VCALENDAR
VERSION:2.0
PRODID:-//Joriskerk Amersfoort - ECPv6.15.20//NONSGML v1.0//EN
CALSCALE:GREGORIAN
METHOD:PUBLISH
X-ORIGINAL-URL:https://joriskerkamersfoort.nl
X-WR-CALDESC:Evenementen voor Joriskerk Amersfoort
REFRESH-INTERVAL;VALUE=DURATION:PT1H
X-Robots-Tag:noindex
X-PUBLISHED-TTL:PT1H
BEGIN:VTIMEZONE
TZID:Europe/Amsterdam
BEGIN:DAYLIGHT
TZOFFSETFROM:+0100
TZOFFSETTO:+0200
TZNAME:CEST
DTSTART:20220327T010000
END:DAYLIGHT
BEGIN:STANDARD
TZOFFSETFROM:+0200
TZOFFSETTO:+0100
TZNAME:CET
DTSTART:20221030T010000
END:STANDARD
BEGIN:DAYLIGHT
TZOFFSETFROM:+0100
TZOFFSETTO:+0200
TZNAME:CEST
DTSTART:20230326T010000
END:DAYLIGHT
BEGIN:STANDARD
TZOFFSETFROM:+0200
TZOFFSETTO:+0100
TZNAME:CET
DTSTART:20231029T010000
END:STANDARD
BEGIN:DAYLIGHT
TZOFFSETFROM:+0100
TZOFFSETTO:+0200
TZNAME:CEST
DTSTART:20240331T010000
END:DAYLIGHT
BEGIN:STANDARD
TZOFFSETFROM:+0200
TZOFFSETTO:+0100
TZNAME:CET
DTSTART:20241027T010000
END:STANDARD
END:VTIMEZONE
BEGIN:VEVENT
DTSTART;TZID=Europe/Amsterdam:20230204T120000
DTEND;TZID=Europe/Amsterdam:20230204T160000
DTSTAMP:20260423T083627
CREATED:20221011T183512Z
LAST-MODIFIED:20230201T130953Z
UID:10002047-1675512000-1675526400@joriskerkamersfoort.nl
SUMMARY:Winteropenstelling 2023
DESCRIPTION:Tijdens de winter is de Sint-Joriskerk op enkele zaterdagen geopend voor het publiek. Een plaats van rust en stilte of om rond te kijken in het bijzondere gebouw. \nGeopend: geselecteerde zaterdagen van 12:00 – 16:00 uur\nEntree: 2 euro p.p. incl. folder met uitleg. Kinderen t/m 12 jaar gratis.\nData: \n\nZaterdag 4 februari\nZaterdag 25 februari\nZaterdag 4 maart\n\nKijk voor de meest actuele openingsdagen en activiteiten in onze agenda.
URL:https://joriskerkamersfoort.nl/evenement/herfstopenstelling/2023-02-04/
ATTACH;FMTTYPE=image/jpeg:https://joriskerkamersfoort.nl/wp-content/uploads/2015/12/Raampartij-exterieur.jpg
END:VEVENT
BEGIN:VEVENT
DTSTART;TZID=Europe/Amsterdam:20230217T200000
DTEND;TZID=Europe/Amsterdam:20230217T220000
DTSTAMP:20260423T083627
CREATED:20230214T184756Z
LAST-MODIFIED:20230214T202755Z
UID:10002099-1676664000-1676671200@joriskerkamersfoort.nl
SUMMARY:Examenconcert Master Koordirectie Pieta Maayeshi
DESCRIPTION:Op 17 februari om 20:00 uur geeft Pieta Maayeshi haar eindexamenconcert. Hiermee studeert ze af van haar studie koordirectie Master of Music aan het conservatorium in Utrecht bij hoofdvakdocent Rob Vermeulen. \nTijdens dit concert brengt Maayeshi de volgende werken ten gehore: \n\nMartin Messe pour double choeur\nHaydn Nelsonmesse\n\nMaayeshi als dirigent \n“Al sinds mijn jonge jaren dirigeer ik met veel passie koren en amateurorkesten\, naast mijn werk als viooldocente en violiste. Na het succesvol volgen van de jaarlijkse Kurt Thomascursus voor koordirigenten heb ik besloten de studie koordirectie te volgen en werd ik aangenomen in de opleiding Master of Music koordirectie aan het conservatorium in Utrecht. Met veel plezier ben ik dirigente van het Emmeloords Vocaal Ensemble\, de Melody Singers in Emmeloord en Christelijke Oratorium Vereniging Heerenveen (COV Heerenveen). In november 2022 heb ik met het COV en beroepsorkest Filharmonie Noord de Messiah van Handel uitgevoerd”. \nInformatie \nSint-Joriskerk\, 17 februari 2023\, 20:00 uur \nEntree: vrije gift
URL:https://joriskerkamersfoort.nl/evenement/examenconcert-master-koordirectie-pieta-maayeshi/
LOCATION:Sint-Joriskerk\, Hof 1\, Amersfoort\, 3811 CJ\, Nederland
GEO:52.1566965;5.3902512
X-APPLE-STRUCTURED-LOCATION;VALUE=URI;X-ADDRESS=Sint-Joriskerk Hof 1 Amersfoort 3811 CJ Nederland;X-APPLE-RADIUS=500;X-TITLE=Hof 1:geo:5.3902512,52.1566965
END:VEVENT
BEGIN:VEVENT
DTSTART;TZID=Europe/Amsterdam:20230218T193000
DTEND;TZID=Europe/Amsterdam:20230218T213000
DTSTAMP:20260423T083627
CREATED:20230201T135040Z
LAST-MODIFIED:20230201T135903Z
UID:10002096-1676748600-1676755800@joriskerkamersfoort.nl
SUMMARY:Rien Donkersloot herdenkt Max Reger
DESCRIPTION:Ieder jaar staat in de Joriskerk in Amersfoort een componist een dag lang in de schijnwerpers. Op zaterdag 18 februari 2023 krijgt Max Reger (1873-1916) die eer. Jorisorganist Rien Donkersloot speelt dan een programma met uitsluitend Reger en geeft vooraf een uitgebreide toelichting op de gespeelde werken. \nOver Max Reger\nMax Reger componeerde veel muziek\, voor piano\, symfonieorkest\, strijkkwartet en harmonie en koor. Een aanzienlijk deel van zijn oeuvre is voor orgel. Hij gebruikte in zijn composities oude vormen\, zoals variatiereeksen\, passacaglia’s\, preludiums en fuga’s\, koraalbewerkingen en koraalfantasieën. Hij gaf er een eigen invulling aan\, met opmerkelijke ritmes\, gekruide akkoorden en grote dynamische afwisseling. Onder organisten en orgelliefhebbers zijn z’n koraalfantasieën zeer geliefd.\nDit concert zal in het teken staan van zijn koraalmuziek\, met o.a. de Phantasie over ‘Wie Schön leuchtet der Morgenstern’ en een selectie uit opus 67 (52 Choralvorspiele)\, 79b (Morgenglanz der Ewigkeit) en 145 (Sieben Stücke für Orgel). \nPraktische informatie\nHet concert begint om 20:00 uur. Vanaf 19:30 uur verzorgt Rien Donkersloot een uitgebreide toelichting op de gespeelde werken. De zaal is open om 19:00 uur. De toegangsprijs bedraagt tien euro. Vooraf en na afloop van het concert is er koffie en thee (bij de toegangsprijs inbegrepen).
URL:https://joriskerkamersfoort.nl/evenement/rien-donkersloot-herdenkt-max-reger/
LOCATION:Sint-Joriskerk\, Hof 1\, Amersfoort\, 3811 CJ\, Nederland
ATTACH;FMTTYPE=image/jpeg:https://joriskerkamersfoort.nl/wp-content/uploads/2019/10/rien-donkersloot.jpg
ORGANIZER;CN="Orgelconcerten Joriskerk":MAILTO:Info@orgelconcertenjoriskerk.nl
GEO:52.1566965;5.3902512
X-APPLE-STRUCTURED-LOCATION;VALUE=URI;X-ADDRESS=Sint-Joriskerk Hof 1 Amersfoort 3811 CJ Nederland;X-APPLE-RADIUS=500;X-TITLE=Hof 1:geo:5.3902512,52.1566965
END:VEVENT
BEGIN:VEVENT
DTSTART;TZID=Europe/Amsterdam:20230224T193000
DTEND;TZID=Europe/Amsterdam:20230224T213000
DTSTAMP:20260423T083627
CREATED:20230214T185302Z
LAST-MODIFIED:20230214T185302Z
UID:10002100-1677267000-1677274200@joriskerkamersfoort.nl
SUMMARY:Benefietconcert Noodhulp Turkije en Syrië
DESCRIPTION:Op vrijdagavond 24 februari 19.30 organiseert de stichting Muziek voor Elkaar een benefietconcert in de Joriskerk van Amersfoort. Aan deze avond werken mee: \n\nChr. Sliedrechts Mannenkoor Ichthus\, o.l.v. Martin Zonnenberg\nChr. Zangver. Vox Jubilans\, o.l.v. André van Vliet\nAndries Stigter\, solist\nCarina Petersen-Bossenbroek\, panfluit\nArjan en Edith Post\, trompet\nMark Brandwijk\, piano\nMartin Mans\, orgel\nConsulaat Generaal van de Republiek Türkije\nConsul Generaal de heer Burak Ersoy\n\nHet concert wordt ook dezelfde avond live uitgezonden via het YouTube kanaal van www.muziekvoorelkaar.nl/noodhulp en via de Reformatorische Omroep. \nOrganisatie\nDe organisatie is in handen van de heren Versteeg\, Mans en Bosch\, die zich hebben verenigd in de stichting Muziek voor Elkaar. Deze stichting ondersteunt\, geheel kosteloos\, goede doelen door het bieden de benefietconcerten. Die concerten bieden meteen een podium aan jonge\, talentvolle musici\, in combinatie met gerenommeerde namen\, koren en orkesten uit de muziekwereld. De stichting is jong\, maar heeft inmiddels toch al wat goede doelen weten te verblijden met financiële steun. Voorzitter Ben Versteeg: “Wij hebben dit spontaan bedacht om de getroffen gebieden in Turkije en Syrië te ondersteunen. We bekostigen vooralsnog zelf\, maar hopen met sponsors en collecties de onkosten te kunnen dekken.” \nPraktische informatie\nVrijdag 24 februari\n19:30\nEntree gratis\, wel aanmelden via www.koopjekaartje.nl
URL:https://joriskerkamersfoort.nl/evenement/benefietconcert-noodhulp-turkije-en-syrie/
LOCATION:Sint-Joriskerk\, Hof 1\, Amersfoort\, 3811 CJ\, Nederland
GEO:52.1566965;5.3902512
X-APPLE-STRUCTURED-LOCATION;VALUE=URI;X-ADDRESS=Sint-Joriskerk Hof 1 Amersfoort 3811 CJ Nederland;X-APPLE-RADIUS=500;X-TITLE=Hof 1:geo:5.3902512,52.1566965
END:VEVENT
BEGIN:VEVENT
DTSTART;TZID=Europe/Amsterdam:20230225T120000
DTEND;TZID=Europe/Amsterdam:20230225T160000
DTSTAMP:20260423T083627
CREATED:20221011T183512Z
LAST-MODIFIED:20230201T130953Z
UID:10002048-1677326400-1677340800@joriskerkamersfoort.nl
SUMMARY:Winteropenstelling 2023
DESCRIPTION:Tijdens de winter is de Sint-Joriskerk op enkele zaterdagen geopend voor het publiek. Een plaats van rust en stilte of om rond te kijken in het bijzondere gebouw. \nGeopend: geselecteerde zaterdagen van 12:00 – 16:00 uur\nEntree: 2 euro p.p. incl. folder met uitleg. Kinderen t/m 12 jaar gratis.\nData: \n\nZaterdag 4 februari\nZaterdag 25 februari\nZaterdag 4 maart\n\nKijk voor de meest actuele openingsdagen en activiteiten in onze agenda.
URL:https://joriskerkamersfoort.nl/evenement/herfstopenstelling/2023-02-25/
ATTACH;FMTTYPE=image/jpeg:https://joriskerkamersfoort.nl/wp-content/uploads/2015/12/Raampartij-exterieur.jpg
END:VEVENT
BEGIN:VEVENT
DTSTART;TZID=Europe/Amsterdam:20230225T120000
DTEND;TZID=Europe/Amsterdam:20230225T160000
DTSTAMP:20260423T083627
CREATED:20230214T183322Z
LAST-MODIFIED:20230214T183529Z
UID:10002097-1677326400-1677340800@joriskerkamersfoort.nl
SUMMARY:Mini-expositie “O hoofd vol bloed en wonden”
DESCRIPTION:Afbeelding door Geert Lammers\, genaamd ‘Het is volbracht’ \nErvaar de mini-expositie ‘O hoofd vol bloed en wonden’ \, welke is blijven staan na een interdisciplinair symposium.\nDe expositie is te bezichtigen op zaterdag 25 februari en zaterdag 4 maart van 12.00 uur – 16.00 uur. \n 
URL:https://joriskerkamersfoort.nl/evenement/mini-expositie-o-hoofd-vol-bloed-en-wonden/2023-02-25/
LOCATION:Sint-Joriskerk\, Hof 1\, Amersfoort\, 3811 CJ\, Nederland
GEO:52.1566965;5.3902512
X-APPLE-STRUCTURED-LOCATION;VALUE=URI;X-ADDRESS=Sint-Joriskerk Hof 1 Amersfoort 3811 CJ Nederland;X-APPLE-RADIUS=500;X-TITLE=Hof 1:geo:5.3902512,52.1566965
END:VEVENT
BEGIN:VEVENT
DTSTART;TZID=Europe/Amsterdam:20230226T153000
DTEND;TZID=Europe/Amsterdam:20230226T163000
DTSTAMP:20260423T083627
CREATED:20230201T132009Z
LAST-MODIFIED:20230201T134239Z
UID:10002095-1677425400-1677429000@joriskerkamersfoort.nl
SUMMARY:Evensong Raad van Kerken Amersfoort
DESCRIPTION:De Raad van Kerken Amersfoort organiseert ieder jaar twaalf evensongs. Deze evensongs vinden plaats in de Sint-Joriskerk. De volgende choral evensongs zien we tegemoet\, op zondagmiddagen\, aanvang 15.30 uur. Toegang vrij\, collecte bij de uitgang. \n\nZondag 26 februari: Kamerkoor Vocaliber o.l.v. Richard Vos\nZondag 5 maart: Ensemble Lyrico o.l.v. Lucia van Vugt\nZondag 12 maart: Capella Sint-Joris\, o.l.v. gastdirigent Bas Ramselaar\nZondag 19 maart: Amersfoortse Cantorij\, o.l.v. Bas Ramselaar
URL:https://joriskerkamersfoort.nl/evenement/evensong-raad-van-kerken-amersfoort/2023-02-26/
ATTACH;FMTTYPE=image/jpeg:https://joriskerkamersfoort.nl/wp-content/uploads/2022/11/img_0049-scaled.jpg
END:VEVENT
END:VCALENDAR