BEGIN:VCALENDAR
VERSION:2.0
PRODID:-//Joriskerk Amersfoort - ECPv6.15.19//NONSGML v1.0//EN
CALSCALE:GREGORIAN
METHOD:PUBLISH
X-ORIGINAL-URL:https://joriskerkamersfoort.nl
X-WR-CALDESC:Evenementen voor Joriskerk Amersfoort
REFRESH-INTERVAL;VALUE=DURATION:PT1H
X-Robots-Tag:noindex
X-PUBLISHED-TTL:PT1H
BEGIN:VTIMEZONE
TZID:Europe/Amsterdam
BEGIN:DAYLIGHT
TZOFFSETFROM:+0100
TZOFFSETTO:+0200
TZNAME:CEST
DTSTART:20230326T010000
END:DAYLIGHT
BEGIN:STANDARD
TZOFFSETFROM:+0200
TZOFFSETTO:+0100
TZNAME:CET
DTSTART:20231029T010000
END:STANDARD
BEGIN:DAYLIGHT
TZOFFSETFROM:+0100
TZOFFSETTO:+0200
TZNAME:CEST
DTSTART:20240331T010000
END:DAYLIGHT
BEGIN:STANDARD
TZOFFSETFROM:+0200
TZOFFSETTO:+0100
TZNAME:CET
DTSTART:20241027T010000
END:STANDARD
BEGIN:DAYLIGHT
TZOFFSETFROM:+0100
TZOFFSETTO:+0200
TZNAME:CEST
DTSTART:20250330T010000
END:DAYLIGHT
BEGIN:STANDARD
TZOFFSETFROM:+0200
TZOFFSETTO:+0100
TZNAME:CET
DTSTART:20251026T010000
END:STANDARD
END:VTIMEZONE
BEGIN:VEVENT
DTSTART;TZID=Europe/Amsterdam:20240401T153000
DTEND;TZID=Europe/Amsterdam:20240401T163000
DTSTAMP:20260421T013017
CREATED:20240301T083028Z
LAST-MODIFIED:20240301T083605Z
UID:10003276-1711985400-1711989000@joriskerkamersfoort.nl
SUMMARY:Tweede Paasdag orgelconcert door Rien Donkersloot
DESCRIPTION:Georganiseerd door orgelcommissie van St.-Joriskerk. Nadere informatie volgt nog.
URL:https://joriskerkamersfoort.nl/evenement/tweede-paasdag-orgelconcert-door-rien-donkersloot/
LOCATION:Sint-Joriskerk\, Hof 1\, Amersfoort\, 3811 CJ\, Nederland
ATTACH;FMTTYPE=image/jpeg:https://joriskerkamersfoort.nl/wp-content/uploads/2023/12/rien-donkersloot-organist-2023-scaled.jpg
GEO:52.1566965;5.3902512
X-APPLE-STRUCTURED-LOCATION;VALUE=URI;X-ADDRESS=Sint-Joriskerk Hof 1 Amersfoort 3811 CJ Nederland;X-APPLE-RADIUS=500;X-TITLE=Hof 1:geo:5.3902512,52.1566965
END:VEVENT
BEGIN:VEVENT
DTSTART;TZID=Europe/Amsterdam:20240403T090000
DTEND;TZID=Europe/Amsterdam:20240403T093000
DTSTAMP:20260421T013017
CREATED:20230412T135426Z
LAST-MODIFIED:20240606T131431Z
UID:10001970-1712134800-1712136600@joriskerkamersfoort.nl
SUMMARY:Meditatiemoment met de Stadsdominee
DESCRIPTION:Iedereen is welkom en meedoen is eenvoudig. \nZorg dat je even voor 9 uur bij de zijdeur van de Sint Joriskerk bent (Zevenhuizen 3\, tegenover café Nul33). Diederiek van Loo begeleidt de groep dan naar de mooiste plaatsen in de kerk. Daar brandt de Paaskaars\, mensen groeten en gaan zitten. Ieder in de stilte. Om 9 uur begint na een gongslag 25 minuten stilte. Er zijn geen teksten\, geen oefeningen\, geen gesprek. Geniet van de ruimte voor jezelf. De hele dag voelt anders aan\, na zo’n begin. \nWil je eerst wat meer informatie of heb je een vraag\, mail dan de Stadsdominee. \nN.B. af en toe is de Sint Joriskerk bezet en dan vindt de stiltemeditatie plaats in de Amersfoortse Zwaan. Hiervoor is een mailgroep die op de hoogte wordt gesteld van dit soort wijzigingen. Wil je je naam op die lijst hebben\, stuur mij dan even een mailtje\, dan ben je altijd op de hoogte.
URL:https://joriskerkamersfoort.nl/evenement/meditatiemoment-met-de-stadsdominee-2/2024-04-03/
LOCATION:Sint-Joriskerk\, Hof 1\, Amersfoort\, 3811 CJ\, Nederland
ATTACH;FMTTYPE=image/jpeg:https://joriskerkamersfoort.nl/wp-content/uploads/2021/01/meditatiemoment-joriskerk-kaars-e1638434129897.jpg
GEO:52.1566965;5.3902512
X-APPLE-STRUCTURED-LOCATION;VALUE=URI;X-ADDRESS=Sint-Joriskerk Hof 1 Amersfoort 3811 CJ Nederland;X-APPLE-RADIUS=500;X-TITLE=Hof 1:geo:5.3902512,52.1566965
END:VEVENT
BEGIN:VEVENT
DTSTART;TZID=Europe/Amsterdam:20240406T120000
DTEND;TZID=Europe/Amsterdam:20240406T160000
DTSTAMP:20260421T013017
CREATED:20240226T094924Z
LAST-MODIFIED:20240327T082135Z
UID:10003280-1712404800-1712419200@joriskerkamersfoort.nl
SUMMARY:Lenteopenstelling 2024
DESCRIPTION:Wij openen onze deuren in de maand maart. Bezoekers zijn op geselecteerde zaterdagen van harte welkom om de Sint-Joriskerk te bezichtigen. \nInformatie\nDe kerk is geopend van 12:00 – 16:00 uur. Entree kost €2\, toegang tot 12 jaar of als Vriend van de Joriskerk gratis. \nOpen zaterdagen \n\n 6 april\n13 april\n27 april
URL:https://joriskerkamersfoort.nl/evenement/lenteopenstelling-2024/2024-04-06/
LOCATION:Sint-Joriskerk\, Hof 1\, Amersfoort\, 3811 CJ\, Nederland
ATTACH;FMTTYPE=image/jpeg:https://joriskerkamersfoort.nl/wp-content/uploads/2020/03/img_0279-scaled.jpg
GEO:52.1566965;5.3902512
X-APPLE-STRUCTURED-LOCATION;VALUE=URI;X-ADDRESS=Sint-Joriskerk Hof 1 Amersfoort 3811 CJ Nederland;X-APPLE-RADIUS=500;X-TITLE=Hof 1:geo:5.3902512,52.1566965
END:VEVENT
BEGIN:VEVENT
DTSTART;TZID=Europe/Amsterdam:20240406T120000
DTEND;TZID=Europe/Amsterdam:20240406T160000
DTSTAMP:20260421T013017
CREATED:20240327T110150Z
LAST-MODIFIED:20240327T110150Z
UID:10003284-1712404800-1712419200@joriskerkamersfoort.nl
SUMMARY:Kinderspeurtocht door de Sint-Joriskerk
DESCRIPTION:Wil jij op speurtocht in de Sint-Joriskerk? Welke mooie plekken kun jij vinden en los jij alle opdrachten op? Kom langs! Tijdens sommige zaterdagen in de lente zijn alle kinderen (gratis) welkom om een speurtocht te komen doen. De speurtocht en meer informatie vind je bij de ingang. \nInformatie\nDe kerk is op geselecteerde zaterdagen geopend van 12:00 – 16:00 uur. Kinderen tot 12 jaar gratis! De speurtocht is gratis\, begeleiding van een volwassene wel verplicht. Entree kost €2 voor mensen boven de 12 jaar.
URL:https://joriskerkamersfoort.nl/evenement/kinderspeurtocht-door-de-sint-joriskerk/2024-04-06/
LOCATION:Sint-Joriskerk\, Hof 1\, Amersfoort\, 3811 CJ\, Nederland
ATTACH;FMTTYPE=image/jpeg:https://joriskerkamersfoort.nl/wp-content/uploads/2019/04/img_0293.jpg
GEO:52.1566965;5.3902512
X-APPLE-STRUCTURED-LOCATION;VALUE=URI;X-ADDRESS=Sint-Joriskerk Hof 1 Amersfoort 3811 CJ Nederland;X-APPLE-RADIUS=500;X-TITLE=Hof 1:geo:5.3902512,52.1566965
END:VEVENT
BEGIN:VEVENT
DTSTART;TZID=Europe/Amsterdam:20240410T090000
DTEND;TZID=Europe/Amsterdam:20240410T093000
DTSTAMP:20260421T013017
CREATED:20230412T135426Z
LAST-MODIFIED:20240606T131431Z
UID:10001971-1712739600-1712741400@joriskerkamersfoort.nl
SUMMARY:Meditatiemoment met de Stadsdominee
DESCRIPTION:Iedereen is welkom en meedoen is eenvoudig. \nZorg dat je even voor 9 uur bij de zijdeur van de Sint Joriskerk bent (Zevenhuizen 3\, tegenover café Nul33). Diederiek van Loo begeleidt de groep dan naar de mooiste plaatsen in de kerk. Daar brandt de Paaskaars\, mensen groeten en gaan zitten. Ieder in de stilte. Om 9 uur begint na een gongslag 25 minuten stilte. Er zijn geen teksten\, geen oefeningen\, geen gesprek. Geniet van de ruimte voor jezelf. De hele dag voelt anders aan\, na zo’n begin. \nWil je eerst wat meer informatie of heb je een vraag\, mail dan de Stadsdominee. \nN.B. af en toe is de Sint Joriskerk bezet en dan vindt de stiltemeditatie plaats in de Amersfoortse Zwaan. Hiervoor is een mailgroep die op de hoogte wordt gesteld van dit soort wijzigingen. Wil je je naam op die lijst hebben\, stuur mij dan even een mailtje\, dan ben je altijd op de hoogte.
URL:https://joriskerkamersfoort.nl/evenement/meditatiemoment-met-de-stadsdominee-2/2024-04-10/
LOCATION:Sint-Joriskerk\, Hof 1\, Amersfoort\, 3811 CJ\, Nederland
ATTACH;FMTTYPE=image/jpeg:https://joriskerkamersfoort.nl/wp-content/uploads/2021/01/meditatiemoment-joriskerk-kaars-e1638434129897.jpg
GEO:52.1566965;5.3902512
X-APPLE-STRUCTURED-LOCATION;VALUE=URI;X-ADDRESS=Sint-Joriskerk Hof 1 Amersfoort 3811 CJ Nederland;X-APPLE-RADIUS=500;X-TITLE=Hof 1:geo:5.3902512,52.1566965
END:VEVENT
BEGIN:VEVENT
DTSTART;TZID=Europe/Amsterdam:20240413T120000
DTEND;TZID=Europe/Amsterdam:20240413T160000
DTSTAMP:20260421T013017
CREATED:20240226T094924Z
LAST-MODIFIED:20240327T082135Z
UID:10003281-1713009600-1713024000@joriskerkamersfoort.nl
SUMMARY:Lenteopenstelling 2024
DESCRIPTION:Wij openen onze deuren in de maand maart. Bezoekers zijn op geselecteerde zaterdagen van harte welkom om de Sint-Joriskerk te bezichtigen. \nInformatie\nDe kerk is geopend van 12:00 – 16:00 uur. Entree kost €2\, toegang tot 12 jaar of als Vriend van de Joriskerk gratis. \nOpen zaterdagen \n\n 6 april\n13 april\n27 april
URL:https://joriskerkamersfoort.nl/evenement/lenteopenstelling-2024/2024-04-13/
LOCATION:Sint-Joriskerk\, Hof 1\, Amersfoort\, 3811 CJ\, Nederland
ATTACH;FMTTYPE=image/jpeg:https://joriskerkamersfoort.nl/wp-content/uploads/2020/03/img_0279-scaled.jpg
GEO:52.1566965;5.3902512
X-APPLE-STRUCTURED-LOCATION;VALUE=URI;X-ADDRESS=Sint-Joriskerk Hof 1 Amersfoort 3811 CJ Nederland;X-APPLE-RADIUS=500;X-TITLE=Hof 1:geo:5.3902512,52.1566965
END:VEVENT
BEGIN:VEVENT
DTSTART;TZID=Europe/Amsterdam:20240413T120000
DTEND;TZID=Europe/Amsterdam:20240413T160000
DTSTAMP:20260421T013017
CREATED:20240327T110150Z
LAST-MODIFIED:20240327T110150Z
UID:10003285-1713009600-1713024000@joriskerkamersfoort.nl
SUMMARY:Kinderspeurtocht door de Sint-Joriskerk
DESCRIPTION:Wil jij op speurtocht in de Sint-Joriskerk? Welke mooie plekken kun jij vinden en los jij alle opdrachten op? Kom langs! Tijdens sommige zaterdagen in de lente zijn alle kinderen (gratis) welkom om een speurtocht te komen doen. De speurtocht en meer informatie vind je bij de ingang. \nInformatie\nDe kerk is op geselecteerde zaterdagen geopend van 12:00 – 16:00 uur. Kinderen tot 12 jaar gratis! De speurtocht is gratis\, begeleiding van een volwassene wel verplicht. Entree kost €2 voor mensen boven de 12 jaar.
URL:https://joriskerkamersfoort.nl/evenement/kinderspeurtocht-door-de-sint-joriskerk/2024-04-13/
LOCATION:Sint-Joriskerk\, Hof 1\, Amersfoort\, 3811 CJ\, Nederland
ATTACH;FMTTYPE=image/jpeg:https://joriskerkamersfoort.nl/wp-content/uploads/2019/04/img_0293.jpg
GEO:52.1566965;5.3902512
X-APPLE-STRUCTURED-LOCATION;VALUE=URI;X-ADDRESS=Sint-Joriskerk Hof 1 Amersfoort 3811 CJ Nederland;X-APPLE-RADIUS=500;X-TITLE=Hof 1:geo:5.3902512,52.1566965
END:VEVENT
BEGIN:VEVENT
DTSTART;TZID=Europe/Amsterdam:20240417T090000
DTEND;TZID=Europe/Amsterdam:20240417T093000
DTSTAMP:20260421T013017
CREATED:20230412T135426Z
LAST-MODIFIED:20240606T131431Z
UID:10001972-1713344400-1713346200@joriskerkamersfoort.nl
SUMMARY:Meditatiemoment met de Stadsdominee
DESCRIPTION:Iedereen is welkom en meedoen is eenvoudig. \nZorg dat je even voor 9 uur bij de zijdeur van de Sint Joriskerk bent (Zevenhuizen 3\, tegenover café Nul33). Diederiek van Loo begeleidt de groep dan naar de mooiste plaatsen in de kerk. Daar brandt de Paaskaars\, mensen groeten en gaan zitten. Ieder in de stilte. Om 9 uur begint na een gongslag 25 minuten stilte. Er zijn geen teksten\, geen oefeningen\, geen gesprek. Geniet van de ruimte voor jezelf. De hele dag voelt anders aan\, na zo’n begin. \nWil je eerst wat meer informatie of heb je een vraag\, mail dan de Stadsdominee. \nN.B. af en toe is de Sint Joriskerk bezet en dan vindt de stiltemeditatie plaats in de Amersfoortse Zwaan. Hiervoor is een mailgroep die op de hoogte wordt gesteld van dit soort wijzigingen. Wil je je naam op die lijst hebben\, stuur mij dan even een mailtje\, dan ben je altijd op de hoogte.
URL:https://joriskerkamersfoort.nl/evenement/meditatiemoment-met-de-stadsdominee-2/2024-04-17/
LOCATION:Sint-Joriskerk\, Hof 1\, Amersfoort\, 3811 CJ\, Nederland
ATTACH;FMTTYPE=image/jpeg:https://joriskerkamersfoort.nl/wp-content/uploads/2021/01/meditatiemoment-joriskerk-kaars-e1638434129897.jpg
GEO:52.1566965;5.3902512
X-APPLE-STRUCTURED-LOCATION;VALUE=URI;X-ADDRESS=Sint-Joriskerk Hof 1 Amersfoort 3811 CJ Nederland;X-APPLE-RADIUS=500;X-TITLE=Hof 1:geo:5.3902512,52.1566965
END:VEVENT
BEGIN:VEVENT
DTSTART;TZID=Europe/Amsterdam:20240420T160000
DTEND;TZID=Europe/Amsterdam:20240420T170000
DTSTAMP:20260421T013017
CREATED:20240301T083234Z
LAST-MODIFIED:20240419T075404Z
UID:10003277-1713628800-1713632400@joriskerkamersfoort.nl
SUMMARY:Ingebruikname Strubbe orgelpositief - Rien Donkersloot
DESCRIPTION:Iedereen is welkom bij de klankdemonstratie van het Strubbe-orgel in de Sint-Joriskerk in Amersfoort op zaterdag 20 april. Jorisorganist Rien Donkersloot verzorgt de demonstratie en geeft daarna een concert op het orgel. \nHet Strubbe-orgel is in 1977 gebouwd voor woonzorginsteling De Lichtenberg in Amersfoort. Toen het huis sloot\, werd het overgeplaatst naar de Sint-Joriskerk. Het werd gerestaureerd en in nieuwe kleuren geschilderd. De Sifflet 1’ werd opgeschoven tot 1 1/3’. Het orgel werd gestemd in de zogenoemde Middentoonstemming\, waardoor het geschikt is voor het uitvoeren van oude muziek\, met componisten als Jan Pieterszoon Sweelinck.\nDe demonstratie op Zaterdag 20 april begint om 16.00 uur. De toegang is vrij. \nEr zijn op deze zaterdag meer orgelactiviteiten in de Joriskerk. Organist Frank van Wijk demonstreert van 14:00 tot 16:00 uur het Naber-hoofdorgel en het Metzler/Edskes-koororgel voor leden van de Stichting Internationale Orgelreizen. Belangstellenden van de concerten van de Sint-Joriskerk mogen daarbij aanwezig zijn. Ook hiervan is de toegang vrij. \nNa afloop van het concert op het Strubbe-orgel wordt er een drankje en een nootje geserveerd.
URL:https://joriskerkamersfoort.nl/evenement/ingebruikname-strubbe-orgelpositief-rien-donkersloot/
LOCATION:Sint-Joriskerk\, Hof 1\, Amersfoort\, 3811 CJ\, Nederland
ATTACH;FMTTYPE=image/webp:https://joriskerkamersfoort.nl/wp-content/uploads/2024/02/strubbe-orgelpositief.webp
GEO:52.1566965;5.3902512
X-APPLE-STRUCTURED-LOCATION;VALUE=URI;X-ADDRESS=Sint-Joriskerk Hof 1 Amersfoort 3811 CJ Nederland;X-APPLE-RADIUS=500;X-TITLE=Hof 1:geo:5.3902512,52.1566965
END:VEVENT
BEGIN:VEVENT
DTSTART;TZID=Europe/Amsterdam:20240424T090000
DTEND;TZID=Europe/Amsterdam:20240424T093000
DTSTAMP:20260421T013017
CREATED:20230412T135426Z
LAST-MODIFIED:20240606T131431Z
UID:10001973-1713949200-1713951000@joriskerkamersfoort.nl
SUMMARY:Meditatiemoment met de Stadsdominee
DESCRIPTION:Iedereen is welkom en meedoen is eenvoudig. \nZorg dat je even voor 9 uur bij de zijdeur van de Sint Joriskerk bent (Zevenhuizen 3\, tegenover café Nul33). Diederiek van Loo begeleidt de groep dan naar de mooiste plaatsen in de kerk. Daar brandt de Paaskaars\, mensen groeten en gaan zitten. Ieder in de stilte. Om 9 uur begint na een gongslag 25 minuten stilte. Er zijn geen teksten\, geen oefeningen\, geen gesprek. Geniet van de ruimte voor jezelf. De hele dag voelt anders aan\, na zo’n begin. \nWil je eerst wat meer informatie of heb je een vraag\, mail dan de Stadsdominee. \nN.B. af en toe is de Sint Joriskerk bezet en dan vindt de stiltemeditatie plaats in de Amersfoortse Zwaan. Hiervoor is een mailgroep die op de hoogte wordt gesteld van dit soort wijzigingen. Wil je je naam op die lijst hebben\, stuur mij dan even een mailtje\, dan ben je altijd op de hoogte.
URL:https://joriskerkamersfoort.nl/evenement/meditatiemoment-met-de-stadsdominee-2/2024-04-24/
LOCATION:Sint-Joriskerk\, Hof 1\, Amersfoort\, 3811 CJ\, Nederland
ATTACH;FMTTYPE=image/jpeg:https://joriskerkamersfoort.nl/wp-content/uploads/2021/01/meditatiemoment-joriskerk-kaars-e1638434129897.jpg
GEO:52.1566965;5.3902512
X-APPLE-STRUCTURED-LOCATION;VALUE=URI;X-ADDRESS=Sint-Joriskerk Hof 1 Amersfoort 3811 CJ Nederland;X-APPLE-RADIUS=500;X-TITLE=Hof 1:geo:5.3902512,52.1566965
END:VEVENT
BEGIN:VEVENT
DTSTART;TZID=Europe/Amsterdam:20240425T194500
DTEND;TZID=Europe/Amsterdam:20240425T221500
DTSTAMP:20260421T013017
CREATED:20240301T084128Z
LAST-MODIFIED:20240301T084710Z
UID:10003279-1714074300-1714083300@joriskerkamersfoort.nl
SUMMARY:Oranjeconcert ‘Vrede & Vrijheid’ met Cantate Deo
DESCRIPTION:Oranjeconcert ‘Vrede & Vrijheid’ met Cantate Deo in Amersfoort. Door het Chr. Gemengd koor Cantate Deo. \n o.l.v. Mark Brandwijk\nM.m.v. Brassband Amersfoort o.l.v. Vincent Verhage\nJohan van der Graaf\, orgel\nArjan Wouters\,vleugel \nm.m.v. \n\n\nChristelijk Gemengd Koor “Cantate Deo” uit Amersfoort o.l.v. Mark Brandwijk\n\nBrassband Amersfoort o.l.v. Vincent Verhage\nJohan van der Graaf\, hoofdorgel\nArjan Wouters\, koororgel en vleugel\n\nKaartjes\nDe toegangsprijs voor volwassenen is in de voorverkoop: € 5\,00 en aan de kerk € 12\,50 per persoon. Voor kinderen tot en met 15 jaar is de toegang gratis. Bestel hier de toegangskaarten voor dit concert
URL:https://joriskerkamersfoort.nl/evenement/oranjeconcert-vrede-vrijheid-met-cantate-deo/
LOCATION:Sint-Joriskerk\, Hof 1\, Amersfoort\, 3811 CJ\, Nederland
GEO:52.1566965;5.3902512
X-APPLE-STRUCTURED-LOCATION;VALUE=URI;X-ADDRESS=Sint-Joriskerk Hof 1 Amersfoort 3811 CJ Nederland;X-APPLE-RADIUS=500;X-TITLE=Hof 1:geo:5.3902512,52.1566965
END:VEVENT
BEGIN:VEVENT
DTSTART;TZID=Europe/Amsterdam:20240427T120000
DTEND;TZID=Europe/Amsterdam:20240427T160000
DTSTAMP:20260421T013017
CREATED:20240327T110150Z
LAST-MODIFIED:20240327T110150Z
UID:10003286-1714219200-1714233600@joriskerkamersfoort.nl
SUMMARY:Kinderspeurtocht door de Sint-Joriskerk
DESCRIPTION:Wil jij op speurtocht in de Sint-Joriskerk? Welke mooie plekken kun jij vinden en los jij alle opdrachten op? Kom langs! Tijdens sommige zaterdagen in de lente zijn alle kinderen (gratis) welkom om een speurtocht te komen doen. De speurtocht en meer informatie vind je bij de ingang. \nInformatie\nDe kerk is op geselecteerde zaterdagen geopend van 12:00 – 16:00 uur. Kinderen tot 12 jaar gratis! De speurtocht is gratis\, begeleiding van een volwassene wel verplicht. Entree kost €2 voor mensen boven de 12 jaar.
URL:https://joriskerkamersfoort.nl/evenement/kinderspeurtocht-door-de-sint-joriskerk/2024-04-27/
LOCATION:Sint-Joriskerk\, Hof 1\, Amersfoort\, 3811 CJ\, Nederland
ATTACH;FMTTYPE=image/jpeg:https://joriskerkamersfoort.nl/wp-content/uploads/2019/04/img_0293.jpg
GEO:52.1566965;5.3902512
X-APPLE-STRUCTURED-LOCATION;VALUE=URI;X-ADDRESS=Sint-Joriskerk Hof 1 Amersfoort 3811 CJ Nederland;X-APPLE-RADIUS=500;X-TITLE=Hof 1:geo:5.3902512,52.1566965
END:VEVENT
BEGIN:VEVENT
DTSTART;TZID=Europe/Amsterdam:20240427T120000
DTEND;TZID=Europe/Amsterdam:20240427T160000
DTSTAMP:20260421T013017
CREATED:20240419T080217Z
LAST-MODIFIED:20240419T080350Z
UID:10003282-1714219200-1714233600@joriskerkamersfoort.nl
SUMMARY:Open tijdens Koningsdag 2024
DESCRIPTION:Tijdens Koningsdag bent u van harte welkom om de kerk te bezichtigen\, even bij te komen van de drukte op straat of om met uw kind een (gratis!) speurtocht door de kerk te doen! \nInformatie\nDe kerk is geopend van 12:00 – 16:00 uur. Entree kost €2\, toegang tot 12 jaar of als Vriend van de Joriskerk gratis.
URL:https://joriskerkamersfoort.nl/evenement/lenteopenstelling-2024-2/
LOCATION:Sint-Joriskerk\, Hof 1\, Amersfoort\, 3811 CJ\, Nederland
ATTACH;FMTTYPE=image/jpeg:https://joriskerkamersfoort.nl/wp-content/uploads/2019/04/img_0233-1.jpg
GEO:52.1566965;5.3902512
X-APPLE-STRUCTURED-LOCATION;VALUE=URI;X-ADDRESS=Sint-Joriskerk Hof 1 Amersfoort 3811 CJ Nederland;X-APPLE-RADIUS=500;X-TITLE=Hof 1:geo:5.3902512,52.1566965
END:VEVENT
END:VCALENDAR