BEGIN:VCALENDAR
VERSION:2.0
PRODID:-//Joriskerk Amersfoort - ECPv6.15.19//NONSGML v1.0//EN
CALSCALE:GREGORIAN
METHOD:PUBLISH
X-ORIGINAL-URL:https://joriskerkamersfoort.nl
X-WR-CALDESC:Evenementen voor Joriskerk Amersfoort
REFRESH-INTERVAL;VALUE=DURATION:PT1H
X-Robots-Tag:noindex
X-PUBLISHED-TTL:PT1H
BEGIN:VTIMEZONE
TZID:Europe/Amsterdam
BEGIN:DAYLIGHT
TZOFFSETFROM:+0100
TZOFFSETTO:+0200
TZNAME:CEST
DTSTART:20240331T010000
END:DAYLIGHT
BEGIN:STANDARD
TZOFFSETFROM:+0200
TZOFFSETTO:+0100
TZNAME:CET
DTSTART:20241027T010000
END:STANDARD
BEGIN:DAYLIGHT
TZOFFSETFROM:+0100
TZOFFSETTO:+0200
TZNAME:CEST
DTSTART:20250330T010000
END:DAYLIGHT
BEGIN:STANDARD
TZOFFSETFROM:+0200
TZOFFSETTO:+0100
TZNAME:CET
DTSTART:20251026T010000
END:STANDARD
BEGIN:DAYLIGHT
TZOFFSETFROM:+0100
TZOFFSETTO:+0200
TZNAME:CEST
DTSTART:20260329T010000
END:DAYLIGHT
BEGIN:STANDARD
TZOFFSETFROM:+0200
TZOFFSETTO:+0100
TZNAME:CET
DTSTART:20261025T010000
END:STANDARD
END:VTIMEZONE
BEGIN:VEVENT
DTSTART;TZID=Europe/Amsterdam:20250207T193000
DTEND;TZID=Europe/Amsterdam:20250207T221500
DTSTAMP:20260420T004320
CREATED:20240115T120607Z
LAST-MODIFIED:20251126T103742Z
UID:10004335-1738956600-1738966500@joriskerkamersfoort.nl
SUMMARY:Nachtlicht
DESCRIPTION:Midden in de stad\, naast film en café\, is er Nachtlicht. Een rustpunt op je vrijdagavond\, een plek om los te laten en op te laden. We nodigen je uit om een kaarsje te komen opsteken. \nTijdens Nachtlicht is de Sint-Joriskerk open voor iedereen. Als je nieuwsgierig bent hoe de Sint-Joriskerk er uitziet bij kaarslicht – wees welkom. En ook als je wilt luisteren naar de muziek van piano\, gitaar of zangers. Of zomaar wat wilt zitten in de donkere kerk die warm verlicht is door vele kaarsen. Om gewoon even met jezelf te zijn. \nZelf een kaarsje aansteken voor wat jou bezighoudt kan ook. Misschien vind je het fijn om iemand te spreken of om een zegen te ontvangen\, daar is de stadsdominee voor aanwezig. Nachtlicht is midden in de stad een lichtpuntje voor jezelf\, alleen en toch ook samen.
URL:https://joriskerkamersfoort.nl/evenement/nachtlicht-2-2/2025-02-07/
LOCATION:Sint-Joriskerk\, Hof 1\, Amersfoort\, 3811 CJ\, Nederland
ATTACH;FMTTYPE=image/png:https://joriskerkamersfoort.nl/wp-content/uploads/2020/10/nachtlicht-logo-b-op-cirkel-zonder-data.png
GEO:52.1566965;5.3902512
X-APPLE-STRUCTURED-LOCATION;VALUE=URI;X-ADDRESS=Sint-Joriskerk Hof 1 Amersfoort 3811 CJ Nederland;X-APPLE-RADIUS=500;X-TITLE=Hof 1:geo:5.3902512,52.1566965
END:VEVENT
BEGIN:VEVENT
DTSTART;TZID=Europe/Amsterdam:20250221T173000
DTEND;TZID=Europe/Amsterdam:20250221T233000
DTSTAMP:20260420T004320
CREATED:20250130T143856Z
LAST-MODIFIED:20250130T143856Z
UID:10004338-1740159000-1740180600@joriskerkamersfoort.nl
SUMMARY:Notte di AMICI
DESCRIPTION:Een avond met diner\, saxofoon\, live muziek en entertainment\, georganiseerd door Entrecôte Catering & Events.
URL:https://joriskerkamersfoort.nl/evenement/notte-di-amici/
LOCATION:Sint-Joriskerk\, Hof 1\, Amersfoort\, 3811 CJ\, Nederland
ATTACH;FMTTYPE=image/png:https://joriskerkamersfoort.nl/wp-content/uploads/2025/01/notte-di-amici-sint-joriskerk.png
GEO:52.1566965;5.3902512
X-APPLE-STRUCTURED-LOCATION;VALUE=URI;X-ADDRESS=Sint-Joriskerk Hof 1 Amersfoort 3811 CJ Nederland;X-APPLE-RADIUS=500;X-TITLE=Hof 1:geo:5.3902512,52.1566965
END:VEVENT
BEGIN:VEVENT
DTSTART;TZID=Europe/Amsterdam:20250222T193000
DTEND;TZID=Europe/Amsterdam:20250222T210000
DTSTAMP:20260420T004320
CREATED:20250128T150901Z
LAST-MODIFIED:20250128T150901Z
UID:10004072-1740252600-1740258000@joriskerkamersfoort.nl
SUMMARY:Componistenportret Adriaan C. Schuurman door Rien Donkersloot
DESCRIPTION:Organist Rien Donkersloot schildert op zaterdag\, 22 februari een portret van componist Adriaan C. Schuurman (1904-1998). \nOver Adriaan C. Schuurman\nAdriaan Cornelis Schuurman werd in Kampen geboren. Hij studeerde aan de conservatoria van Den Haag en Amsterdam. Nog tijdens zijn studie werd hij in 1927 organist van de Grote Kerk in Schiedam\, gevolgd door de Grote Kerk in Lochem (1938) en de Sint-Joriskerk in Amersfoort (1942). In 1950 werd hij cantor-organist van de Maranathakerk in Den Haag\, waar hij tot 1974 bleef. Hij schreef orgel- en koormuziek en was nauw betrokken bij de totstandkoming van ‘De Hervormde Bundel van 1938’ en het Liedboek voor de kerken in 1973. Zijn bekendste melodie is die van ‘d’ Almachtige is mijn herder en geleide’. \nComponistenportret\nTijdens het zogenoemde componistenportret speelt Jorisorganist Rien Donkersloot op het koororgel Schuurmans Toccata en Fuga in e/E\, een minder bekend groot werk van hem. Verder klinkt op het Naber-orgel ‘Toccata\, trio en fuga Psalm 150’\, de fantasie ‘Voor alle heil’gen in de heerlijkheid’\,  Preludium over ‘Op bergen en in dalen’ en diverse kleinere werken. Rien Donkersloot besluit het concert met een improvisatie over een melodie van A.C. Schuurman uit het Liedboek. \nInformatie\nHet concert begint om 20:00 uur\, kerk open om 19:30 uur. Toegang 10 euro (tot 18 jaar vrije toegang)\, inclusief koffie of thee vooraf en na afloop.
URL:https://joriskerkamersfoort.nl/evenement/componistenportret-adriaan-c-schuurman-door-rien-donkersloot/
LOCATION:Sint-Joriskerk\, Hof 1\, Amersfoort\, 3811 CJ\, Nederland
ATTACH;FMTTYPE=image/jpeg:https://joriskerkamersfoort.nl/wp-content/uploads/2025/01/schuurman-adriaan-ccliedboekcompendium.jpg
GEO:52.1566965;5.3902512
X-APPLE-STRUCTURED-LOCATION;VALUE=URI;X-ADDRESS=Sint-Joriskerk Hof 1 Amersfoort 3811 CJ Nederland;X-APPLE-RADIUS=500;X-TITLE=Hof 1:geo:5.3902512,52.1566965
END:VEVENT
BEGIN:VEVENT
DTSTART;TZID=Europe/Amsterdam:20250228T160000
DTEND;TZID=Europe/Amsterdam:20250228T233000
DTSTAMP:20260420T004320
CREATED:20241212T112352Z
LAST-MODIFIED:20241212T112558Z
UID:10004069-1740758400-1740785400@joriskerkamersfoort.nl
SUMMARY:Het Wijn Festijn
DESCRIPTION:Op 28 februari & 1 maart 2025 komt het Wijn Festijn het voorjaar vieren in de Sint Joriskerk in Amersfoort. Een indoor editie op één van de mooiste locaties die Amersfoort rijk is. De kerk zal worden omgetoverd tot een intiem wijnfestival. Kom gezellig langs en geniet van meer dan 100 verschillende wijnen en smakelijke lekkernijen. Dat alles onder het genot van gezellige muziek. \nTijden\nVrijdag 28 februari: 16:00 – 00:00 uur\nZaterdag 1 maart: 14:00 – 00:00 uur \nTicketinfo\nKoop je ticket in de voorverkoop en garandeer zo dat je die heerlijke wijnproeverij en bourgondische lekkernijen niet mist. Amersfoort\, maak je klaar om weer heerlijk te borrelen met de lekkerste wijnen uit de hele wereld! Een ticket geeft je toegang tot het Wijn Festijn\, wijnglas in bruikleen en lekkere muziek om op te borrelen! Tickets boeken kan hier.
URL:https://joriskerkamersfoort.nl/evenement/het-wijn-festijn/2025-02-28/
LOCATION:Sint-Joriskerk\, Hof 1\, Amersfoort\, 3811 CJ\, Nederland
GEO:52.1566965;5.3902512
X-APPLE-STRUCTURED-LOCATION;VALUE=URI;X-ADDRESS=Sint-Joriskerk Hof 1 Amersfoort 3811 CJ Nederland;X-APPLE-RADIUS=500;X-TITLE=Hof 1:geo:5.3902512,52.1566965
END:VEVENT
END:VCALENDAR