BEGIN:VCALENDAR
VERSION:2.0
PRODID:-//Joriskerk Amersfoort - ECPv6.15.19//NONSGML v1.0//EN
CALSCALE:GREGORIAN
METHOD:PUBLISH
X-ORIGINAL-URL:https://joriskerkamersfoort.nl
X-WR-CALDESC:Evenementen voor Joriskerk Amersfoort
REFRESH-INTERVAL;VALUE=DURATION:PT1H
X-Robots-Tag:noindex
X-PUBLISHED-TTL:PT1H
BEGIN:VTIMEZONE
TZID:Europe/Amsterdam
BEGIN:DAYLIGHT
TZOFFSETFROM:+0100
TZOFFSETTO:+0200
TZNAME:CEST
DTSTART:20240331T010000
END:DAYLIGHT
BEGIN:STANDARD
TZOFFSETFROM:+0200
TZOFFSETTO:+0100
TZNAME:CET
DTSTART:20241027T010000
END:STANDARD
BEGIN:DAYLIGHT
TZOFFSETFROM:+0100
TZOFFSETTO:+0200
TZNAME:CEST
DTSTART:20250330T010000
END:DAYLIGHT
BEGIN:STANDARD
TZOFFSETFROM:+0200
TZOFFSETTO:+0100
TZNAME:CET
DTSTART:20251026T010000
END:STANDARD
BEGIN:DAYLIGHT
TZOFFSETFROM:+0100
TZOFFSETTO:+0200
TZNAME:CEST
DTSTART:20260329T010000
END:DAYLIGHT
BEGIN:STANDARD
TZOFFSETFROM:+0200
TZOFFSETTO:+0100
TZNAME:CET
DTSTART:20261025T010000
END:STANDARD
END:VTIMEZONE
BEGIN:VEVENT
DTSTART;TZID=Europe/Amsterdam:20250301T140000
DTEND;TZID=Europe/Amsterdam:20250301T233000
DTSTAMP:20260419T210938
CREATED:20241212T112352Z
LAST-MODIFIED:20241212T112558Z
UID:10004070-1740837600-1740871800@joriskerkamersfoort.nl
SUMMARY:Het Wijn Festijn
DESCRIPTION:Op 28 februari & 1 maart 2025 komt het Wijn Festijn het voorjaar vieren in de Sint Joriskerk in Amersfoort. Een indoor editie op één van de mooiste locaties die Amersfoort rijk is. De kerk zal worden omgetoverd tot een intiem wijnfestival. Kom gezellig langs en geniet van meer dan 100 verschillende wijnen en smakelijke lekkernijen. Dat alles onder het genot van gezellige muziek. \nTijden\nVrijdag 28 februari: 16:00 – 00:00 uur\nZaterdag 1 maart: 14:00 – 00:00 uur \nTicketinfo\nKoop je ticket in de voorverkoop en garandeer zo dat je die heerlijke wijnproeverij en bourgondische lekkernijen niet mist. Amersfoort\, maak je klaar om weer heerlijk te borrelen met de lekkerste wijnen uit de hele wereld! Een ticket geeft je toegang tot het Wijn Festijn\, wijnglas in bruikleen en lekkere muziek om op te borrelen! Tickets boeken kan hier.
URL:https://joriskerkamersfoort.nl/evenement/het-wijn-festijn/2025-03-01/
LOCATION:Sint-Joriskerk\, Hof 1\, Amersfoort\, 3811 CJ\, Nederland
GEO:52.1566965;5.3902512
X-APPLE-STRUCTURED-LOCATION;VALUE=URI;X-ADDRESS=Sint-Joriskerk Hof 1 Amersfoort 3811 CJ Nederland;X-APPLE-RADIUS=500;X-TITLE=Hof 1:geo:5.3902512,52.1566965
END:VEVENT
BEGIN:VEVENT
DTSTART;TZID=Europe/Amsterdam:20250311T200000
DTEND;TZID=Europe/Amsterdam:20250311T223000
DTSTAMP:20260419T210938
CREATED:20250128T152530Z
LAST-MODIFIED:20250128T152530Z
UID:10004334-1741723200-1741732200@joriskerkamersfoort.nl
SUMMARY:Pasen met Sela - Raak mijn wonden aan
DESCRIPTION:‘Heer\, U zegt: raak mijn wonden aan.\nRaak ze aan en vind Mij’ \nDiscipel Thomas kan het nieuws van Jezus’ verschijning aan de andere discipelen niet geloven: ‘Alleen als ik de wonden van de spijkers in zijn handen zie en met mijn vingers kan voelen\, en als ik mijn hand in zijn zij kan leggen\, zal ik het geloven.’ Thomas’ twijfel is niet vreemd. Hoe onbestaanbaar is het – Jezus is toch gestorven? Hij heeft het zelf gezien! Jezus’ uitnodigende woorden zijn voor Thomas\, en ook voor ons: ‘Raak mijn wonden aan en vind Mij.’ \n‘Raak mijn wonden aan’ is het nieuwste paaslied van Sela én de titel van de paasconcerten 2025. Tijdens deze concerten beleven we samen het wonder van Pasen. Een muzikale reis door het lijden\, sterven en de opstanding van Jezus Christus. Bekende en geliefde paasliederen klinken naast nieuwe Sela-liederen. Een eerste kennismaking met het paasalbum dat in 2026 zal verschijnen. \nOp dinsdag 11 maart 2025 geeft Sela een concert in Amersfoort. Meer informatie en kaarten zijn verkrijgbaar via www.sela.nl/concerten.
URL:https://joriskerkamersfoort.nl/evenement/pasen-met-sela-raak-mijn-wonden-aan/
LOCATION:Sint-Joriskerk\, Hof 1\, Amersfoort\, 3811 CJ\, Nederland
GEO:52.1566965;5.3902512
X-APPLE-STRUCTURED-LOCATION;VALUE=URI;X-ADDRESS=Sint-Joriskerk Hof 1 Amersfoort 3811 CJ Nederland;X-APPLE-RADIUS=500;X-TITLE=Hof 1:geo:5.3902512,52.1566965
END:VEVENT
BEGIN:VEVENT
DTSTART;TZID=Europe/Amsterdam:20250315T153000
DTEND;TZID=Europe/Amsterdam:20250315T163000
DTSTAMP:20260419T210938
CREATED:20250219T114002Z
LAST-MODIFIED:20250219T114002Z
UID:10004344-1742052600-1742056200@joriskerkamersfoort.nl
SUMMARY:Rien Donkersloot speelt alle orgelwerken van Buxtehude
DESCRIPTION:De Buxtehude-integrale door Rien Donkersloot op het koororgel van de Sint-Joriskerk in Amersfoort begint op zaterdag 15 maart. Donkersloot\, Jorisorganist sinds 2012\, speelt tijdens ieder concert van de integrale een gevarieerde selectie uit het oeuvre van Buxtehude dat grofweg in drie categorieën uiteen valt: Toccata’s en preludia\, koraalgebonden werken en als derde  canzona’s\, fuga’s en ostinatowerken (passacaglia\, ciaconnes). \nTijdens het eerste concert zaterdag 15 maart speelt Rien Preludium in G-dur\, BuxWV 147\, diverse koraalbewerkingen voor de passietijd; twee Canzona’s en het monumentale Preludium in Fis mol\, BuxWV 146. \nHet concert begint om 15.30 uur\, kerk open om 15.00 uur. Toegang vrij. Collecte en QR-scannen na afloop. Gratis koffie of thee vooraf en na afloop.
URL:https://joriskerkamersfoort.nl/evenement/rien-donkersloot-speelt-alle-orgelwerken-van-buxtehude/
LOCATION:Sint-Joriskerk\, Hof 1\, Amersfoort\, 3811 CJ\, Nederland
ATTACH;FMTTYPE=image/jpeg:https://joriskerkamersfoort.nl/wp-content/uploads/2025/02/bexthude-orgelwerken-ccjk.jpg
GEO:52.1566965;5.3902512
X-APPLE-STRUCTURED-LOCATION;VALUE=URI;X-ADDRESS=Sint-Joriskerk Hof 1 Amersfoort 3811 CJ Nederland;X-APPLE-RADIUS=500;X-TITLE=Hof 1:geo:5.3902512,52.1566965
END:VEVENT
BEGIN:VEVENT
DTSTART;TZID=Europe/Amsterdam:20250315T193000
DTEND;TZID=Europe/Amsterdam:20250315T213000
DTSTAMP:20260419T210938
CREATED:20250130T134814Z
LAST-MODIFIED:20250130T135121Z
UID:10004337-1742067000-1742074200@joriskerkamersfoort.nl
SUMMARY:Canto Ostinato Immersive - Wishful Singing
DESCRIPTION:Na een reeks concerten keert Canto Ostinato Immersive op veler verzoek terug voor een nieuwe tournee. De tijdloze schoonheid van Simeon ten Holts meesterwerk Canto Ostinato krijgt een andere dimensie in Canto Ostinato Immersive. In deze bewerking wordt de piano vervangen door het orgel\, bespeeld door organist Aart Bergwerff\, samen met de stemmen van het vocaal ensemble Wishful Singing. Het biedt een ervaring die uitnodigt tot introspectie en verstilling. \nTijdloosheid\nHet stuk Canto Ostinato van componist Simeon ten Holt staat in het teken van tijdloosheid. “Als het begrip ‘tijd’ verdwijnt en we herhalen de patronen\, dan blijft er alleen ruimte over\,” licht Bergwerff toe. “Die ruimte kan persoonlijke ruimte zijn\, voor je eigen gedachten en gevoelens. Maar misschien ook ruimte voor je buurman\, zijn manier van leven en zijn opvattingen. In het geval van een uitvoering op orgel is die ruimte ook letterlijk: de immense kerkruimte waarin het orgel tot klinken komt.” \nDe herhalende patronen van de muziek worden versterkt door de natuurlijke galm\, wat een gevoel van tijdloosheid benadert. Terwijl de ruimte zich vult met orgelklanken\, dragen de zangeressen vocaal bij met klinkers zonder tekst. Hun stemmen mengen zich met de orgelklanken en bewegen door het publiek\, waardoor een extra dimensie aan de uitvoering wordt toegevoegd. \nSint-Joriskerk\nDe Sint Joriskerk biedt een unieke setting voor deze uitvoering van Canto Ostinato. Naast de aanwezigheid van het orgel\, dragen de omvang en akoestiek van de kerk bij aan de beleving van tijdloosheid. De klanken van het orgel en de stemmen vervloeien in de ruimte\, waardoor de muziek een meditatief karakter krijgt en uitnodigt tot reflectie. \nLigplaatsen\nEr is een aantal ligplaatsen aanwezig. Bezoekers mogen hun eigen matje\, dekens en kussen meenemen. \nWishful Singing bestaat uit vijf professionele\, bevlogen zangeressen met een unieke klank\, uitstraling en drive. Het ensemble geeft concerten in Nederland\, Europa\, de V.S. en Japan en zingt alles waar het hart sneller van gaat kloppen: van schurende dissonanten en tijdloze volksmelodieën tot funky harmonieën\, transcendentale eenstemmigheid en ritmische krankzinnigheid. \nAart Bergwerff is een gedreven en veelzijdig musicus. Hij houdt van spannende en avontuurlijke programmering. Aart heeft enerzijds een passie voor het klassieke repertoire\, met name dat van Johann Sebastian Bach. Anderzijds zoekt hij graag naar nieuwe wegen en vormen in de orgelcultuur. Zo werkt hij regelmatig samen met videokunstenaar Jaap Drupsteen\, bijvoorbeeld in een productie rondom Bachs Passacaglia. Verder maakte Aart met de Turkse derwisj-danser Kadir Sonuk de voorstelling ‘East meets West’\, op muziek van Canto Ostinato van Simeon ten Holt. Een ander voorbeeld is de productie Mi Corazón\, waarin orgel en tangodans elkaar ontmoeten. \nFoto van Wishful Singing door Frances Marshall
URL:https://joriskerkamersfoort.nl/evenement/canto-ostinato-immersive-wishful-singing/
LOCATION:Sint-Joriskerk\, Hof 1\, Amersfoort\, 3811 CJ\, Nederland
ATTACH;FMTTYPE=image/jpeg:https://joriskerkamersfoort.nl/wp-content/uploads/2025/01/ws-frances-marshall-scaled.jpg
GEO:52.1566965;5.3902512
X-APPLE-STRUCTURED-LOCATION;VALUE=URI;X-ADDRESS=Sint-Joriskerk Hof 1 Amersfoort 3811 CJ Nederland;X-APPLE-RADIUS=500;X-TITLE=Hof 1:geo:5.3902512,52.1566965
END:VEVENT
BEGIN:VEVENT
DTSTART;TZID=Europe/Amsterdam:20250322T120000
DTEND;TZID=Europe/Amsterdam:20250322T160000
DTSTAMP:20260419T210939
CREATED:20250219T111141Z
LAST-MODIFIED:20250219T111141Z
UID:10004340-1742644800-1742659200@joriskerkamersfoort.nl
SUMMARY:Bezichtig de Sint-Joriskerk in de lente!
DESCRIPTION:Wij openen onze deuren tijdens de lente. Bezoekers zijn op geselecteerde zaterdagen van harte welkom om de Sint-Joriskerk te bezichtigen. \nGratis kinderspeurtocht\nMet kinderen op speurtocht in de Sint-Joriskerk? Kinderen kunnen tijdens de openstelling een (gratis!) speurtocht komen doen. Begeleiding van een volwassene verplicht\, meer informatie te vinden bij de ingang. \nEntree informatie\nDe kerk is geopend van 12:00 – 16:00 uur. Entree kost €2\, toegang tot 12 jaar of als Vriend van de Joriskerk gratis. \nOpen zaterdagen \n\nZaterdag 22 maart 12 – 16 uur\nZaterdag 5 april 12 – 16 uur\nZaterdag 12 april 12 – 16 uur\nZaterdag 26 april 12 – 16 uur
URL:https://joriskerkamersfoort.nl/evenement/bezichtig-de-sint-joriskerk-in-de-lente/2025-03-22/
LOCATION:Sint-Joriskerk\, Hof 1\, Amersfoort\, 3811 CJ\, Nederland
ATTACH;FMTTYPE=image/jpeg:https://joriskerkamersfoort.nl/wp-content/uploads/2025/02/lenteopenstelling-2025.jpg
GEO:52.1566965;5.3902512
X-APPLE-STRUCTURED-LOCATION;VALUE=URI;X-ADDRESS=Sint-Joriskerk Hof 1 Amersfoort 3811 CJ Nederland;X-APPLE-RADIUS=500;X-TITLE=Hof 1:geo:5.3902512,52.1566965
END:VEVENT
BEGIN:VEVENT
DTSTART;TZID=Europe/Amsterdam:20250326T090000
DTEND;TZID=Europe/Amsterdam:20250326T093000
DTSTAMP:20260419T210939
CREATED:20250115T124401Z
LAST-MODIFIED:20260216T121334Z
UID:10003342-1742979600-1742981400@joriskerkamersfoort.nl
SUMMARY:Meditatiemoment met de stadsdominee
DESCRIPTION:Iedereen is welkom en meedoen is eenvoudig. \nZorg dat je even voor 9 uur bij de zijdeur van de Sint-Joriskerk bent (Zevenhuizen 3\, tegenover café Nul33). Een vrijwilliger begeleidt de groep dan naar de mooiste plaatsen in de kerk. Daar brandt de Paaskaars\, mensen groeten en gaan zitten. Ieder in de stilte. Om 9 uur begint na een gongslag 25 minuten stilte. Er zijn geen teksten\, geen oefeningen\, geen gesprek. Geniet van de ruimte voor jezelf. De hele dag voelt anders aan\, na zo’n begin. \nN.B. af en toe is de Sint-Joriskerk bezet en dan vindt de stiltemeditatie plaats in de Amersfoortse Zwaan. Hiervoor is een mailgroep die op de hoogte wordt gesteld van dit soort wijzigingen. Wil je je naam op die lijst hebben\, stuur dan even een mailtje\, dan ben je altijd op de hoogte.
URL:https://joriskerkamersfoort.nl/evenement/meditatiemoment-met-de-stadsdominee-2-2/2025-03-26/
LOCATION:Sint-Joriskerk\, Hof 1\, Amersfoort\, 3811 CJ\, Nederland
ATTACH;FMTTYPE=image/jpeg:https://joriskerkamersfoort.nl/wp-content/uploads/2025/01/706a4201-scaled-e1771244114588.jpg
GEO:52.1566965;5.3902512
X-APPLE-STRUCTURED-LOCATION;VALUE=URI;X-ADDRESS=Sint-Joriskerk Hof 1 Amersfoort 3811 CJ Nederland;X-APPLE-RADIUS=500;X-TITLE=Hof 1:geo:5.3902512,52.1566965
END:VEVENT
BEGIN:VEVENT
DTSTART;TZID=Europe/Amsterdam:20250328T190000
DTEND;TZID=Europe/Amsterdam:20250328T213000
DTSTAMP:20260419T210939
CREATED:20250305T140613Z
LAST-MODIFIED:20250305T141024Z
UID:10004346-1743188400-1743197400@joriskerkamersfoort.nl
SUMMARY:Musica di Lodo - scholierenconcert Van Lodenstein
DESCRIPTION:Scholierenconcert Musica di Lodo van scholieren van het Van Lodenstein College te Amersfoort. Voor meer informatie bezoek de website van Van Lodenstein.
URL:https://joriskerkamersfoort.nl/evenement/musica-di-lodo-scholierenconcert-van-lodenstein/
LOCATION:Sint-Joriskerk\, Hof 1\, Amersfoort\, 3811 CJ\, Nederland
ATTACH;FMTTYPE=image/jpeg:https://joriskerkamersfoort.nl/wp-content/uploads/2025/03/scholierenconcert-lodenstein-2025.jpg
GEO:52.1566965;5.3902512
X-APPLE-STRUCTURED-LOCATION;VALUE=URI;X-ADDRESS=Sint-Joriskerk Hof 1 Amersfoort 3811 CJ Nederland;X-APPLE-RADIUS=500;X-TITLE=Hof 1:geo:5.3902512,52.1566965
END:VEVENT
BEGIN:VEVENT
DTSTART;TZID=Europe/Amsterdam:20250329T193000
DTEND;TZID=Europe/Amsterdam:20250329T220000
DTSTAMP:20260419T210939
CREATED:20250305T141920Z
LAST-MODIFIED:20250305T141920Z
UID:10004347-1743276600-1743285600@joriskerkamersfoort.nl
SUMMARY:Op weg naar Pasen -  concert
DESCRIPTION:Een concert met samenwerking van vier koren\, o.l.v. Jan Hendrik van Schothorst.\nIn samenwerking met: \n\nChristelijk Mannenkoor Ede\nHervormd Gemengd Zangkoor Con Amore\nChristelijk Jongerenkoor The Messengers\nReformatorisch Jongerenkoor Chenánja\n\nPraktische informatie\nHet concert start om 19.30 uur. Ticketprijzen variëren van €5 – €12\,50.\nVoorverkoopprijzen zijn goedkoper. Tickets zijn hier te boeken: https://shop.ikbenaanwezig.nl/tickets/event/op-weg-naar-pasen-2025
URL:https://joriskerkamersfoort.nl/evenement/op-weg-naar-pasen-concert/
LOCATION:Sint-Joriskerk\, Hof 1\, Amersfoort\, 3811 CJ\, Nederland
ATTACH;FMTTYPE=image/jpeg:https://joriskerkamersfoort.nl/wp-content/uploads/2025/03/paasconcert-29-maart-2025-724x1024-1.jpg
GEO:52.1566965;5.3902512
X-APPLE-STRUCTURED-LOCATION;VALUE=URI;X-ADDRESS=Sint-Joriskerk Hof 1 Amersfoort 3811 CJ Nederland;X-APPLE-RADIUS=500;X-TITLE=Hof 1:geo:5.3902512,52.1566965
END:VEVENT
END:VCALENDAR